{"text_format":"1","workbook":"xlsx","n_sheets":13,"sheets":["Instructions","annual","monthly","variability","allocations","WSA-adjust","Q-data","EBF Calculation","lookup","WSC","thresholds","Output","Diversion Schedule"],"not_rendered":{"charts":0,"images":0,"macros":1,"external_links":0,"defined_names":3,"comments":0,"pivot_tables":0},"unopened":[],"bounds":{"document_bytes":16777216,"sheet_cells":100000,"rows_first":2000,"rows_last":500,"rows_between":2000,"halvings":0,"cell_chars":16384,"cell_head_chars":4096},"cells_cut":0,"cells_raw":0,"read":"whole","date_system":"1900"}

{"sheet":"Instructions","index":0,"n_rows":47,"n_cols":3,"rows_kept":47,"cut":false,"hidden":false,"merged":[[4,1,4,7],[3,1,3,12]]}
["The North-East Environmental Flow Needs (EFN) Tool (Interim) was developed as a component of the agreement between the Blueberry River First Nation (BRFN) and the Province of British Columbia."]
["It is intended to provide a transparent, quantitative Environmental Flow Needs (EFN) framework to support water withdrawals from rivers and streams while ensuring that BRFN's rights and interests are protected."]
["The NE EFN Tool (Interim) is built using the biological and ecological rationale, and the hydrologic processes and calculations developed by Alberta Environment and detailed in:"]
[null,"- A Desk-top Method for Establishing Environmental Flows in Alberta Rivers and Streams (Alberta Environment, 2010)"]
[null,"- Surface Water Allocation Directive (Alberta Environment, 2019)"]
[]
["The NE EFN Tool (Interim) uses information extracted from the North-East Water Tool (NEWT). For any Point of Diversion (POD) on a river or stream in north-east BC, the EFN Tool will:"]
[null,"-correct monthly discharge estimates to be as close to the observational record as possible"]
[null,"-determine an Ecosystem Base Flow (EBF) value for each month, as either the 5% or 20% low flow value based on daily flow frequency (large water sources, with MAD >10 m3/s, do not have an EBF)."]
[null,"-calculate the potential Maximum Water Allocation at the POD for each month, incoporating information of  currently authorized water allocation, and the discharge of the river at the time of diversion."]
[]
["The NE EFN Tool (Interim) is an Excel-based system, utilizing a series of linked worksheets with \"lookup\" data:"]
[null,"-the four worksheets with blue tabs, named \"annual\", \"monthly\", \"variability\" and \"allocations\"are used to contain data output from NEWT as .csv files."]
[null,"-the six worksheets with white tabs, named \"WSA-adjust, \"Q-data\", EBF Calculation\", \"lookup\", \"WSC\", and \"thresholds\" contain the central data used to run the tool. These sheets are locked. Best advice is to not mess around with them."]
[null,"-the worksheet \"WSA-adjust\" allows users to enter adjustments to WSA authorizations, where they know the NEWT data to be incorrect."]
[null,"-the two worksheets with orange tabs, named \"Output\" and \"Diversion Schedule\" contain the results of the tool that will be used by BRFN staff and BC government water officers. These sheets are locked."]
[]
["To run the NE EFN Tool (Interim) do the following:"]
[null,"- go to NEWT"]
[null,"-run NEWT for a user-selected POD"]
[null,"-download the NEWT PDF results for your record."]
[null,"-download and save four .CSV files from the NEWT output. These are:"]
[null,null,"-annual-hydrology.csv"]
[null,null,"-monthly-hydrology.csv"]
[null,null,"-allocations.csv"]
[null,null,"-hydrologic-variability.csv"]
[null,"- open each of the four NEWT .csv files in turn, select and copy the entire content, and then paste into cell \"A1\" of the corresponding worksheet in the NE EFN Tool (Interim):"]
[null,null,"-annual"]
[null,null,"-monthly"]
[null,null,"-allocations"]
[null,null,"-variability"]
[null,"-go to the worksheet named \"Output\". Click the box labelled \"Run WSA Authorizations Macro\" to load the current Water Sustainability Act (WSA) water licence and use approval data into the Tool."]
[]
["The \"Output\" and \"Diversion Schedule\" worksheets are locked. Users can only enter information into the cells shown with blue shading."]
[]
["The NE EFN Tool (Interim) uses a reference stream flow gauge for each user-selected POD, using the similarity metric used by NEWT to estimate flow variability. In most cases, the \"default\" reference flow gauge"]
["extracted from NEWT will be the best and most appropriate to use. In some cases, though, the user may want to select a different flow gauge. To do this, in the worksheet named \"Output\" click on the box to the right"]
["of \"WSC Reference Gauge\" labelled \"User Selected\". This has a drop-down list of real-time flow gauges that can be used in the Tool. At the present time, a POD on the Upper Beaton River mainstem channel will default"]
["to the Kiskatinaw River near Farmington as the refernce gauge. I suggest changing this to either the Beaton River near Fort St Johm (07FC001) or the Blueberry River below Aitken Creek (07FC003)."]
[]
["The Tool presents EFN (EBF and MWA) information based on current WSA authorizations. The user can also test the effects of adding additional water withdrawal associated with a WSA application by inputing the"]
["application amounts as m3/s, m3/day or m3/year. The Tool will convert these values to m3/s, add them to the WSA authorization volumes, and generate new output showing the EFN effect of the application, if approved."]
[]
["The worksheet named \"Diversion Schedule\" contains detailed information on the \"no diversion\" flow values, and the maximum water withdrawal volume (m3/day) and diversion rate (m3/s) associated with"]
["an application you have evaluated. This \"Diversion Schedule\" could be attached to a WSA water authorization specifying the conditions of an approval, or it could be used to inform the content of an authorization."]
[]
["Good luck."]

{"sheet":"annual","index":1,"n_rows":0,"n_cols":0,"rows_kept":0,"cut":false,"hidden":false,"merged":[]}

{"sheet":"monthly","index":2,"n_rows":0,"n_cols":0,"rows_kept":0,"cut":false,"hidden":false,"merged":[]}

{"sheet":"variability","index":3,"n_rows":0,"n_cols":0,"rows_kept":0,"cut":false,"hidden":false,"merged":[]}

{"sheet":"allocations","index":4,"n_rows":0,"n_cols":0,"rows_kept":0,"cut":false,"hidden":false,"merged":[]}

{"sheet":"WSA-adjust","index":5,"n_rows":21,"n_cols":4,"rows_kept":21,"cut":false,"hidden":false,"merged":[[7,1,8,1],[7,0,8,0],[7,3,7,10]]}
["This worksheet allows adjustments to be made to the NEWT-derived WSA authorizations. Adjustments made here are incorporated into the \"Output\" and \"Diversion Schedule\" worksheets."]
[]
[" This allows adjustments to be made to the WSA authorization by a Water Officer, when the water officer understands the data from NEWT to be incorrect with respect to determining EFN."]
["This can be common in old water licences, and in licenses where NEWT is calculating from a m3/year value rather than from an authorized m3/s or m3/day value. "]
["In Table 1 Part B, the water officer can insert adjustment values for up to 10 specified licences or authorizations."]
[]
["Table 1. "]
["Month","Total Adjustment for POD (m3/s",null,"Adjustment to WSA authorizations made by Water Officer, by WSA licence or authorization #, (m3/s).                            Enter a positive number to increase the average monthly water allocation, or a negative number to decrease it."]
[]
["Jan",{"$f":"SUM(C10:L10)","v":0}]
["Feb",0]
["Mar",0]
["Apr",0]
["May",0]
["Jun",0]
["Jul",0]
["Aug",0]
["Sep",0]
["Oct",0]
["Nov",0]
["Dec",0]

{"sheet":"Q-data","index":6,"n_rows":402,"n_cols":17,"rows_kept":402,"cut":false,"hidden":false,"merged":[]}
["Blueberry (07FC003)",null,null,null,null,null,null,null,null,null,null,"NEWT",null,null,null,"Ratio NEWT:Data"]
[null,"Mean","Median","40th %tile","30th %tile","25th %tile","20th %tile","10th %tile","5th %tile","Mean",0.5,0.25,0.1,"Mean","50th %","25th %","10th %"]
["Jan",8.9087976539589414E-2,7.8E-2,6.3600000000000018E-2,5.0999999999999997E-2,0.04,3.1E-2,0.01,3.0000000000000001E-3,0.32,0.29004364902991597,0.129756369302857,2.28981828181513E-2,{"$f":"J3/B3","v":3.5919549688929866},3.7185083208963587,{"$f":"L3/F3","v":3.2439092325714247},{"$f":"M3/H3","v":2.2898182818151298}]
["Feb",7.2860389610389348E-2,7.0000000000000007E-2,0.06,4.4999999999999998E-2,3.6999999999999998E-2,2.8000000000000001E-2,4.0000000000000001E-3,9.5000000000000282E-4,0.28999999999999998,0.28386415810459698,0.101380056465927,1.2165606775911299E-2,3.9802147854373833,4.0552022586370988,2.7400015261061355,3.041401693977825]
["Mar",0.19690087976539586,9.4E-2,0.08,6.4000000000000001E-2,5.0999999999999997E-2,3.5000000000000003E-2,1.2E-2,2E-3,0.5,0.159410115082773,7.8391237911583297E-2,1.22623165448287E-2,2.5393487352405013,1.6958522881146063,1.5370830963055548,1.0218597120690582]
["Apr",10.910703815869171,2.95,1.38,0.6,0.41949999999999998,0.28999999999999998,0.14499999999999999,8.2000000000000003E-2,3.05,0.64077112055615104,9.7397210324534994E-2,3.4012131079120503E-2,0.27954200310743471,0.21721054934106815,0.23217451805610251,0.23456642123531382]
["May",21.518993341404389,11.4,9.2060000000000031,7.08,6.03,4.8120000000000003,2.6120000000000005,1.8110000000000004,19.190000000000001,10.1445121754687,5.5552230804360301,2.59964151140055,0.89177033960398111,0.88986948907620167,0.92126419244378599,0.99526857251169576]
["Jun",13.401285714285688,4.67,3.54,2.73,2.2925,1.84,1.1000000000000001,0.71394999999999997,15.88,4.88038927662648,2.38941015052316,1.1162430416259099,1.1849609312539333,1.0450512369649851,1.0422726937941811,1.0147664014780999]
["Jul",8.4816177698270838,2.83,1.9940000000000009,1.38,1.18,0.92920000000000036,0.52320000000000011,0.25740000000000002,10.85,2.8870978546580899,1.19804740907581,0.52105242234067495,1.2792370859481919,1.0201759203738834,1.0152944144710254,0.99589530263890447]
["Aug",4.2330047761193965,0.74199999999999999,0.48920000000000002,0.32199999999999995,0.26500000000000001,0.21299999999999999,0.125,6.1700000000000005E-2,5.99,0.76232775406871101,0.264766520089395,0.124889867966696,1.4150704562850334,1.0273958949713087,0.99911894373356602,0.99911894373356802]
["Sep",3.4628530864197535,0.57650000000000001,0.37,0.215,0.17299999999999999,0.13980000000000004,7.4900000000000008E-2,2.5000000000000001E-2,4.55,0.66800145253971399,0.190010556872032,8.0069827531810203E-2,1.3139454335627758,1.1587189116040137,1.0983269183354452,1.0690230645101495]
["Oct",1.2261033274956201,0.502,0.40960000000000013,0.32900000000000001,0.29199999999999998,0.23440000000000003,0.161,0.113,2.2599999999999998,0.88037683058086202,0.52564938567364605,0.27141373508639199,1.8432378000442813,1.7537387063363785,1.800169129019336,1.6857995968098882]
["Nov",0.44474107142857078,0.23,0.17799999999999999,0.14499999999999999,0.129,0.11,7.9900000000000013E-2,5.7000000000000002E-2,1.06,0.48866299249556,0.25495460478029203,0.155097384574678,2.3834092871052617,2.1246217065024346,1.9763922851185427,1.941143736854543]
["Dec",0.15463579188107424,0.129,0.105,8.3000000000000004E-2,6.5000000000000002E-2,5.3999999999999999E-2,3.6999999999999998E-2,2.1999999999999999E-2,0.57999999999999996,0.50948612308816499,0.23419926625826901,0.13969780794352901,3.7507487299322051,3.9495048301408135,3.6030656347425998,3.7756164309061897]
["Annual",5.3994889066960203,0.376,0.20100000000000001,0.13500000000000001,0.109,8.7999999999999995E-2,4.7E-2,1.7000000000000001E-2,5.45,null,null,null,{"$f":"J15/B15","v":1.009354791569502}]
[]
["Sikanni Chief (10CB001)",null,null,null,null,null,null,null,null,null,null,"NEWT",null,null,null,"Ratio NEWT:Data"]
[null,"Mean","Median","40th %tile","30th %tile","25th %tile","20th %tile","10th %tile","5th %tile","Mean",0.5,0.25,0.1,"Mean","50th %","25th %","10th %"]
["Jan",5.3188994307400366,5.3,5.0999999999999996,4.84,4.66,4.54,3.8,3.09,5.95,5.9820352407912596,5.1537534382201597,4.0217683080396602,{"$f":"J19/B19","v":1.1186524726548845},1.1286858944889169,{"$f":"L19/F19","v":1.1059556734378024},{"$f":"M19/H19","v":1.0583600810630684}]
["Feb",4.7695334685598407,4.6500000000000004,4.45,4.28,4.2,4.1059999999999999,3.86,3.4,5.14,5.1117319369629204,4.5286661678519797,3.6399154324110299,1.077673536391395,1.099297190744714,1.0782538494885665,0.94298327264534454]
["Mar",4.6125490196078438,4.3899999999999997,4.2,4.05,4,3.95,3.72,3.48,4.5,4.3463791959578399,3.8921257883042899,3.2107456768239602,0.97559938785920752,0.99006359816807299,0.97303144707607248,0.86310367656558062]
["Apr",8.7571241830065354,5.95,5.35,4.9000000000000004,4.6500000000000004,4.4780000000000006,4.12,3.93,9.43,5.3580780642792698,4.2197951206697102,3.4667011991926699,1.0768375328397422,0.90051732172760834,0.90748282164939997,0.84143232990113348]
["May",40.112093611638223,31.6,25.9,21.3,19,15.9,11.9,9.4499999999999993,30.82,22.430231856535201,12.9262115591144,7.8115235321266896,0.76834683071884857,0.70981746381440503,0.68032692416391571,0.65643054891820918]
["Jun",82.846299810246578,71.2,63.4,56,52.1,48.9,42.2,37,91.07,76.7713471664796,55.106495216459997,42.440889461064003,1.0992645442052233,1.0782492579561742,1.0577062421585413,1.0057082810678672]
["Jul",62.651233396584352,54.1,47.9,41.7,39,36,28.9,24.6,61.14,51.212381601890698,36.677240388557003,26.860753714044701,0.97587863295494603,0.94662442887043796,0.94044206124505136,0.92943784477663327]
["Aug",36.373308032890598,29.6,26,23.6,22.2,20.7,17.3,14.8,36.26,27.863732620918402,20.343417242262198,15.715530855396899,0.99688485763274148,0.94134231827427028,0.91637014604784683,0.90841218817323111]
["Sep",26.031823529411767,21.6,19.5,17.600000000000001,16.5,15.6,12.69,11,25.75,20.940099007535402,15.7301222209716,12.223407076169,0.98917388445364374,0.96944902812663891,0.95334074066494545,0.96323144808266359]
["Oct",16.744181141439221,14.8,13.2,12.1,11.5,10.7,9.3010000000000002,8.3354999999999997,20.22,18.115623148895502,14.1301860561385,11.1471467776203,1.2075836870851016,1.2240285911415878,1.2287118309685652,1.1984890632857004]
["Nov",9.0476474358974368,8.629999999999999,7.65,6.907,6.65,6.3980000000000006,5.75,5.1895000000000007,9.8699999999999992,8.7206968386245904,6.7384967111763601,5.8039606709402296,1.0908913140049863,1.0105094830387706,1.0133077761167457,1.0093844645113443]
["Dec",6.7846471710108132,6.51,6.09,5.61,5.45,5.2140000000000004,4.62,4.0199999999999996,7.85,7.4916554826563102,6.3462853776636097,5.3762270234351002,1.1570240577197863,1.1507919328197098,1.1644560325988274,1.1636855029080304]
["Annual",25.437277217092667,11.6,7.81,6,5.52,5.0999999999999996,4.3600000000000003,4]
[]
["Beatton (FC001)",null,null,null,null,null,null,null,null,null,null,"NEWT",null,null,null,"Ratio NEWT:Data"]
[null,"Mean","Median","40th %tile","30th %tile","25th %tile","20th %tile","10th %tile","5th %tile","Mean",0.5,0.25,0.1,"Mean","50th %","25th %","10th %"]
["Jan",1.380390322580644,1.25,1.05,0.8627999999999999,0.70274999999999999,0.57999999999999996,0.33990000000000004,0.27200000000000002,3.2,2.8719393755842302,1.4599025159219801,0.79935645953761103,{"$f":"J35/B35","v":2.318184898614466},2.2975515004673843,{"$f":"L35/F35","v":2.0774137544247315},{"$f":"M35/H35","v":2.3517400986690524}]
["Feb",1.0483471428571416,0.95,0.81759999999999999,0.66,0.58074999999999999,0.52,0.28999999999999998,0.16965000000000002,2.69,2.4373274258953699,1.4292805937723401,0.55634647765002998,2.5659439416878027,2.5656078167319682,2.4610944361125098,1.9184361298276897]
["Mar",2.5254251612903249,1.04,0.90360000000000018,0.71699999999999997,0.65850000000000009,0.60499999999999998,0.38,0.26845000000000002,4.76,2.1701552479284101,1.3484459792953201,0.75850086335361799,1.8848311456467612,2.0866877383927021,2.0477539548903869,1.9960549035621526]
["Apr",79.944001999999983,26.75,13.8,6.6789999999999994,4.415,3.0740000000000003,1.387,0.95599999999999996,26.99,6.90102417882943,1.10337966131966,0.40778779238537499,0.33761131948335543,0.25798221229268897,0.2499161180791982,0.29400706011923217]
["May",192.66845507433717,136,111.40000000000009,83.179999999999993,69.5,57.560000000000016,35,23.3,181.69,127.878987419808,69.632736300511795,36.033846181170503,0.94301892818883426,0.9402866722044706,1.0019098748275079,1.0295384623191572]
["Jun",133.88153289473681,80.650000000000006,64.900000000000006,50.809999999999995,43.7,37.160000000000004,25.3,16.3,151.72999999999999,86.979449711238502,48.541419047154498,28.187889153661601,1.1333153775532014,1.0784804675913018,1.1107876212163501,1.1141458163502609]
["Jul",102.84053982883478,64.5,46.4,33.4,28.6,23.76,16,10.89,113.4,62.522200676830899,27.005387519236201,15.656820001424901,1.10267799244092,0.96933644460202939,0.94424431885441262,0.9785512500890563]
["Aug",55.816415958142521,26,20.020000000000003,14.939999999999998,12.8,10.8,7.26,5.3979999999999997,62.23,22.631738117327998,10.431816788455899,5.6101957067407504,1.114904977895161,0.87045146605107682,0.8149856865981171,0.77275422957861584]
["Sep",41.624913333333367,17.399999999999999,12,8.1999999999999993,6.8674999999999997,5.6960000000000006,3.5,2.7284999999999999,46.62,18.671109455746102,7.5906950942110596,3.6208615837393299,1.1200023319367862,1.0730522675716152,1.1053068939513739,1.0345318810683799]
["Oct",19.240207463630615,10,7.85,6.44,5.79,4.97,3.62,3.02,23.41,11.3230113715024,6.4975037215910998,3.9746944590058901,1.2167228468950484,1.1323011371502401,1.1221940797221244,1.0979818947530082]
["Nov",6.6187477124183083,4.55,3.77,3.1069999999999998,2.8325,2.6,1.94,1.5245,11.59,7.3606253818275098,4.6293241395141598,3.1633714953346801,1.7510865353357505,1.6177198641379142,1.634359802123269,1.6306038635745774]
["Dec",2.8855314730694372,2.38,1.92,1.55,1.46,1.3,0.878,0.59,6.19,5.4688887891301503,3.3764443828542698,1.86346441045274,2.1451854044119951,2.2978524324076264,2.3126331389412806,2.1223968228391117]
["Annual",53.501641780369937,8.74,4.3600000000000003,2.46,1.87,1.44,0.85,0.53800000000000003,53.18,null,null,null,{"$f":"J47/B47","v":0.99398818859259852}]
[]
["Adsett (10CD005)",null,null,null,null,null,null,null,null,null,null,"NEWT",null,null,null,"Ratio NEWT:Data"]
[null,"Mean","Median","40th %tile","30th %tile","25th %tile","20th %tile","10th %tile","5th %tile","Mean",0.5,0.25,0.1,"Mean","50th %","25th %","10th %"]
["Jan",8.4394071490845653E-3,0,0,0,0,0,0,0,0.02,0,0,0,{"$f":"J51/B51","v":2.3698347107438025},{"$error":"#DIV/0!"},{"$f":"L51/F51","v":{"$error":"#DIV/0!"}},{"$f":"M51/H51","v":{"$error":"#DIV/0!"}}]
["Feb",4.6700838769804139E-3,1E-3,0,0,0,0,0,0,0.02,0,0,0,4.2825783276791194,0,{"$error":"#DIV/0!"},{"$error":"#DIV/0!"}]
["Mar",1.18892763731473E-2,2E-3,1E-3,0,0,0,0,0,0.04,2.9215539029753398E-3,0,0,3.3643763291046533,1.4607769514876698,{"$error":"#DIV/0!"},{"$error":"#DIV/0!"}]
["Apr",0.44660540540540539,6.3E-2,2.1600000000000022E-2,8.9999999999999993E-3,4.2500000000000003E-3,3.0000000000000001E-3,1E-3,0,0.4,2.8208518794774599E-2,1.8497389373622699E-3,0,0.89564522766333432,0.4477542665837238,0.43523269114406349,0]
["May",2.2504655623365331,1.47,1.19,0.95579999999999998,0.85,0.77,0.52760000000000007,0.36730000000000002,3.12,1.94033310758427,1.0871572264553,0.60873195532055502,1.3863798016800923,1.3199544949552857,1.2790085017121178,1.1537755028820222]
["Jun",2.3390758500435949,1.26,0.98320000000000007,0.77100000000000002,0.67500000000000004,0.56659999999999999,0.38620000000000004,0.27320000000000005,2.13,1.2743135048384999,0.65813942458727503,0.38833296685600599,0.91061604520447759,1.011359924475,0.97502136975892595,1.005522959233573]
["Jul",2.4455239755884963,0.98,0.78340000000000043,0.57600000000000007,0.502,0.40600000000000003,0.2492,0.15760000000000002,2,0.49238285050695402,0.25176697338453202,0.119638872785484,0.81782064701235058,0.50243148010913674,0.50152783542735457,0.4800917848534671]
["Aug",1.2459973844812566,0.40899999999999997,0.28639999999999999,0.218,0.18149999999999999,0.151,9.1999999999999998E-2,6.8000000000000005E-2,1.1399999999999999,0.26527602412829598,0.115571721572824,5.8743968322767098E-2,0.91492968941874109,0.64859663601050366,0.63675879654448486,0.63852139481268588]
["Sep",0.94280540540540614,0.3075,0.22220000000000004,0.156,0.13800000000000001,0.11799999999999999,7.0000000000000007E-2,6.0999999999999999E-2,0.79,0.27207476824961901,0.12937339064572301,6.98570350911185E-2,0.83792476737052668,0.88479599430770417,0.93748833801248543,0.99795764415883559]
["Oct",0.29397538200339557,0.1895,0.155,0.11509999999999997,0.10299999999999999,9.2999999999999999E-2,6.8000000000000005E-2,4.2849999999999999E-2,0.42,0.26128296907404602,0.14439321975144701,8.9386278893752696E-2,1.4286910595634459,1.3788019476202957,1.4018759199169613,1.314504101378716]
["Nov",7.7203508771930204E-2,4.8000000000000001E-2,3.3000000000000002E-2,2.1999999999999999E-2,1.7999999999999999E-2,1.4E-2,6.0000000000000001E-3,3.0000000000000001E-3,0.15,8.4204652898085902E-2,3.3290211610871201E-2,1.1749486450895699E-2,1.9429168749715851,1.7542636020434563,1.8494562006039557,1.9582477418159498]
["Dec",2.4886858137510851E-2,8.9999999999999993E-3,4.0000000000000001E-3,2E-3,1E-3,0,0,0,0.06,1.92304560773531E-2,0,0,2.4109109984263011,2.1367173419281222,0,{"$error":"#DIV/0!"}]
["Annual",0.84339122391593824,0.122,5.2999999999999999E-2,1.2999999999999999E-2,6.0000000000000001E-3,2E-3,0,0,0.86399999999999999,null,null,null,{"$f":"J63/B63","v":1.0244356065129223}]
[]
["Bougie (10CD004)",null,null,null,null,null,null,null,null,null,null,"NEWT",null,null,null,"Ratio NEWT:Data"]
[null,"Mean","Median","40th %tile","30th %tile","25th %tile","20th %tile","10th %tile","5th %tile","Mean",0.5,0.25,0.1,"Mean","50th %","25th %","10th %"]
["Jan",3.5772495755517688E-3,0,0,0,0,0,0,0,0.1,0,0,0,{"$f":"J67/B67","v":27.954437588989194},{"$error":"#DIV/0!"},{"$f":"L67/F67","v":{"$error":"#DIV/0!"}},{"$f":"M67/H67","v":{"$error":"#DIV/0!"}}]
["Feb",3.577132486388376E-3,0,0,0,0,0,0,0,0.09,0,0,0,25.159817351598235,{"$error":"#DIV/0!"},{"$error":"#DIV/0!"},{"$error":"#DIV/0!"}]
["Mar",2.3161290322580668E-2,1E-3,0,0,0,0,0,0,0.16,0,0,0,6.9080779944289628,0,{"$error":"#DIV/0!"},{"$error":"#DIV/0!"}]
["Apr",1.4594473684210518,0.12,2.8600000000000025E-2,0.01,7.0000000000000001E-3,4.0000000000000001E-3,1E-3,0,1.31,5.3616188192292302E-2,3.5744125461528199E-3,8.9360313653820498E-4,0.89760002885014212,0.44680156826910256,0.51063036373611714,0.893603136538205]
["May",7.620757215619701,4.9749999999999996,3.82,3.04,2.6924999999999999,2.2799999999999998,1.44,0.71684999999999999,9.61,6.03170722530984,3.2045153527031398,1.52023083285234,1.2610295444530231,1.2124034623738373,1.1901635478934596,1.0557158561474584]
["Jun",7.7995254668930452,3.87,2.94,2.16,1.8425,1.53,0.96089999999999998,0.60299999999999998,6.93,3.2617062371261798,1.51467675393427,0.85225227486200095,0.8885155935981035,0.84281814912821185,0.82207693564953599,0.88693128823186695]
["Jul",6.953466780238502,3.0300000000000002,2.3720000000000003,1.7279999999999995,1.43,1.1760000000000002,0.68060000000000009,0.37025000000000002,6.11,2.4686915747320999,1.0604942680187199,0.46331429906063798,0.87869838069326756,0.81474969463105595,0.7416043832298741,0.68074390105882743]
["Aug",3.6228214285714317,1.1000000000000001,0.74360000000000004,0.4872999999999999,0.39575000000000005,0.312,0.16600000000000001,7.9350000000000004E-2,3.33,0.642437766423129,0.230496252682893,9.6134155858452003E-2,0.91917309910389422,0.58403433311193542,0.58242893918608463,0.57912142083404816]
["Sep",2.5342211367673189,0.66549999999999998,0.41,0.28849999999999998,0.23599999999999999,0.20100000000000001,0.1045,6.225E-2,2.42,0.72192950463153704,0.2627222252784,0.121342044726041,0.95492850441890764,1.0847926440744358,1.1132297681288137,1.1611678921152249]
["Oct",0.70344500419815126,0.38800000000000001,0.314,0.22500000000000001,0.184,0.14199999999999999,7.0999999999999994E-2,0.01,1.23,0.64771391250622901,0.29455561259211799,0.134323528045935,1.7485375440288506,1.6693657538820335,1.6008457206093369,1.8918806767033101]
["Nov",0.11616140051238241,6.2E-2,3.9E-2,2.1999999999999999E-2,1.2999999999999999E-2,8.9999999999999993E-3,3.0000000000000001E-3,1E-3,0.44,0.272558177403673,7.6467710882697104E-2,1.81705451602449E-2,3.7878331189119701,4.3960996355431128,5.882131606361316,6.0568483867482996]
["Dec",1.8684297520661211E-2,2E-3,1E-3,0,0,0,0,0,0.22,3.51051072884115E-2,0,0,11.774593064401948,17.552553644205748,{"$error":"#DIV/0!"},{"$error":"#DIV/0!"}]
["Annual",2.572885879378787,0.21199999999999999,0.05,6.0000000000000001E-3,3.0000000000000001E-3,1E-3,0,0,2.68,null,null,null,{"$f":"J79/B79","v":1.0416318972713534}]
[]
[null,null,null,null,null,null,null,null,null,null,null,"NEWT",null,null,null,"Ratio NEWT:Data"]
["Raspberry (10CD003)","Mean","Median","40th %tile","30th %tile","25th %tile","20th %tile","10th %tile","5th %tile","Mean",0.5,0.25,0.1,"Mean","50th %","25th %","10th %"]
["Jan",1.6695515342250069E-3,0,0,0,0,0,0,0,0.02,0,0,0,{"$f":"J83/B83","v":11.979264844486426},{"$error":"#DIV/0!"},{"$f":"L83/F83","v":{"$error":"#DIV/0!"}},{"$f":"M83/H83","v":{"$error":"#DIV/0!"}}]
["Feb",3.0109335576114401E-4,0,0,0,0,0,0,0,0.01,0,0,0,33.212290502793273,{"$error":"#DIV/0!"},{"$error":"#DIV/0!"},{"$error":"#DIV/0!"}]
["Mar",4.7265500794912473E-3,0,0,0,0,0,0,0,0.03,0,0,0,6.3471241170534931,{"$error":"#DIV/0!"},{"$error":"#DIV/0!"},{"$error":"#DIV/0!"}]
["Apr",0.99272833333333399,5.7500000000000002E-2,2.5000000000000001E-2,7.0000000000000001E-3,3.0000000000000001E-3,2E-3,0,0,0.56999999999999995,1.9711274748345099E-2,1.3140849832230001E-3,0,0.57417521074076949,0.34280477823208866,0.43802832774100003,{"$error":"#DIV/0!"}]
["May",6.1286328502415568,3.5649999999999999,2.6580000000000008,1.9430000000000001,1.6724999999999999,1.4120000000000001,0.94530000000000003,0.69240000000000002,5.3,2.8156071214763498,1.3133559800810599,0.69983875237100801,0.86479319768537011,0.78979161892744743,0.78526515998867563,0.74033508131916637]
["Jun",2.8361718131433111,1.35,1.04,0.81859999999999988,0.71399999999999997,0.61139999999999994,0.4,0.28809999999999997,2.77,1.18596943296957,0.64804758301551801,0.36841293314176299,0.97666861618303258,0.87849587627375547,0.90762966808896084,0.92103233285440744]
["Jul",1.8083886703383174,0.9,0.66100000000000003,0.40699999999999997,0.32600000000000001,0.26300000000000001,0.152,8.7999999999999995E-2,2.77,1.1259257649972301,0.40981102051628099,0.19338667318107999,1.5317503617636479,1.2510286277747,1.257089019988592,1.2722807446123685]
["Aug",1.2240251770259638,0.40300000000000002,0.29399999999999998,0.19,0.159,0.122,4.7E-2,1.4E-2,1.61,0.44174817969182201,0.184996065099367,4.65293133431742E-2,1.3153324214391131,1.0961493292601041,1.163497264775893,0.98998539028030208]
["Sep",1.1283593495934938,0.33200000000000002,0.249,0.15169999999999997,0.11425,9.0999999999999998E-2,4.4999999999999998E-2,1.4E-2,1.17,0.32041937395276499,0.10815417354241599,4.8517760093794E-2,1.0369037137162977,0.96511859624326801,0.94664484501020563,1.0781724465287557]
["Oct",0.54691167434715804,0.26,0.20699999999999999,0.14899999999999999,0.13,0.108,7.0000000000000007E-2,2.7049999999999998E-2,0.66,0.28589215650933297,0.14624483390669701,8.7966817387487004E-2,1.2067762144368817,1.0995852173435883,1.1249602608207463,1.2566688198212428]
["Nov",0.11342142857142826,4.5999999999999999E-2,0.03,1.7000000000000001E-2,1.0999999999999999E-2,7.8000000000000118E-3,2E-3,0,0.19,7.2126515561485305E-2,1.69709448379965E-2,4.2427362094991303E-3,1.6751684614900229,1.5679677295975067,1.5428131670905911,2.1213681047495649]
["Dec",1.6305271439811204E-2,1E-3,1E-3,0,0,0,0,0,0.05,2.6634179887796202E-3,0,0,3.0664929550279809,2.6634179887796203,{"$error":"#DIV/0!"},{"$error":"#DIV/0!"}]
["Annual",1.2357104591836814,0.11749999999999999,2.8000000000000001E-2,3.0000000000000001E-3,1E-3,0,0,0,1.27,null,null,null,{"$f":"J95/B95","v":1.0277488472817253}]
[]
["Graham (07FA005)",null,null,null,null,null,null,null,null,null,null,"NEWT",null,null,null,"Ratio NEWT:Data"]
[null,"Mean","Median","40th %tile","30th %tile","25th %tile","20th %tile","10th %tile","5th %tile","Mean",0.5,0.25,0.1,"Mean","50th %","25th %","10th %"]
["Jan",5.281570458404075,5.21,4.88,4.5999999999999996,4.4024999999999999,4.3,4.04,3.7885,5.35,5.2580199890844304,4.4592054138196797,4.0961998030348097,{"$f":"J99/B99","v":1.0129562867966742},1.0092168884998907,{"$f":"L99/F99","v":1.0128802757114548},{"$f":"M99/H99","v":1.0139108423353489}]
["Feb",4.6750217785843935,4.6500000000000004,4.5199999999999996,4.2830000000000004,4.2,4.17,3.9,3.61,4.9400000000000004,4.7727571785771499,4.35604681754086,4.0480435072096901,1.0566795694149349,1.0263993932423978,1.0371540041763951,1.0379598736435103]
["Mar",4.6263157894736917,4.49,4.37,4.2,4.0999999999999996,4.03,3.71,3.4184999999999999,4.5599999999999996,4.3759605747961103,4.0153580329977698,3.6645015058426198,0.98566552901023718,0.9746014643198464,0.97935561780433422,0.98773625494410233]
["Apr",7.5204736842105246,6.25,5.5460000000000003,5.0199999999999996,4.74,4.508,3.7589999999999999,3.1280000000000001,11.29,8.9973655796015706,6.9431389047170802,5.7282736668821697,1.5012352245449267,1.4395784927362514,1.4647972372820843,1.5238823269173105]
["May",47.054745331069611,36,27.46,19.61,17.600000000000001,14.6,10.270000000000001,8.8085000000000004,32.36,22.635196483828299,11.391569472253501,7.0612936481903699,0.687709598093035,0.62875545788411946,0.64724826546894887,0.68756510693187622]
["Jun",87.091623931623985,76,68.099999999999994,59.6,55.324999999999996,51.9,43.78,38.299999999999997,90.53,78.512769232831104,57.082363139922201,43.4394821901573,1.0394799857110886,1.0330627530635672,1.0317643586068179,0.99222206921327771]
["Jul",50.381168265039243,42.5,37.700000000000003,32.78,30.35,27.4,21.2,16.93,65.36,56.389138258144399,40.018098118683099,27.285066899102102,1.297310130963258,1.3268032531328093,1.3185534800225074,1.2870314575048161]
["Aug",26.034390243902415,22.05,19.3,17,16,14.8,11.7,9.32,37.369999999999997,31.812676872231101,22.107114436635101,15.0975415664825,1.4354090743013475,1.442751785588712,1.3816946522896938,1.2903881680754274]
["Sep",19.91285840707965,16.55,15,13.6,12.8,12.1,9.798,7.2545000000000002,25.56,21.362759006268899,16.412851431645599,11.8016217437071,1.2835927156953324,1.2908011484150392,1.2822540180973123,1.2044929315888038]
["Oct",15.407096774193542,14.1,13,11.9,11.3,10.9,9.1560000000000006,6.7960000000000003,21.31,19.401016730880499,15.6546135000898,12.2855265946858,1.3831288472007039,1.3759586333957801,1.3853640265566194,1.3418006328839887]
["Nov",8.7676239316239357,8.3249999999999993,7.6960000000000006,7.1,6.8,6.47,5.5179999999999998,5.1444999999999999,9.2100000000000009,8.8100669236821503,7.1721676457227597,5.6970409668152504,1.0504556390449709,1.0582662971389971,1.0547305361357,1.0324467138121149]
["Dec",6.6377777777777762,6.5,6.2620000000000005,5.7279999999999998,5.4,5.1459999999999999,4.3580000000000005,4.18,6.97,6.7635183495984901,5.4108146796787997,4.4928348609317599,1.050050217609642,1.0405412845536139,1.002002718459037,1.0309396193051306]
["Annual",23.635921599884014,10.3,7.35,6.04,5.42,4.9800000000000004,4.34,4.0199999999999996,26.3,null,null,null,{"$f":"J111/B111","v":1.1127131171449249}]
[]
["Halfway (07FA003)",null,null,null,null,null,null,null,null,null,null,"NEWT",null,null,null,"Ratio NEWT:Data"]
[null,"Mean","Median","40th %tile","30th %tile","25th %tile","20th %tile","10th %tile","5th %tile","Mean",0.5,0.25,0.1,"Mean","50th %","25th %","10th %"]
["Jan",6.2124970131421673,5.75,5.21,4.9000000000000004,4.7300000000000004,4.4000000000000004,3.8860000000000001,3.46,6.76,6.1643066842378103,5.0132724272695102,4.0466218569624797,{"$f":"J115/B115","v":1.0881292957887341},1.0720533363891844,{"$f":"L115/F115","v":1.0598884624248435},{"$f":"M115/H115","v":1.0413334680809263}]
["Feb",5.4276117496807137,4.93,4.7160000000000002,4.42,4.25,4.008,3.702,2.9320000000000004,6.2,5.2836567176078102,4.7465214911290099,4.0745543608606303,1.1423072035992117,1.0717356425167972,1.1168285861480023,1.1006359699785604]
["Mar",5.5811708482676243,5.2,4.9000000000000004,4.6379999999999999,4.47,4.25,3.71,3.4660000000000002,5.87,5.28237078721396,4.5428388770040096,3.8033069667940498,1.0517506379189283,1.0158405360026845,1.0162950507838948,1.0251501258204987]
["Apr",14.304629629629641,10.4,8.6,7.4609999999999994,6.8,6.09,5.0999999999999996,4.6234999999999999,15.16,9.9840160303599497,6.8202644559609702,5.4618111250774497,1.0597967505987433,0.96000154138076432,1.002980067053084,1.0709433578583236]
["May",69.22486260454005,57.4,48.060000000000009,39.18,34.6,28.6,19.600000000000001,13.18,58.46,48.862781722907997,26.9906442203648,15.2512542758795,0.8444942727292023,0.85126797426668988,0.78007642255389587,0.77812521815711733]
["Jun",113.41254480286746,88.9,78.260000000000005,69.5,65.5,61.220000000000006,54.160000000000004,46.68,123.45,93.740275032972505,66.001327162180104,54.231431049048297,1.0885039235701794,1.0544462883348988,1.0076538498042764,1.0013188893842004]
["Jul",82.979808841099043,65.400000000000006,55,47.44,42.4,38.24,27.1,22.78,80.7,62.780966960506703,40.874893846072801,26.511505476465398,0.97252574002110892,0.95995362324933786,0.96403051523756611,0.97828433492492239]
["Aug",45.687825567502998,30.8,26.5,22.979999999999997,21.3,19.8,15.06,11.68,46.38,28.291439249004501,19.4701053204872,12.354379691192101,1.0151500848179857,0.91855322237027603,0.9140894516660657,0.82034393699814745]
["Sep",32.144525277435307,25.7,22.3,19.899999999999999,18.8,17.600000000000001,12.9,9.9450000000000003,35.119999999999997,29.210037938896502,19.645689233240201,13.234990641340699,1.0925655207810272,1.1365773517080351,1.0449834698532021,1.0259682667705969]
["Oct",20.92291434927699,18.8,17.320000000000004,15.239999999999998,13.75,12.8,11,9.1379999999999999,25.84,22.557687424265001,17.7903411129513,13.1392715409379,1.235009596112643,1.1998769906523936,1.2938429900328219,1.1944792309943546]
["Nov",11.03241379310343,10.3,9.4960000000000004,8.4499999999999993,7.9,7.5740000000000007,6.1779999999999999,4.2645,11.8,10.926007115103801,8.60543923224993,7.2469401174958703,1.0695755454147671,1.060777389815903,1.0892961053480923,1.1730236512618761]
["Dec",8.3136986301369937,7.85,7.25,6.75,6.3475000000000001,5.8,4.9749999999999996,4.28,9.15,8.3989097429769508,7.1203628390336799,5.59442230652252,1.1005931784478489,1.0699248080225416,1.1217586197768696,1.1245069962859338]
["Annual",34.478402491711222,14.8,9.83,7.36,6.53,5.7240000000000011,4.76,4.07,35.5,null,null,null,{"$f":"J127/B127","v":1.029630070840271}]
[]
[null,null,null,null,null,null,null,null,null,null,null,"NEWT",null,null,null,"Ratio NEWT:Data"]
["Kiskatinaw (07FD001)","Mean","Median","40th %tile","30th %tile","25th %tile","20th %tile","10th %tile","5th %tile","Mean",0.5,0.25,0.1,"Mean","50th %","25th %","10th %"]
["Jan",1.0099187574671449,0.8,0.68700000000000006,0.53800000000000003,0.47124999999999995,0.43360000000000004,0.22130000000000002,0.14000000000000001,0.95,0.76597033677081305,0.47183772745082098,0.22876980724888299,{"$f":"J131/B131","v":0.94066972513965386},0.95746292096351626,{"$f":"L131/F131","v":1.0012471670043948},{"$f":"M131/H131","v":1.0337542126022727}]
["Feb",0.91632375478927452,0.68450000000000011,0.60499999999999998,0.501,0.46,0.39200000000000002,0.21249999999999999,0.13425000000000001,0.75,0.541819951957066,0.31649165447650801,0.139067121002313,0.81848800282655154,0.79155581001762731,0.68802533581849568,0.65443351059912003]
["Mar",1.499596176821983,0.91149999999999998,0.77060000000000017,0.63,0.55500000000000005,0.48060000000000003,0.2863,0.161,1.38,0.79247235171546004,0.42728916769610997,0.18284001594438201,0.92024774491260897,0.86941563545305545,0.76989039224524314,0.63863086253713597]
["Apr",21.630766049382739,8.9600000000000009,5.2960000000000003,2.95,2.2949999999999999,1.73,1.0290000000000001,0.6986,6.38,2.4369316674060499,0.56408862872913501,0.24015041498700099,0.29495025675163555,0.27197898073728233,0.24579025216955774,0.23338232748979684]
["May",34.490686977299866,24.9,19.600000000000001,14.689999999999998,12.4,10.6,7.0030000000000001,5.1995000000000005,37.619999999999997,25.377089716169301,12.0645180617854,6.3650733222523002,1.0907292169842746,1.0191602295650322,0.97294500498269343,0.90890665746855637]
["Jun",25.474913381123049,12.1,9.4220000000000006,7.2979999999999992,6.2075000000000005,5.31,3.2930000000000001,2.2665000000000002,29.78,9.7598007879626891,5.0746587505124401,2.5349222495013399,1.1689931798577589,0.80659510644319743,0.81750443020740071,0.76979114773803214]
["Jul",21.606773381294953,7.45,5.338000000000001,3.91,3.1074999999999999,2.4,1.35,0.84915000000000007,21.24,5.9243457046171297,2.50877904838379,1.2171104780914099,0.98302507390518234,0.795214188539212,0.80733034541714888,0.90156331710474802]
["Aug",7.3761421744324842,3.165,2.1820000000000004,1.45,1.22,0.94600000000000017,0.52760000000000007,0.27600000000000002,10.8,3.41893503936886,1.2518827795668801,0.47945671511687898,1.4641800204767537,1.0802322399269699,1.0261334258744919,0.90875040772721549]
["Sep",6.7531604938271501,2.66,1.76,1.21,0.94274999999999998,0.81279999999999997,0.54880000000000007,0.33265000000000006,7.28,2.41500707537238,0.909902002070611,0.41354324697748301,1.0780137695016159,0.9078973967565338,0.96515725491446414,0.75354090192690049]
["Oct",5.0785548387096862,2.85,2.0060000000000002,1.58,1.37,1.1880000000000002,0.79500000000000004,0.65200000000000002,4.58,2.1981949138222001,1.1792891168574,0.71851727311888003,0.90183135664705072,0.77129646099024562,0.86079497580832109,0.90379531209922015]
["Nov",2.7034442424242444,1.9,1.55,1.19,1.02,0.8892000000000001,0.60299999999999998,0.48,2.25,1.6791778875579899,0.85655033658261004,0.50112435038283598,0.83227164987962543,0.88377783555683687,0.83975523194373536,0.83105199068463687]
["Dec",1.5124723557692299,1.19,1.01,0.83269999999999988,0.7,0.59,0.4,0.27100000000000002,1.33,1.10494682079414,0.62536275949987397,0.36026837518329802,0.87935491510095998,0.92852674016314285,0.89337537071410578,0.90067093795824504]
["Annual",10.906208236129434,2.36,1.59,1.1200000000000001,0.92825000000000002,0.77200000000000002,0.48,0.27200000000000002,10.4,null,null,null,{"$f":"J143/B143","v":0.95358531350497255}]
[]
[null,null,null,null,null,null,null,null,null,null,null,"NEWT",null,null,null,"Ratio NEWT:Data"]
["Alces (07FD004)","Mean","Median","40th %tile","30th %tile","25th %tile","20th %tile","10th %tile","5th %tile","Mean",0.5,0.25,0.1,"Mean","50th %","25th %","10th %"]
["Jan",1.6372636262513868E-2,1.2999999999999999E-2,8.0000000000000002E-3,4.0000000000000001E-3,3.0000000000000001E-3,1E-3,0,0,0.04,3.0435500710183399E-2,9.3647694492871997E-3,0,{"$f":"J147/B147","v":2.443100754127324},2.3411923623218001,{"$f":"L147/F147","v":3.1215898164290663},{"$f":"M147/H147","v":{"$error":"#DIV/0!"}}]
["Feb",1.7068965517241342E-2,1.2E-2,8.4000000000000342E-3,4.0000000000000001E-3,2E-3,1E-3,0,0,0.03,1.89183396818716E-2,6.3061132272905201E-3,4.7295849204678498E-4,1.7575757575757613,1.5765283068226332,3.1530566136452598,{"$error":"#DIV/0!"}]
["Mar",7.8919911012235805E-2,0.02,1.7000000000000001E-2,1.0999999999999999E-2,6.0000000000000001E-3,4.0000000000000001E-3,2E-3,0,0.06,1.79093176215296E-2,6.2682611675353699E-3,1.79093176215296E-3,0.76026441528421829,0.89546588107647995,1.0447101945892283,0.89546588107647995]
["Apr",1.5552241379310348,0.59549999999999992,0.33,0.14739999999999998,9.7250000000000003E-2,5.8999999999999997E-2,2.2900000000000004E-2,6.0000000000000001E-3,0.35,9.6088205203474594E-2,1.9312882653782101E-2,4.4446086107334101E-3,0.2250479474075141,0.16135718757930245,0.1985900529951887,0.19408771225910085]
["May",2.2693965517241375,1.4049999999999998,0.96460000000000012,0.6361,0.53849999999999998,0.43120000000000003,0.23140000000000005,0.10390000000000001,2.36,1.3882555778154,0.54032105582599199,0.29063480082322302,1.0399240265906935,0.98808226179032044,1.0033817192683232,1.2559844460813439]
["Jun",1.32578620689655,0.66900000000000004,0.50520000000000009,0.375,0.30225000000000002,0.23960000000000001,0.10850000000000003,2.3E-2,1.91,0.89402687296107797,0.42331070758575301,0.15329990293641799,1.4406546018237731,1.3363630388057965,1.4005317041712257,1.4129023312112254]
["Jul",0.89367741935483802,0.44,0.316,0.214,0.15,7.5200000000000045E-2,0.01,2E-3,1.31,0.63160585074341502,0.230944316173188,1.7043332480377898E-2,1.4658533063817512,1.4354678425986704,1.53962877448792,1.7043332480377897]
["Aug",0.30038487208008957,7.9000000000000001E-2,2.9200000000000045E-2,6.0000000000000001E-3,2E-3,1E-3,0,0,0.77,0.170906353331165,4.1431843231797601E-3,0,2.5633780911400232,2.1633715611539874,2.07159216158988,{"$error":"#DIV/0!"}]
["Sep",0.60365747126436631,7.4999999999999997E-2,2.8600000000000025E-2,3.0000000000000001E-3,2E-3,1E-3,0,0,0.53,5.5204729242562103E-2,1.4721261131349899E-3,0,0.87798134741861145,0.73606305656749471,0.73606305656749493,{"$error":"#DIV/0!"}]
["Oct",0.22010107526881673,9.4E-2,6.2600000000000017E-2,2.3E-2,1.7000000000000001E-2,4.0000000000000001E-3,9.0000000000000572E-4,0,0.28999999999999998,0.12222025883129201,2.3041524205899399E-2,1.33574053367533E-3,1.3175764800140726,1.3002155194818299,1.3553837768176116,1.4841561485281349]
["Nov",0.11175111111111134,4.9500000000000002E-2,3.5000000000000003E-2,1.6E-2,1.2E-2,8.0000000000000002E-3,1E-3,0,0.14000000000000001,7.7501365847645803E-2,2.2143247385041701E-2,1.58166052750298E-3,1.2527839643652536,1.565684158538299,1.8452706154201417,1.58166052750298]
["Dec",3.6341409691629988E-2,0.02,1.4E-2,0.01,5.7499999999999999E-3,3.0000000000000001E-3,0,0,7.0000000000000007E-2,4.7284778857369897E-2,1.81090642432481E-2,0,1.926177344081458,2.3642389428684947,3.149402477086626,{"$error":"#DIV/0!"}]
["Annual",0.62525286376977218,6.0999999999999999E-2,3.2000000000000001E-2,1.7000000000000001E-2,1.2E-2,6.0000000000000001E-3,1E-3,0,0.65900000000000003,null,null,null,{"$f":"J159/B159","v":1.0539735812272171}]
[]
[null,null,null,null,null,null,null,null,null,null,null,"NEWT",null,null,null,"Ratio NEWT:Data"]
["St John (07FC002)","Mean","Median","40th %tile","30th %tile","25th %tile","20th %tile","10th %tile","5th %tile","Mean",0.5,0.25,0.1,"Mean","50th %","25th %","10th %"]
["Jan",4.6345381526104413E-3,2E-3,0,0,0,0,0,0,0.03,7.0424503512553803E-3,0,0,{"$f":"J163/B163","v":6.4731369150779896},3.52122517562769,{"$f":"L163/F163","v":{"$error":"#DIV/0!"}},{"$f":"M163/H163","v":{"$error":"#DIV/0!"}}]
["Feb",3.0000000000000022E-3,0,0,0,0,0,0,0,0.02,1.0684865842229401E-2,0,0,6.6666666666666616,{"$error":"#DIV/0!"},{"$error":"#DIV/0!"},{"$error":"#DIV/0!"}]
["Mar",0.2462217741935484,8.0000000000000002E-3,3.0000000000000001E-3,2E-3,0,0,0,0,0.05,1.0616767467751199E-3,4.2467069871004602E-4,0,0.20306896156428605,0.13270959334688998,{"$error":"#DIV/0!"},{"$error":"#DIV/0!"}]
["Apr",3.5787814814814811,1.73,0.99680000000000024,0.60840000000000005,0.501,0.40380000000000005,1.9700000000000006E-2,8.0000000000000002E-3,0.3,0.13689482609179299,3.35421954839632E-2,4.4387110278248203E-3,8.3827414876364914E-2,7.9129957278493063E-2,6.6950489987950501E-2,0.22531528060024461]
["May",2.0521777777777781,0.59599999999999997,0.43480000000000002,0.28509999999999996,0.23050000000000001,0.19500000000000001,0.14399999999999999,0.1047,1.97,0.64593390929241101,0.26693413359915302,0.125529083817911,0.95995581929224227,1.0837817270006898,1.1580656555277788,0.87172974873549314]
["Jun",0.42181111111111119,0.1235,8.7999999999999995E-2,6.2E-2,4.4999999999999998E-2,2.7800000000000005E-2,5.0000000000000001E-3,2E-3,1.52,0.45567445450441801,0.22235660666538601,3.4449615117172497E-2,3.6035086795037268,3.6896716963920486,4.9412579258974674,6.8899230234344992]
["Jul",0.50862724014336935,8.7999999999999995E-2,5.0999999999999997E-2,2.8000000000000001E-2,2.3E-2,1.6600000000000004E-2,3.8000000000000009E-3,0,1.1100000000000001,0.18055556388961899,7.1833934020600995E-2,1.9802868297571101E-2,2.182344775099184,2.0517677714729432,3.123214522634826,5.2112811309397626]
["Aug",0.13686738351254482,1.0999999999999999E-2,7.0000000000000001E-3,2E-3,1E-3,1E-3,0,0,0.63,4.1667317788966401E-2,5.9524739698523397E-3,0,4.6029958623579317,3.7879379808151277,5.9524739698523392,{"$error":"#DIV/0!"}]
["Sep",0.13418518518518516,1.4E-2,6.0000000000000001E-3,3.0000000000000001E-3,1E-3,1E-3,0,0,0.41,7.8381162928999507E-2,3.26588178870831E-3,0,3.0554788849020151,5.5986544949285362,3.26588178870831,{"$error":"#DIV/0!"}]
["Oct",7.637419354838694E-2,1.8499999999999999E-2,1.0999999999999999E-2,3.0000000000000001E-3,3.0000000000000001E-3,1E-3,0,0,0.21,5.3473312410542602E-2,8.0209968615813903E-3,0,2.7496198682209889,2.8904493194887895,2.6736656205271299,{"$error":"#DIV/0!"}]
["Nov",3.5665384615384627E-2,0.01,7.0000000000000001E-3,6.0000000000000001E-3,4.0000000000000001E-3,1.8000000000000043E-3,0,0,0.09,2.2656784490107901E-2,0,0,2.5234551924943376,2.2656784490107902,0,{"$error":"#DIV/0!"}]
["Dec",1.0270161290322566E-2,4.0000000000000001E-3,3.0000000000000001E-3,0,0,0,0,0,0.06,1.96294149883493E-2,0,0,5.8421672555948252,4.907353747087325,{"$error":"#DIV/0!"},{"$error":"#DIV/0!"}]
["Annual",0.63317856010148876,1.7999999999999999E-2,8.0000000000000002E-3,3.0000000000000001E-3,2E-3,0,0,0,0.53800000000000003,null,null,null,{"$f":"J175/B175","v":0.84968132830297816}]
[]
[]
["Clear (07FD009)","Mean","Median","40th %tile","30th %tile","25th %tile","20th %tile","10th %tile","5th %tile"]
["Jan"]
["Feb",6.2E-2,5.8000000000000003E-2,3.2000000000000001E-2,0,0,0,0,0]
["Mar",0.43262536023054715,0.01,0,0,0,0,0,0]
["Apr",18.327262368815596,7.3849999999999998,3.9640000000000009,1.7,0.878,0.49020000000000002,0.1,1.4E-2]
["May",17.325579106737319,11.6,8.59,6.29,5.23,4.1900000000000004,2.93,1.97]
["Jun",6.6837365632096937,3.4,2.48,1.89,1.56,1.3,0.79400000000000004,0.53500000000000003]
["Jul",5.5572294372294433,1.7650000000000001,1.06,0.68799999999999994,0.54025000000000001,0.41299999999999998,0.19800000000000001,0.1145]
["Aug",1.9477326164874569,0.497,0.28860000000000002,0.14299999999999999,0.10199999999999999,6.8000000000000005E-2,2.1000000000000001E-2,0.01]
["Sep",1.789845185185186,0.27550000000000002,0.17799999999999999,9.7699999999999995E-2,5.8500000000000003E-2,3.3000000000000002E-2,1.4E-2,4.5000000000000286E-4]
["Oct",0.95166339410939571,0.36349999999999999,0.24199999999999999,0.17449999999999999,0.14824999999999999,0.12,6.0999999999999999E-2,2.4E-2]
["Nov",1.246263157894737,0.33850000000000002,0.2334,0.20120000000000002,0.15024999999999999,0.1074,8.2799999999999999E-2,2.955E-2]
["Dec"]
["Annual"]
[]
[]
[]
["Hines (07FD011)","Mean","Median","40th %tile","30th %tile","25th %tile","20th %tile","10th %tile","5th %tile"]
["Jan"]
["Feb",9.7884615384615393E-3,0,0,0,0,0,0,0]
["Mar",1.9754150197628464E-2,0,0,0,0,0,0,0]
["Apr",0.91227804878048735,0.23449999999999999,0.12360000000000002,3.3000000000000002E-2,1.4999999999999999E-2,6.0000000000000001E-3,0,0]
["May",2.2142105691056884,1.1100000000000001,0.72420000000000018,0.45539999999999997,0.34975000000000001,0.218,3.2000000000000001E-2,7.4500000000000026E-3]
["Jun",0.92117723577235733,0.38,0.25060000000000004,0.12369999999999999,7.3999999999999996E-2,4.1800000000000011E-2,1.4E-2,2E-3]
["Jul",0.81486467348544345,9.6000000000000002E-2,5.3999999999999999E-2,2.4E-2,1.4999999999999999E-2,7.0000000000000001E-3,0,0]
["Aug",0.19077183320220284,1.6E-2,6.0000000000000001E-3,1E-3,0,0,0,0]
["Sep",0.16937886178861816,1.4E-2,5.0000000000000001E-3,1E-3,1E-3,0,0,0]
["Oct",9.5380952380952566E-2,0.02,1.2999999999999999E-2,3.0000000000000001E-3,1E-3,0,0,0]
["Nov",7.5323529411764678E-2,7.4999999999999997E-3,5.2000000000000015E-3,4.9000000000000007E-3,3.2500000000000003E-3,0,0,0]
["Dec"]
["Annual"]
[]
[]
[null,null,null,null,null,null,null,null,null,null,null,"NEWT",null,null,null,"Ratio NEWT:Data"]
["Halfway (07FA001)","Mean","Median","40th %tile","30th %tile","25th %tile","20th %tile","10th %tile","5th %tile","Mean",0.5,0.25,0.1,"Mean","50th %","25th %","10th %"]
["Jan",12.364951612903232,12.45,10.5,9.6300000000000008,9.3624999999999989,8.7739999999999991,7.08,6.5495000000000001,13,13.072119612527301,9.8303389455651899,7.4337836832685298,{"$f":"J213/B213","v":1.051358744213287},1.0499694467893415,{"$f":"L213/F213","v":1.0499694467893395},{"$f":"M213/H213","v":1.0499694467893403}]
["Feb",10.524795008912649,11,9.91,8.89,8.2100000000000009,7.79,5.8,5.2,11.94,12.2193827202821,10.1935376903406,6.2715445874009204,1.1344639007115027,1.1108529745711,1.2416002058880145,1.0813007909311931]
["Mar",10.183639291465379,10.4,9.9,9.0500000000000007,8.2100000000000009,7.65,6.51,5.25,11.78,11.9839807912615,9.5382116345833499,7.5015110529915603,1.1567573892638248,1.1523058453136057,1.1617797362464493,1.1523058453136037]
["Apr",35.963699999999989,17.200000000000003,13.760000000000002,11.8,10.8,10.199999999999999,8.92,8.2955000000000005,34.049999999999997,15.956353837964,9.6542645070034503,7.9978430133481302,0.94678801124467193,0.92769499057930216,0.89391338027809719,0.89661917190001461]
["May",162.90335999999999,136,117,97.52,89.5,82.360000000000014,48.1,36.5,137.19,111.956149356659,73.862246331074999,39.596255765112403,0.84215574190734932,0.82320698056366914,0.82527649531927372,0.82320698056366737]
["Jun",235.95793650793649,200,176,155,144,135,114,106,252.15,201.80760936136201,150.587403939696,118.830876578264,1.0686226694965137,1.0090380468068101,1.0457458606923333,1.042376110335649]
["Jul",180.40261136712743,140,127,110,102,95.4,69.7,53.95,172.76,128.64710912477801,93.889819992820506,63.944384135495,0.95763580521806091,0.91890792231984297,0.92048843130216185,0.91742301485645616]
["Aug",109.14347158218123,70.5,61.4,51.9,47.5,44.2,39.4,36.200000000000003,97.17,57.206100202552499,38.528586958395003,31.507114993339101,0.89029603503892929,0.81143404542627662,0.8111281464925264,0.79967296937408894]
["Sep",72.904285714285706,62.25,52.660000000000004,42.879999999999995,39.849999999999994,36.799999999999997,29.050000000000004,25.990000000000002,70.94,60.067314624938902,39.300908599515701,28.510140608735099,0.97305664961887417,0.96493678112351655,0.98622104390252718,0.98141619995645768]
["Oct",53.638584229390723,39.6,36.200000000000003,32.619999999999997,30.35,28.6,22.57,19.585000000000001,52.06,42.399471410200299,31.463861136981301,22.955188933169602,0.97056998703321939,1.0706937224798054,1.0367005316962536,1.0170664126348958]
["Nov",26.555740740740742,25.2,23.020000000000003,20.100000000000001,19.475000000000001,15.08,11.6,10.095000000000001,23.23,21.708277730572998,16.508195992831201,9.9709503796700503,0.87476377431119723,0.86143959248305546,0.84766089821983059,0.85956468790259055]
["Dec",16.590622775800703,16.399999999999999,14.940000000000001,13,12.2,11.5,9.32,8.8375000000000004,17.47,17.475676007429701,13.030995404384001,9.5156571092478206,1.0530044734355581,1.0655900004530308,1.0681143774085247,1.0209932520652167]
["Annual",78.738750668806944,35.700000000000003,22.5,15.7,13.6,11.8,9.5,7.7225000000000001,74.722941000000006,null,null,null,{"$f":"J225/B225","v":0.94899830598407198}]
[]
[null,null,null,null,null,null,null,null,null,null,null,"NEWT",null,null,null,"Ratio NEWT:Data"]
["Halfway Farrell (07FD006)","Mean","Median","40th %tile","30th %tile","25th %tile","20th %tile","10th %tile","5th %tile","Mean",0.5,0.25,0.1,"Mean","50th %","25th %","10th %"]
["Jan",12.297637314734109,12,11.2,10.6,10.199999999999999,9.68,8.5,7.74,13,13.072119612527301,9.8303389455651899,7.4337836832685298,{"$f":"J229/B229","v":1.0571136281946105},1.0893433010439417,{"$f":"L229/F229","v":0.9637587201534501},{"$f":"M229/H229","v":0.87456278626688588}]
["Feb",10.867451737451743,10.5,10,9.7200000000000006,9.5249999999999986,9.1999999999999993,8.36,7.6,11.94,12.2193827202821,10.1935376903406,6.2715445874009204,1.0986936301591299,1.1637507352649619,1.07018768402526,0.75018475925848338]
["Mar",10.960505666957278,10.4,9.6199999999999992,9.3000000000000007,9.18,9,8,7.2930000000000001,11.78,11.9839807912615,9.5382116345833499,7.5015110529915603,1.0747679311469411,1.1523058453136057,1.0390208752269445,0.93768888162394504]
["Apr",31.139162162162158,20.2,16,13.1,12.4,11.8,10.3,9.4700000000000006,34.049999999999997,15.956353837964,9.6542645070034503,7.9978430133481302,1.0934783608717276,0.78991850682990106,0.77856971830672983,0.77648961294642038]
["May",146.44777680906722,126,106,87,78.849999999999994,67.72,47,35.660000000000004,137.19,111.956149356659,73.862246331074999,39.596255765112403,0.93678444964625751,0.88854086790999209,0.9367437708443247,0.84247352691728516]
["Jun",252.03108108108114,194,171,148.69999999999999,140,130,106,88.925000000000011,252.15,201.80760936136201,150.587403939696,118.830876578264,1.0004718422759953,1.0402454090791857,1.0756243138549715,1.1210460054553206]
["Jul",170.1173496076722,126,109,90.08,81.650000000000006,74.3,55.120000000000005,45.42,172.76,128.64710912477801,93.889819992820506,63.944384135495,1.0155342791221609,1.0210088025776032,1.1499059398998224,1.1600940518050615]
["Aug",84.134176111595451,62.8,51.84,45.26,41.349999999999994,37.799999999999997,28.560000000000002,23.1,97.17,57.206100202552499,38.528586958395003,31.507114993339101,1.1549408871742424,0.91092516246102706,0.93176752015465558,1.1031903008872233]
["Sep",61.019105312208815,45.7,39,34.799999999999997,32.5,29.1,23.02,18.62,70.94,60.067314624938902,39.300908599515701,28.510140608735099,1.1625866953805728,1.3143832521868468,1.2092587261389447,1.2384943791804996]
["Oct",39.045815939278981,34.450000000000003,32,29.8,27.8,26,19.23,16.5,52.06,42.399471410200299,31.463861136981301,22.955188933169602,1.3333054707054828,1.2307538870885426,1.1317935660784639,1.1937175732277483]
["Nov",20.739823529411787,20,18,16,15.7,14.68,12.9,12,23.23,21.708277730572998,16.508195992831201,9.9709503796700503,1.120067389534767,1.08541388652865,1.0514774517726879,0.77294188989690304]
["Dec",15.286491063029169,14.8,13.88,12.8,12.4,12,10.4,9.7009999999999987,17.47,17.475676007429701,13.030995404384001,9.5156571092478206,1.1428391203689452,1.1807889194209258,1.0508867261600001,0.91496702973536737]
["Annual",76.803843996753187,28,19.2,14.8,13.2,12,10,9.1,74.722941000000006,null,null,null,{"$f":"J241/B241","v":0.97290626499317989}]
[]
[null,null,null,null,null,null,null,null,null,null,null,"NEWT",null,null,null,"Ratio NEWT:Data"]
["Dickebusch (07FB004)","Mean","Median","40th %tile","30th %tile","25th %tile","20th %tile","10th %tile","5th %tile","Mean",0.5,0.25,0.1,"Mean","50th %","25th %","10th %"]
["Jan",4.6840909090909044E-2,3.4000000000000002E-2,2.1999999999999999E-2,1.4E-2,0.01,7.0000000000000001E-3,3.0000000000000001E-3,1E-3,0.08,4.4738601752700301E-2,1.4626081342228999E-2,5.1621463560808101E-3,{"$f":"J245/B245","v":1.7079087821445917},1.3158412280205969,{"$f":"L245/F245","v":1.4626081342228998},{"$f":"M245/H245","v":1.7207154520269368}]
["Feb",3.4765422077922194E-2,2.1999999999999999E-2,1.6E-2,0.01,7.0000000000000001E-3,4.2000000000000171E-3,2E-3,0,7.0000000000000007E-2,6.2804565605400306E-2,1.6149745441388599E-2,5.3832484804628798E-3,2.0134948985547787,2.8547529820636504,2.3071064916269428,2.6916242402314396]
["Mar",5.4940615835777175E-2,3.4000000000000002E-2,2.4E-2,1.2999999999999999E-2,1.0999999999999999E-2,8.9999999999999993E-3,3.0000000000000001E-3,1E-3,0.09,5.1058796419301299E-2,1.8020751677400498E-2,4.5051879193501098E-3,1.6381323476427478,1.5017293064500381,1.6382501524909545,1.5017293064500365]
["Apr",0.59425833333333367,0.22,0.128,8.0699999999999994E-2,6.5000000000000002E-2,0.05,2.4E-2,1.4E-2,0.35,0.13303448797493,3.6739175458192899E-2,1.54175627536838E-2,0.58896944370433701,0.60470221806786362,0.56521808397219842,0.64239844807015833]
["May",2.1411195014662741,1.59,1.2020000000000004,0.91790000000000005,0.82624999999999993,0.73760000000000003,0.44460000000000005,0.32500000000000001,1.97,1.3187857991656899,0.65328740977189004,0.35167621311084901,0.92007942510957996,0.82942503092181752,0.79066554889184881,0.79099463137842774]
["Jun",1.7060208494208497,0.96699999999999997,0.755,0.57139999999999991,0.49199999999999999,0.42180000000000001,0.28739999999999999,0.2167,1.75,0.73611925976352199,0.37209758522879099,0.21554605642444799,1.0257787884562373,0.76124018589816134,0.75629590493656706,0.74998627844275578]
["Jul",1.3922715678919715,0.46800000000000003,0.314,0.22500000000000001,0.183,0.14440000000000003,8.8999999999999996E-2,5.8600000000000006E-2,1.1000000000000001,0.22631448378556801,8.7572758630186001E-2,4.3277235369568699E-2,0.79007574769734201,0.48357795680676924,0.47853966464582515,0.48626107156818765]
["Aug",0.53781700835231583,0.2,0.158,0.1198,0.106,8.5000000000000006E-2,4.8599999999999997E-2,3.3000000000000002E-2,0.53,7.8969299630063994E-2,4.4190074404388102E-2,2.0867535135405499E-2,0.98546530096497986,0.39484649815031997,0.41688749438101985,0.42937315093426953]
["Sep",0.39863095238095231,0.14499999999999999,0.11700000000000001,9.5000000000000001E-2,8.7999999999999995E-2,7.9000000000000001E-2,0.06,4.7950000000000007E-2,0.46,0.127578644458892,8.0563551408300502E-2,5.5662090063916703E-2,1.1539495296401376,0.87985272040615181,0.91549490236705122,0.92770150106527838]
["Oct",0.25644012688342582,0.14299999999999999,0.114,9.9000000000000005E-2,9.0999999999999998E-2,8.1000000000000003E-2,6.7000000000000004E-2,0.05,0.39,0.19197320017696701,0.119813061103356,8.5775259653538702E-2,1.5208228319793675,1.3424699313074617,1.3166270450918243,1.2802277560229656]
["Nov",0.16854390243902445,7.2999999999999995E-2,6.2E-2,5.1999999999999998E-2,4.2000000000000003E-2,3.5999999999999997E-2,2.1999999999999999E-2,1.2999999999999999E-2,0.24,8.8352882774296496E-2,4.9084934874609201E-2,2.3315344065439399E-2,1.4239613330824994,1.2103134626615959,1.1686889255859332,1.0597883666108818]
["Dec",7.5611280487805133E-2,4.8000000000000001E-2,3.7999999999999999E-2,2.8000000000000001E-2,2.1000000000000001E-2,1.7999999999999999E-2,8.0000000000000002E-3,5.0000000000000001E-3,0.11,6.9018918099915894E-2,3.1372235499961799E-2,9.4116706499885391E-3,1.4548093788431635,1.437894127081581,1.4939159761886571,1.1764588312485673]
["Annual",0.61866910052243695,0.121,8.2000000000000003E-2,5.6000000000000001E-2,4.3999999999999997E-2,3.4000000000000002E-2,1.2E-2,5.8500000000000227E-3,0.59825300000000003,null,null,null,{"$f":"J257/B257","v":0.96699996734086691}]
[]
[]
[null,null,null,null,null,null,null,null,null,null,null,"NEWT",null,null,null,"Ratio NEWT:Data"]
["Moberly (07FB008)","Mean","Median","40th %tile","30th %tile","25th %tile","20th %tile","10th %tile","5th %tile","Mean",0.5,0.25,0.1,"Mean","50th %","25th %","10th %"]
["Jan",1.946982334869432,1.85,1.6260000000000001,1.39,1.31,1.1200000000000001,0.65270000000000006,0.50775000000000003,2.02,1.92778811383019,1.35264690859908,0.67738853060552595,{"$f":"J262/B262","v":1.0375029931308877},1.0420476290973999,{"$f":"L262/F262","v":1.0325548920603664},{"$f":"M262/H262","v":1.0378252345725845}]
["Feb",1.5229727891156466,1.5550000000000002,1.4,1.24,1.0275000000000001,0.86499999999999999,0.63200000000000001,0.45474999999999999,1.78,1.7820154995594399,1.35670062202109,0.86731932622062302,1.1687667781862359,1.145990674957839,1.3203898997772163,1.3723407060452897]
["Mar",1.7412626728110556,1.52,1.4,1.2430000000000001,1.1100000000000001,1.02,0.76549999999999996,0.46544999999999997,2.02,1.71152623839476,1.27808777542466,0.92689148235144803,1.1600777019695467,1.126004104207079,1.1514304283105044,1.2108314596361176]
["Apr",6.5228658730158688,3.3449999999999998,2.72,2.36,2.0474999999999999,1.85,1.47,1.2095,6.69,3.3043824422631398,2.07232721028047,1.5052725009997401,1.025622806023889,0.98785723236566225,1.0121256216266032,1.0239948986392791]
["May",34.631459293394748,30,25.9,21.130000000000003,19.024999999999999,16.7,8.5139999999999993,5.4359999999999991,28.08,24.0115879574285,15.0472617866552,6.64480677408572,0.81082347013184319,0.80038626524761669,0.79092046184784237,0.78045651563139773]
["Jun",44.856492063492169,41,35.5,31.439999999999998,29.3,26.98,21.6,18.095000000000002,38.58,34.535290369923402,24.339358066333599,17.9009329056816,0.86007617237192546,0.84232415536398542,0.83069481455063476,0.82874689378155553]
["Jul",22.839231950844837,17.8,14.7,11.7,10.5,9.402000000000001,6.6510000000000007,5.0710000000000006,22.96,17.758858830282399,10.334251183723699,6.4634219539366899,1.0052877456393929,0.9976886983304718,0.98421439844987613,0.97179701607828739]
["Aug",9.0829078341013965,6.2450000000000001,4.8839999999999995,3.883,3.6025,3.1019999999999999,2.0829999999999997,1.51,12.41,7.9175534170248101,4.6466952840899696,2.65562529364471,1.3663025351206555,1.2678228049679439,1.2898529588036001,1.2749041256095586]
["Sep",6.1746403940886703,3.59,2.84,2.2909999999999995,1.99,1.4339999999999999,0.76750000000000007,0.54765000000000008,8.93,4.9910798500735298,2.8419463168973902,1.0489751106995899,1.4462380689487908,1.3902729387391448,1.4281137270841158,1.3667428152437653]
["Oct",5.0328114143920617,4.12,3.27,2.694,2.4300000000000002,2.2000000000000002,0.98500000000000021,0.47039999999999998,8.06,6.3122491829616099,3.5718092937733998,1.5481945800941901,1.6014905658795895,1.5320993162528178,1.4698803678079835,1.5717711473037459]
["Nov",4.4940623931624,3.49,2.65,2.31,2.13,1.95,1.2890000000000001,0.62250000000000016,4.2699999999999996,2.9728563227143701,1.8691611609880801,1.14730892214935,0.95014257178464956,0.8518212959066962,0.87754045116811275,0.89007674332765696]
["Dec",2.7785796387520536,2.2799999999999998,2.13,1.84,1.68,1.554,1.2,0.51970000000000005,2.71,2.11065970734801,1.55922609011295,1.1408971391070299,0.97531845486967761,0.92572794181930274,0.92811076792437508,0.95074761592252499]
["Annual",11.871143220338944,3.8,2.62,2.04,1.82,1.61,1.1290000000000009,0.74295,11.583068000000001,null,null,null,{"$f":"J274/B274","v":0.97573315265497085}]
[]
[null,null,null,null,null,null,null,null,null,null,null,"NEWT",null,null,null,"Ratio NEWT:Data"]
["Sukunka (07FB003)","Mean","Median","40th %tile","30th %tile","25th %tile","20th %tile","10th %tile","5th %tile","Mean",0.5,0.25,0.1,"Mean","50th %","25th %","10th %"]
["Jan",9.9825586510264035,9.0350000000000001,8.2060000000000013,7.61,7.42,7.23,6.4,5.6975000000000007,12.19,10.862307190977999,9.3831165352654207,7.9230946569486704,{"$f":"J278/B278","v":1.2211298151247654},1.2022476138326508,{"$f":"L278/F278","v":1.2645709616260674},{"$f":"M278/H278","v":1.2379835401482298}]
["Feb",8.4828733766233722,7.6,7.0340000000000007,6.4430000000000005,6.2,5.8,5.12,4.5165000000000006,10.59,9.4192787985638393,7.4690455708075003,6.4746478828785801,1.2483977456487008,1.2393787892847157,1.2046847694850806,1.2645796646247227]
["Mar",9.5505351906158271,7.3449999999999998,6.7420000000000009,6.1,5.85,5.6260000000000003,4.95,4.5199999999999996,10.99,8.1386598292704502,6.1816334032188998,5.2119549196130599,1.1507208528793824,1.1080544355711981,1.0566894706357095,1.052920185780416]
["Apr",37.244030303030307,19.05,13.760000000000002,11.2,9.8000000000000007,8.9,6.8,5.7689999999999992,28.43,13.795378337328,7.1570422814057899,4.8287502948204803,0.76334381023438358,0.7241668418544881,0.73031043687814179,0.71011033747360008]
["May",197.72060117302055,173,146,116,103,92.4,71.66,56.7,121.26,105.197285613841,64.3934899818058,44.425132494378502,0.61328965864254226,0.60807679545572835,0.62517951438646413,0.61994323882749802]
["Jun",187.48310606060591,162,145,122,114,103,81.97,64.089999999999989,171.47,147.79512857202201,102.495692879668,72.6529737296148,0.91458907206588791,0.91231560846927162,0.89908502526024558,0.88633614407240213]
["Jul",76.73702346041047,58.95,50.02,42.7,39,35.320000000000007,26.53,22.2,109.07,83.285572622648203,54.447855396103598,37.187323917441901,1.4213478068545424,1.4128171776530654,1.3960988563103487,1.4017084024667132]
["Aug",28.139870596693047,22.6,19.7,16.899999999999999,15.6,14.2,11,9.36,53.67,41.272702604484699,28.623127085884299,20.313186964175902,1.9072582375807803,1.8262257789594998,1.8348158388387372,1.8466533603796274]
["Sep",33.202873563218432,20,16.360000000000003,13.7,12.4,11.4,8.5459999999999994,7.0259999999999998,44.3,24.408691937756998,15.367252384896799,10.720655322819001,1.3342218683468039,1.2204345968878498,1.2392945471690966,1.2544646996043765]
["Oct",44.518079877112122,33.9,27.2,22.2,20.5,19,14.41,10.91,51.41,38.1222174477927,22.405162885983401,15.605586089739701,1.1548117111499947,1.1245491872505222,1.0929347749260196,1.0829691942914434]
["Nov",30.810714285714269,21.1,17.899999999999999,16.100000000000001,15.1,14.1,12.2,10.1,36.42,24.216454957630699,17.752664348639001,13.9593600006393,1.1820563347629542,1.1476992870915022,1.1756731356714571,1.1442098361179756]
["Dec",13.390639756283326,12.2,11.2,10.4,10,9.6,8.1,7.6319999999999997,17.63,15.789608138507999,13.222080554246199,10.701235289698401,1.3165913145955126,1.2942301752875409,1.3222080554246198,1.3211401592220249]
["Annual",61.822280971411118,20.3,15.4,11.6,10.3,9.08,7.09,5.88,55.799003999999996,null,null,null,{"$f":"J290/B290","v":0.90257109772128108}]
[]
[null,null,null,null,null,null,null,null,null,null,null,"NEWT",null,null,null,"Ratio NEWT:Data"]
["Quality (07FB005)","Mean","Median","40th %tile","30th %tile","25th %tile","20th %tile","10th %tile","5th %tile","Mean",0.5,0.25,0.1,"Mean","50th %","25th %","10th %"]
["Jan",2.4148667601683063E-2,1.7999999999999999E-2,1.4999999999999999E-2,1.2E-2,9.2499999999999995E-3,7.0000000000000001E-3,2E-3,1E-3,0.02,1.40022030882378E-2,6.5892720415236502E-3,1.6473180103809099E-3,{"$f":"J294/B294","v":0.82820304332674999},0.77790017156876679,{"$f":"L294/F294","v":0.71235373421877302},{"$f":"M294/H294","v":0.82365900519045498}]
["Feb",1.8605590062111797E-2,1.7000000000000001E-2,1.4E-2,6.0000000000000001E-3,5.0000000000000001E-3,2E-3,1E-3,0,0.02,1.7245773528487201E-2,3.8323941174416001E-3,9.5809852936040002E-4,1.0749457519612755,1.0144572663816001,0.76647882348831997,0.95809852936039996]
["Mar",2.8154277699859721E-2,2.1999999999999999E-2,1.7000000000000001E-2,0.01,6.0000000000000001E-3,5.0000000000000001E-3,2E-3,1E-3,0.03,2.2160155320091999E-2,5.2762274571647502E-3,2.1104909828658998E-3,1.0655574374813201,1.007279787276909,0.87937124286079171,1.0552454914329499]
["Apr",0.31412318840579717,0.12,0.06,0.04,3.4000000000000002E-2,0.03,1.7999999999999999E-2,8.9999999999999993E-3,0.13,4.90761376469507E-2,1.33087830906985E-2,5.4066931305962601E-3,0.41385037717133027,0.40896781372458918,0.39143479678524995,0.30037184058868116]
["May",0.55024263674614249,0.36599999999999999,0.27600000000000002,0.21299999999999999,0.188,0.16020000000000001,9.4400000000000012E-2,5.8000000000000003E-2,0.81,0.50942344286151098,0.27277376824711902,0.139483235006364,1.4720778542170625,1.3918673302227076,1.4509242991868032,1.4775766420165677]
["Jun",0.44185842026825672,0.20399999999999999,0.158,0.127,0.1135,9.7000000000000003E-2,6.5000000000000002E-2,4.3999999999999997E-2,0.56999999999999995,0.25477665127577798,0.13971622811897499,8.5708274392312503E-2,1.290005969907617,1.2489051533126372,1.2309799834270925,1.3185888368048078]
["Jul",0.38332210834553404,0.151,0.109,8.1599999999999992E-2,7.0000000000000007E-2,5.7000000000000002E-2,3.2000000000000001E-2,2.1999999999999999E-2,0.32,0.111588383276629,5.17297141017488E-2,2.3647869303656598E-2,0.83480705399738053,0.73899591573926493,0.73899591573926848,0.73899591573926871]
["Aug",0.18466151685393276,7.3999999999999996E-2,5.4400000000000032E-2,3.829999999999998E-2,3.2000000000000001E-2,2.5999999999999999E-2,1.4E-2,8.0000000000000002E-3,0.13,4.6064286845642899E-2,2.11250232667917E-2,7.6284806241192103E-3,0.70399075137474365,0.62249036277895808,0.66015697708724064,0.54489147315137221]
["Sep",0.14899400299850088,6.8000000000000005E-2,4.7E-2,3.5000000000000003E-2,2.8000000000000001E-2,2.1999999999999999E-2,8.0000000000000002E-3,2E-3,0.14000000000000001,5.95075495904199E-2,2.47218864107259E-2,7.0008881871082198E-3,0.93963513418327738,0.87511102338852786,0.88292451466878208,0.87511102338852742]
["Oct",0.10283225806451614,5.0999999999999997E-2,4.4999999999999998E-2,2.9000000000000001E-2,2.5999999999999999E-2,2.3E-2,1.2900000000000005E-2,6.0000000000000001E-3,0.11,5.3583562879243797E-2,2.8308297370166501E-2,1.4154148685083299E-2,1.069703243616287,1.0506580956714471,1.088780668083327,1.0972208283010305]
["Nov",5.0926666666666655E-2,3.6999999999999998E-2,2.5999999999999999E-2,1.7999999999999999E-2,1.7000000000000001E-2,1.4E-2,8.9000000000000051E-3,3.0000000000000001E-3,7.0000000000000007E-2,4.9702984697602801E-2,2.29398390912013E-2,1.27443550506674E-2,1.3745254614478339,1.3433239107460218,1.3494022994824293,1.4319500056929655]
["Dec",3.027039999999992E-2,2.5000000000000001E-2,1.7000000000000001E-2,1.4999999999999999E-2,1.2999999999999999E-2,9.8000000000000118E-3,4.0000000000000001E-3,3.0000000000000001E-3,0.03,2.0806769477063499E-2,1.1203645103034199E-2,3.2010414580097698E-3,0.99106718114065484,0.83227077908253988,0.86181885407955383,0.80026036450244242]
["Annual",0.18973595976529734,5.0999999999999997E-2,3.5999999999999997E-2,2.5000000000000001E-2,0.02,1.6E-2,7.0000000000000001E-3,3.0000000000000001E-3,0.19916700000000001,null,null,null,{"$f":"J306/B306","v":1.0497061297519397}]
[]
[null,null,null,null,null,null,null,null,null,null,null,"NEWT",null,null,null,"Ratio NEWT:Data"]
["Flatbed (07FB009)","Mean","Median","40th %tile","30th %tile","25th %tile","20th %tile","10th %tile","5th %tile","Mean",0.5,0.25,0.1,"Mean","50th %","25th %","10th %"]
["Jan",0.63962393162393139,0.55900000000000005,0.50540000000000007,0.441,0.42399999999999999,0.39020000000000005,0.315,0.18910000000000002,0.53,0.41921365262522597,0.32614052974879998,0.24906675361476699,{"$f":"J310/B310","v":0.82861189801699753},0.74993497786265817,{"$f":"L310/F310","v":0.76919936261509436},{"$f":"M310/H310","v":0.79068810671354595}]
["Feb",0.54214473684210529,0.47499999999999998,0.42599999999999999,0.38200000000000001,0.36799999999999999,0.35260000000000002,0.26,0.16215000000000002,0.48,0.39163280197917499,0.28990751764442901,0.22139086271727301,0.88537242433803354,0.82449010942984213,0.7877921675120354,0.85150331814335767]
["Mar",0.64510016977928775,0.5,0.46680000000000005,0.40799999999999997,0.38,0.35499999999999998,0.27800000000000002,0.22084999999999999,0.68,0.50320056079039699,0.37576338173136697,0.27754105004555402,1.0540998620921969,1.006401121580794,0.98885100455622887,0.99834910088328777]
["Apr",4.7428833333333325,2.08,1.4,0.9645999999999999,0.8,0.68900000000000006,0.44,0.30195,2.48,1.0376001531205801,0.39632306090743602,0.21566004151058199,0.52288867882757684,0.49884622746181734,0.49540382613429501,0.49013645797859545]
["May",16.251581196581192,14.1,12.2,10.169999999999998,9.125,7.8120000000000012,5.42,4.4290000000000003,14.27,12.082851502170399,7.7965260787727502,4.7749312432664803,0.87806840623003179,0.85693982284896453,0.85441381685180828,0.88098362421890786]
["Jun",11.356191768826639,9.07,7.44,5.9290000000000003,5.2450000000000001,4.8019999999999996,3.2609999999999997,2.1415000000000002,11.77,8.6021884572294205,4.9873362291352601,3.0726243938800399,1.0364389964168523,0.94842210112783021,0.95087440021644609,0.9422337914382215]
["Jul",7.3320211505922064,3.29,2.6,1.9060000000000001,1.6724999999999999,1.43,0.84870000000000001,0.56355,7.27,2.6126462592214499,1.32965032835377,0.69048508279424103,0.99154105678115823,0.79411740401867781,0.79500767016667861,0.81357968987185225]
["Aug",3.0836349745331089,1.4950000000000001,1.2180000000000002,0.92800000000000005,0.79400000000000004,0.68759999999999999,0.52800000000000002,0.434,3.19,1.34376733442709,0.69760059378620098,0.48097603211562701,1.0344933905424378,0.89884102637263541,0.87859016849647475,0.91093945476444504]
["Sep",2.6299963996399645,1.22,0.97399999999999998,0.76400000000000001,0.7024999999999999,0.61099999999999999,0.47699999999999998,0.41499999999999998,3.1,1.35706051764604,0.75300309210847405,0.51193177251037703,1.1787088379377162,1.1123446865951148,1.0718905225743405,1.0732322274850672]
["Oct",2.1217347670250906,1.5,1.19,0.9245000000000001,0.82599999999999996,0.71099999999999997,0.58450000000000002,0.49199999999999999,2.63,1.59863660449273,0.87159989129438498,0.61729532252689501,1.2395517294970635,1.0657577363284867,1.0552056795331537,1.056108336230787]
["Nov",1.5922814814814807,1.0249999999999999,0.89560000000000006,0.72,0.68874999999999997,0.64400000000000002,0.54790000000000005,0.47499999999999998,1.64,0.962890421462821,0.66010841330394299,0.52837763409374705,1.0299686450376357,0.9394052892320206,0.95841511913458155,0.96436874264235628]
["Dec",0.87419199999999964,0.74,0.69359999999999999,0.625,0.56899999999999995,0.50480000000000003,0.39900000000000002,0.36499999999999999,0.73,0.63273051647659495,0.46998492690208599,0.346350426944949,0.83505682962095318,0.85504123848188507,0.82598405430946575,0.86804618281942103]
["Annual",4.33663186299197,1.17,0.87,0.68100000000000005,0.60499999999999998,0.53520000000000034,0.40500000000000003,0.32500000000000001,4.0847429999999996,null,null,null,{"$f":"J322/B322","v":0.94191601432864425}]
[]
[null,null,null,null,null,null,null,null,null,null,null,"NEWT",null,null,null,"Ratio NEWT:Data"]
["Windrem (07FB011)","Mean","Median","40th %tile","30th %tile","25th %tile","20th %tile","10th %tile","5th %tile","Mean",0.5,0.25,0.1,"Mean","50th %","25th %","10th %"]
["Jan",null,null,null,null,null,null,null,null,0.01,6.9871445111484402E-3,2.2842587824908399E-3,8.0620898205558897E-4]
["Feb",null,null,null,null,null,null,null,null,0.01,1.0161669720747901E-2,2.61300078533517E-3,8.7100026177839001E-4]
["Mar",null,null,null,null,null,null,null,null,0.02,9.1392192990182707E-3,3.2256068114182102E-3,8.0640170285455396E-4]
["Apr",0.17517261904761894,8.2000000000000003E-2,4.9599999999999998E-2,4.2999999999999997E-2,4.0750000000000001E-2,3.3599999999999991E-2,1.1699999999999999E-2,4.3499999999999997E-3,7.0000000000000007E-2,2.7742854036585399E-2,7.6615439926616697E-3,3.21516021586785E-3,{"$f":"J329/B329","v":0.3996058309830442},0.33832748825104142,{"$f":"L329/F329","v":0.18801334951316981},{"$f":"M329/H329","v":0.2748000184502436}]
["May",0.26518529411764691,0.17499999999999999,0.14719999999999997,0.12340000000000001,0.106,9.4799999999999995E-2,6.4799999999999996E-2,4.6799999999999994E-2,0.41,0.270494252823546,0.16363719376351499,9.7945732363511506E-2,1.5460887503743228,1.5456814447059772,1.5437471109765566,1.5115082154862887]
["Jun",0.20578181818181823,8.299999999999999E-2,5.8999999999999997E-2,3.7999999999999999E-2,2.8250000000000001E-2,2.3E-2,1.2999999999999999E-2,8.8999999999999982E-3,0.36,0.14623986022159999,5.10139047284651E-2,2.2106025382334901E-2,1.7494256935854386,1.7619260267662651,1.8058019372907999,1.7004634909488385]
["Jul",0.13778592375366594,5.2999999999999999E-2,2.8000000000000001E-2,1.7999999999999999E-2,1.4E-2,1.2E-2,0,0,0.24,9.2398728457948304E-2,2.30996821144871E-2,3.54195125755469E-3,1.7418324997339545,1.7433722350556284,1.6499772938919357,{"$error":"#DIV/0!"}]
["Aug",0.18535777126099712,4.0000000000000001E-3,0,0,0,0,0,0,0.1,2.5605473042448002E-3,0,0,0.53949720758776709,0.64013682606120004,{"$error":"#DIV/0!"},{"$error":"#DIV/0!"}]
["Sep",2.8206896551724141E-2,2E-3,0,0,0,0,0,0,0.08,8.3917945011337206E-3,0,0,2.8361858190709044,4.1958972505668601,{"$error":"#DIV/0!"},{"$error":"#DIV/0!"}]
["Oct",2.4942675159235657E-2,4.0000000000000001E-3,2E-3,7.9999999999999722E-4,0,0,0,0,0.05,1.0718428010899001E-2,4.8720127322268101E-4,0,2.004596527068438,2.6796070027247501,{"$error":"#DIV/0!"},{"$error":"#DIV/0!"}]
["Nov",null,null,null,null,null,null,null,null,0.03,9.6955092492148499E-3,5.3863940273415796E-3,2.55853716298725E-3]
["Dec",null,null,null,null,null,null,null,null,0.02,1.0702534876273701E-2,4.8647885801244304E-3,1.45943657403733E-3]
["Annual",null,null,null,null,null,null,null,null,0.11700000000000001]
[]
[null,null,null,null,null,null,null,null,null,null,null,"NEWT",null,null,null,"Ratio NEWT:Data"]
["Prophet (10CD006)","Mean","Median","40th %tile","30th %tile","25th %tile","20th %tile","10th %tile","5th %tile","Mean",0.5,0.25,0.1,"Mean","50th %","25th %","10th %"]
["Jan",7.1118894009216564,6.8,6.1,5.641,5.0924999999999994,4.8580000000000005,4.5999999999999996,4.5,10.68,9.8898971691625395,7.7162933957202204,7.1899707677224098,{"$f":"J342/B342","v":1.5017106422684159},1.454396642523903,{"$f":"L342/F342","v":1.5152269800137892},{"$f":"M342/H342","v":1.5630371234179152}]
["Feb",5.9645408163265348,5.8000000000000007,4.8,4.6400000000000006,4.57,4.5,4.335,4.25,9.66,8.0539084190488506,7.45778579797018,7.0600928046072102,1.6195714469013289,1.3886048998360085,1.6319006122473041,1.6286257911435318]
["Mar",6.2833640552995407,4.95,4.68,4.42,4.2300000000000004,3.9,3.3800000000000003,2.46,8.51,6.7427821072195799,5.6142830097769698,5.1374921411074697,1.3543700357171666,1.3621782034787029,1.3272536666139407,1.51996808908505]
["Apr",30.089380952380953,15,12.7,10.469999999999999,9.4250000000000007,7.1,5,4.1945000000000006,25.34,12.192036683534401,7.5950392454804696,3.9973890765686702,0.84215757180590523,0.81280244556896009,0.80583970774328584,0.79947781531373407]
["May",140.44055299539173,117,98.660000000000011,85.24,80.2,74.960000000000008,53.04,46.099999999999994,132.4,107.84683067351899,73.299286610306794,48.476236431554497,0.94274764073553918,0.9217677835343504,0.91395619214846369,0.91395619214846335]
["Jun",232.47000000000003,186,159,145,136.25,127.80000000000001,105.9,93.484999999999999,201.71,160.03960074416199,117.233309684904,91.119321068853694,0.86768185142168874,0.8604279609901182,0.86042796099012109,0.86042796099011987]
["Jul",214.7732718894008,166,148,132.80000000000001,120,111.4,96.94,76.22,177.1,135.87891616067699,97.407174838075804,78.400497529335297,0.8245905016113878,0.8185476877149217,0.81172645698396506,0.80875281131973698]
["Aug",133.09769585253449,86.9,73.34,65.959999999999994,62.6,58.760000000000005,52.96,46.16,101.67,65.863348873287094,47.500525800319998,39.958110042249999,0.76387498182271474,0.75792116079731975,0.75879434185814687,0.75449603554097433]
["Sep",58.931527093596046,56.8,51.540000000000006,41.88,38.450000000000003,34.74,31.12,28.630000000000003,69.930000000000007,67.533327919943005,45.580510075284799,37.0266873183744,1.1866313915289519,1.1889670408440671,1.1854488966263925,1.189803577068586]
["Oct",37.994354838709697,37.75,34.5,29.689999999999998,28.175000000000001,25.740000000000002,18.02,17.015000000000001,46.9,44.435976668647598,30.773571901869399,22.231252804971099,1.2343939040179985,1.1771119647323867,1.0922297037043265,1.2336988238052775]
["Nov",15.219666666666663,12.7,10.9,10.27,9.6999999999999993,8.9600000000000009,8.2449999999999992,7.2974999999999994,21.17,19.079375935109901,13.8392656430727,11.5793001273787,1.3909634464180123,1.5023130657566852,1.4267284168116188,1.4044026837330139]
["Dec",8.6177600000000005,9,7.0119999999999996,6.7,6.6,6.4960000000000004,5.1879999999999997,4.8099999999999996,15.33,15.1040932467623,10.8838318984022,8.8877223203006892,1.7788845361207553,1.6782325829735889,1.6490654391518484,1.7131307479376812]
["Annual",74.590063355494735,28.3,13.7,9.6399999999999988,8.4499999999999993,7.2,4.8499999999999996,4.4279999999999999,68.686520999999999,null,null,null,{"$f":"J354/B354","v":0.92085350125849108}]
[]
[null,null,null,null,null,null,null,null,null,null,null,"NEWT",null,null,null,"Ratio NEWT:Data"]
["Dawson Cr (07FD015)","Mean","Median","40th %tile","30th %tile","25th %tile","20th %tile","10th %tile","5th %tile","Mean",0.5,0.25,0.1,"Mean","50th %","25th %","10th %"]
["Jan",null,null,null,null,null,null,null,null,0.02,3.6875481852264203E-4,0,0]
["Feb",null,null,null,null,null,null,null,null,0.02,7.6733028374858098E-3,0,0]
["Mar",null,null,null,null,null,null,null,null,0.04,7.6565446384934299E-4,3.0626178553973699E-4,0]
["Apr",null,null,null,null,null,null,null,null,0.19,8.5395767537454106E-2,2.0923811439912999E-2,2.76889306863866E-3]
["May",0.20771121718377114,3.5000000000000003E-2,2.0200000000000017E-2,1.0999999999999999E-2,7.4999999999999997E-3,4.0000000000000001E-3,1E-3,1E-3,1.1599999999999999,0.168722180107892,3.3744436021578297E-2,4.8206337173683301E-3,{"$f":"J362/B362","v":5.5846767243855568},4.8206337173683425,{"$f":"L362/F362","v":4.4992581362104396},{"$f":"M362/H362","v":4.82063371736833}]
["Jun",0.4024615384615392,3.0000000000000001E-3,1E-3,1E-3,0,0,0,0,0.88,4.5491197076528997E-3,0,0,2.1865443425076414,1.5163732358842998,{"$error":"#DIV/0!"},{"$error":"#DIV/0!"}]
["Jul",0.27224434389140323,3.0000000000000001E-3,2E-3,1E-3,1E-3,1E-3,0,0,0.73,5.6881930159424898E-3,1.8960643386475001E-3,0,2.6814147525180285,1.8960643386474965,1.8960643386475,{"$error":"#DIV/0!"}]
["Aug",0.14534633027522903,1E-3,0,0,0,0,0,0,0.36,1.7111822458890399E-3,0,0,2.4768427198560912,1.71118224588904,{"$error":"#DIV/0!"},{"$error":"#DIV/0!"}]
["Sep",5.866995073891614E-3,0,0,0,0,0,0,0,0.22,0,0,0,37.49790092359369,{"$error":"#DIV/0!"},{"$error":"#DIV/0!"},{"$error":"#DIV/0!"}]
["Oct",6.1193181818181815E-3,2E-3,1E-3,1E-3,7.5000000000000002E-4,0,0,0,0.11,2.64048157588655E-2,0,0,17.975858867223771,13.20240787943275,0,{"$error":"#DIV/0!"}]
["Nov",2.2374999999999999E-2,2.5000000000000001E-2,2.5000000000000001E-2,2.5000000000000001E-2,2.4750000000000001E-2,2.4400000000000002E-2,1.7100000000000004E-2,9.0500000000000025E-3,0.04,2.5352180744276202E-2,9.1267850679394198E-3,5.2434274998161799E-3,1.787709497206704,1.0140872297710479,0.36875899264401696,0.30663318712375315]
["Dec",null,null,null,null,null,null,null,null,0.04,2.1874362082221901E-2,9.4320643840773103E-3,4.8163733025075603E-3]
["Annual",null,null,null,null,null,null,null,null,0.32008900000000001]
[]
[null,null,null,null,null,null,null,null,null,null,null,"NEWT",null,null,null,"Ratio NEWT:Data"]
["Pouce Coupe (07FD007)","Mean","Median","40th %tile","30th %tile","25th %tile","20th %tile","10th %tile","5th %tile","Mean",0.5,0.25,0.1,"Mean","50th %","25th %","10th %"]
["Jan",0.27636993822923761,0.14000000000000001,0.1,8.5000000000000006E-2,7.5999999999999998E-2,5.3999999999999999E-2,2.1000000000000001E-2,1.4999999999999999E-2,0.49,0.245284213094285,0.14921456296569,5.1100877727976099E-2,{"$f":"J374/B374","v":1.7729858867412887},1.752030093530607,{"$f":"L374/F374","v":1.9633495127064473},{"$f":"M374/H374","v":2.4333751299036237}]
["Feb",0.28914209726443724,0.16800000000000001,0.114,8.2000000000000003E-2,7.0999999999999994E-2,5.6000000000000001E-2,2.5999999999999999E-2,1.7999999999999999E-2,0.34,0.17982673656926501,8.4966678120105804E-2,2.9098177438392402E-2,1.1758924183532165,1.0703972414837202,1.1967137763395184,1.1191606707074002]
["Mar",1.296043239533287,0.26500000000000001,0.19079999999999997,0.108,8.6999999999999994E-2,6.0999999999999999E-2,0.04,1.9E-2,0.77,0.17369971032498199,5.7030162402837301E-2,2.9819692759653502E-2,0.59411598048015868,0.65547060499993204,0.65551910807858971,0.7454923189913375]
["Apr",23.382413966882634,6.8,3.5160000000000013,2.0339999999999998,1.42,0.95,0.32380000000000003,0.11240000000000001,3.97,0.94776399136407097,0.22041023054978401,5.5010720041383597E-2,0.16978572039751139,0.13937705755353985,0.15521847221815777,0.16989104398203703]
["May",23.32404002760526,12.1,7.8760000000000012,5.4,4.58,3.4660000000000002,1.5,0.88840000000000008,24.63,11.6315305220729,4.7178357444669698,1.62624015523562,1.0559920138556214,0.96128351422090086,1.0300951407133121,1.0841601034904134]
["Jun",15.311706591070187,3.91,2.8,1.86,1.5150000000000001,1.23,0.56999999999999995,0.29899999999999999,18.47,3.0171263718961798,1.1395767850607901,0.366376994295393,1.2062665836851743,0.77164357337498202,0.75219589772989437,0.64276665665858423]
["Jul",14.574746844319773,2.0049999999999999,1.1399999999999999,0.66749999999999998,0.44550000000000001,0.33500000000000002,0.113,2.8250000000000001E-2,14.34,1.13199308822198,0.23542396794238199,5.37237800788593E-2,0.98389359027451917,0.56458508140747132,0.52844886182352857,0.4754316821137991]
["Aug",3.7781339410939658,0.63700000000000001,0.34499999999999997,0.19550000000000001,0.14199999999999999,0.111,0.05,0.03,8.1,0.92658700629453705,0.18321493479405801,6.7579279227316297E-2,2.1439155218659689,1.4546106849207803,1.2902460196764649,1.3515855845463258]
["Sep",3.1755318352059931,0.40300000000000002,0.26380000000000009,0.14819999999999997,0.115,9.0800000000000006E-2,5.0999999999999997E-2,3.2000000000000001E-2,4.8899999999999997,0.46627028524866299,0.14011958699927801,5.9625356169905698E-2,1.5398995361300767,1.1569982264234813,1.2184311912980696,1.1691246307824648]
["Oct",1.576277323420074,0.47299999999999998,0.32520000000000004,0.21839999999999998,0.18,0.14180000000000001,9.0999999999999998E-2,0.06,2.67,0.77900497256540102,0.27382988723999202,0.135665393938979,1.6938643729308105,1.6469449737112074,1.521277151333289,1.4908285048239451]
["Nov",0.81611363636363377,0.42499999999999999,0.28100000000000003,0.16700000000000001,0.153,0.121,8.7999999999999995E-2,4.8000000000000001E-2,1.08,0.61836228417116401,0.22261042230161901,0.12789187006740099,1.3233451223927193,1.4549700804027388,1.4549700804027386,1.4533167053113749]
["Dec",0.41948290909090941,0.25,0.15,0.108,9.1999999999999998E-2,7.5999999999999998E-2,4.5400000000000003E-2,0.03,0.76,0.43828311444860901,0.18898446219343701,9.6502704098776204E-2,1.8117543850524183,1.753132457794436,2.0541789368851848,2.1256102224400042]
["Annual",7.3606762581478176,0.57599999999999996,0.36499999999999999,0.21099999999999999,0.159,0.114,5.8999999999999997E-2,3.2000000000000001E-2,6.7531169999999996,null,null,null,{"$f":"J386/B386","v":0.91745877187910729}]
[]
[null,null,null,null,null,null,null,null,null,null,null,"NEWT",null,null,null,"Ratio NEWT:Data"]
["Fontas (10CA001)","Mean","Median","40th %tile","30th %tile","25th %tile","20th %tile","10th %tile","5th %tile","Mean",0.5,0.25,0.1,"Mean","50th %","25th %","10th %"]
["Jan",1.6940126728110587,1.5,1.24,1.1369999999999998,1.0900000000000001,0.95840000000000003,0.7137,0.64,1.66,1.50166904185151,1.08120171013309,0.70137955381411399,{"$f":"J390/B390","v":0.97992183095382757},1.0011126945676734,{"$f":"L390/F390","v":0.99192817443402737},{"$f":"M390/H390","v":0.98273721986004481}]
["Feb",1.2195765306122457,1.17,1.07,0.9849,0.84324999999999994,0.751,0.54,0.47914999999999996,0.8,0.79745478461829,0.49334067184012897,0.34466266114858302,0.65596539447867863,0.68158528599853851,0.58504674988452887,0.6382641873121907]
["Mar",1.9501336405529952,1.1599999999999999,1.05,0.94909999999999994,0.88,0.75780000000000003,0.50409999999999999,0.37069999999999997,1.76,0.85830740762176205,0.67055266220450205,0.38363275737094099,0.90250225082057478,0.73992017898427764,0.76199166159602505,0.76102510884931762]
["Apr",25.957895238095247,5.6199999999999992,3.3420000000000005,1.75,1.4875,1.38,1.1090000000000002,0.88775000000000004,12.65,2.3840324273172002,0.68439407858354595,0.51120535014617396,0.48732764671286344,0.42420505824149474,0.46009685955196367,0.4609606403482181]
["May",93.898628841607646,70.05,58.2,48.05,41.375,35.5,22.9,14.3,118.62,89.959124323215605,54.151034123227703,30.934799817740998,1.2632772327282165,1.2842130524370536,1.308786323220005,1.3508646208620525]
["Jun",70.440382716049413,45.4,36.9,30.97,27.424999999999997,21.98,12.88,9,78.09,52.673452406952201,32.7589439300992,17.5653288347462,1.1085970431873828,1.1602082027963041,1.1944920302679747,1.3637677666728416]
["Jul",65.30733890214799,36.5,27.78,21.4,18.899999999999999,16.2,12.2,9.3699999999999992,62.29,36.029151549016603,18.375348320059199,12.121957530510199,0.95379785866533373,0.987100042438811,0.97224065185498421,0.99360307627132793]
["Aug",35.810824372759839,22.1,17.340000000000003,13.2,11.5,9.5419999999999998,5.76,3.7300000000000004,39.42,23.1072147095194,11.475717866974801,5.6651620782215097,1.1007844887811504,1.0455753262225973,0.99788851017172175,0.98353508302456771]
["Sep",23.574656084656084,15.3,10.8,7.49,5.6850000000000005,4.2,2.5549999999999997,1.7949999999999999,28.54,17.949327583067699,6.3033460790873601,2.9140552633181702,1.2106221145926146,1.1731586655599804,1.1087679998394653,1.1405304357409669]
["Oct",14.843641456582642,13.1,9.0559999999999974,5.6540000000000008,4.7624999999999993,4.1960000000000006,2.843,1.9595,14.65,12.061816166901901,4.6713982951475899,2.89688025567796,0.98695458542642389,0.9207493257177024,0.9808710331018563,1.0189519013992121]
["Nov",7.553377622377611,5.5,4.5,3.6,3.26,2.9660000000000006,1.5700000000000003,1.28,6.31,4.7277087543636203,2.67903496080605,1.4247889396712301,0.83538786427227141,0.8595834098842946,0.82178986527792952,0.90750887877148401]
["Dec",3.5718693333333311,2.7850000000000001,2.2799999999999998,1.91,1.75,1.5460000000000003,1.1599999999999999,1.0044999999999999,2.8,2.0769240276397198,1.32058753202526,0.92841305281775599,0.78390325588618071,0.74575369035537509,0.75462144687157717,0.80035608001530689]
["Annual",28.817408944399752,7.64,3.87,2.1,1.65,1.39,1.05,0.755,30.849679999999999,null,null,null,{"$f":"J402/B402","v":1.0705223380603477}]

{"sheet":"EBF Calculation","index":7,"n_rows":33,"n_cols":17,"rows_kept":33,"cut":false,"hidden":false,"merged":[[19,11,19,13]]}
[]
[null,"Discharge at Reference Gauge",null,null,{"$f":"Output!#REF!","v":{"$error":"#REF!"}},{"$f":"Output!F10","v":{"$error":"#N/A"}}]
[null,"80% Frequency",null,"70% Frequency",null,"60% Frequency",null,"50% Frequency",null,"40% Frequency",null,"30% Frequency",null,"20% Frequency",null,"5% Frequency"]
[null,"m3/s","L/S/km2","m3/s","L/S/km2","m3/s","L/S/km2","m3/s","L/S/km2","m3/s","L/S/km2","m3/s","L/S/km2","m3/s","L/S/km2","m3/s","L/S/km2"]
["Month","Candidate 1","Candidate 1","Candidate 1","Candidate 1","Candidate 1","Candidate 1","Candidate 1","Candidate 1","Candidate 1","Candidate 1","Candidate 1","Candidate 1","Candidate 1","Candidate 1","Candidate 1","Candidate 1"]
["Jan",{"$f":"VLOOKUP(Output!$G$9,lookup!$A$2:$Q$28,8,0)","v":{"$error":"#N/A"}},{"$f":"($B6*1000)/VLOOKUP(Output!$G$9,lookup!$A$2:$Q$28,4,0)","v":{"$error":"#N/A"}},{"$f":"VLOOKUP(Output!$G$9,lookup!$A$2:$Q$28,9,0)","v":{"$error":"#N/A"}},{"$f":"($D6*1000)/VLOOKUP(Output!$G$9,lookup!$A$2:$Q$28,4,0)","v":{"$error":"#N/A"}},{"$f":"VLOOKUP(Output!$G$9,lookup!$A$2:$Q$28,10,0)","v":{"$error":"#N/A"}},{"$f":"($F6*1000)/VLOOKUP(Output!$G$9,lookup!$A$2:$Q$28,4,0)","v":{"$error":"#N/A"}},{"$f":"VLOOKUP(Output!$G$9,lookup!$A$2:$Q$28,11,0)","v":{"$error":"#N/A"}},{"$f":"($H6*1000)/VLOOKUP(Output!$G$9,lookup!$A$2:$Q$28,4,0)","v":{"$error":"#N/A"}},{"$f":"VLOOKUP(Output!$G$9,lookup!$A$2:$Q$28,12,0)","v":{"$error":"#N/A"}},{"$f":"($J6*1000)/VLOOKUP(Output!$G$9,lookup!$A$2:$Q$28,4,0)","v":{"$error":"#N/A"}},{"$f":"VLOOKUP(Output!$G$9,lookup!$A$2:$Q$28,13,0)","v":{"$error":"#N/A"}},{"$f":"($L6*1000)/VLOOKUP(Output!$G$9,lookup!$A$2:$Q$28,4,0)","v":{"$error":"#N/A"}},{"$f":"VLOOKUP(Output!$G$9,lookup!$A$2:$Q$28,15,0)","v":{"$error":"#N/A"}},{"$f":"($N6*1000)/VLOOKUP(Output!$G$9,lookup!$A$2:$Q$28,4,0)","v":{"$error":"#N/A"}},{"$f":"VLOOKUP(Output!$G$9,lookup!$A$2:$Q$28,17,0)","v":{"$error":"#N/A"}},{"$f":"($P6*1000)/VLOOKUP(Output!$G$9,lookup!$A$2:$Q$28,4,0)","v":{"$error":"#N/A"}}]
["Feb",{"$f":"VLOOKUP(Output!$G$9,lookup!$A$29:$Q$55,8,0)","v":{"$error":"#N/A"}},{"$f":"($B7*1000)/VLOOKUP(Output!$G$9,lookup!$A$29:$Q$55,4,0)","v":{"$error":"#N/A"}},{"$f":"VLOOKUP(Output!$G$9,lookup!$A$29:$Q$55,9,0)","v":{"$error":"#N/A"}},{"$f":"($D7*1000)/VLOOKUP(Output!$G$9,lookup!$A$29:$Q$55,4,0)","v":{"$error":"#N/A"}},{"$f":"VLOOKUP(Output!$G$9,lookup!$A$29:$Q$55,10,0)","v":{"$error":"#N/A"}},{"$f":"($F7*1000)/VLOOKUP(Output!$G$9,lookup!$A$29:$Q$55,4,0)","v":{"$error":"#N/A"}},{"$f":"VLOOKUP(Output!$G$9,lookup!$A$29:$Q$55,11,0)","v":{"$error":"#N/A"}},{"$f":"($H7*1000)/VLOOKUP(Output!$G$9,lookup!$A$29:$Q$55,4,0)","v":{"$error":"#N/A"}},{"$f":"VLOOKUP(Output!$G$9,lookup!$A$29:$Q$55,12,0)","v":{"$error":"#N/A"}},{"$f":"($J7*1000)/VLOOKUP(Output!$G$9,lookup!$A$29:$Q$55,4,0)","v":{"$error":"#N/A"}},{"$f":"VLOOKUP(Output!$G$9,lookup!$A$29:$Q$55,13,0)","v":{"$error":"#N/A"}},{"$f":"($L7*1000)/VLOOKUP(Output!$G$9,lookup!$A$29:$Q$55,4,0)","v":{"$error":"#N/A"}},{"$f":"VLOOKUP(Output!$G$9,lookup!$A$29:$Q$55,15,0)","v":{"$error":"#N/A"}},{"$f":"($N7*1000)/VLOOKUP(Output!$G$9,lookup!$A$29:$Q$55,4,0)","v":{"$error":"#N/A"}},{"$f":"VLOOKUP(Output!$G$9,lookup!$A$29:$Q$55,17,0)","v":{"$error":"#N/A"}},{"$f":"($P7*1000)/VLOOKUP(Output!$G$9,lookup!$A$29:$Q$55,4,0)","v":{"$error":"#N/A"}}]
["Mar",{"$f":"VLOOKUP(Output!$G$9,lookup!$A$56:$Q$82,8,0)","v":{"$error":"#N/A"}},{"$f":"($B8*1000)/VLOOKUP(Output!$G$9,lookup!$A$56:$Q$82,4,0)","v":{"$error":"#N/A"}},{"$f":"VLOOKUP(Output!$G$9,lookup!$A$56:$Q$82,9,0)","v":{"$error":"#N/A"}},{"$f":"($D8*1000)/VLOOKUP(Output!$G$9,lookup!$A$56:$Q$82,4,0)","v":{"$error":"#N/A"}},{"$f":"VLOOKUP(Output!$G$9,lookup!$A$56:$Q$82,10,0)","v":{"$error":"#N/A"}},{"$f":"($F8*1000)/VLOOKUP(Output!$G$9,lookup!$A$56:$Q$82,4,0)","v":{"$error":"#N/A"}},{"$f":"VLOOKUP(Output!$G$9,lookup!$A$56:$Q$82,11,0)","v":{"$error":"#N/A"}},{"$f":"($H8*1000)/VLOOKUP(Output!$G$9,lookup!$A$56:$Q$82,4,0)","v":{"$error":"#N/A"}},{"$f":"VLOOKUP(Output!$G$9,lookup!$A$56:$Q$82,12,0)","v":{"$error":"#N/A"}},{"$f":"($J8*1000)/VLOOKUP(Output!$G$9,lookup!$A$56:$Q$82,4,0)","v":{"$error":"#N/A"}},{"$f":"VLOOKUP(Output!$G$9,lookup!$A$56:$Q$82,13,0)","v":{"$error":"#N/A"}},{"$f":"($L8*1000)/VLOOKUP(Output!$G$9,lookup!$A$56:$Q$82,4,0)","v":{"$error":"#N/A"}},{"$f":"VLOOKUP(Output!$G$9,lookup!$A$56:$Q$82,15,0)","v":{"$error":"#N/A"}},{"$f":"($N8*1000)/VLOOKUP(Output!$G$9,lookup!$A$56:$Q$82,4,0)","v":{"$error":"#N/A"}},{"$f":"VLOOKUP(Output!$G$9,lookup!$A$56:$Q$82,17,0)","v":{"$error":"#N/A"}},{"$f":"($P8*1000)/VLOOKUP(Output!$G$9,lookup!$A$56:$Q$82,4,0)","v":{"$error":"#N/A"}}]
["Apr",{"$f":"VLOOKUP(Output!$G$9,lookup!$A$83:$Q$109,8,0)","v":{"$error":"#N/A"}},{"$f":"($B9*1000)/VLOOKUP(Output!$G$9,lookup!$A$83:$Q$109,4,0)","v":{"$error":"#N/A"}},{"$f":"VLOOKUP(Output!$G$9,lookup!$A$83:$Q$109,9,0)","v":{"$error":"#N/A"}},{"$f":"($D9*1000)/VLOOKUP(Output!$G$9,lookup!$A$83:$Q$109,4,0)","v":{"$error":"#N/A"}},{"$f":"VLOOKUP(Output!$G$9,lookup!$A$83:$Q$109,10,0)","v":{"$error":"#N/A"}},{"$f":"($F9*1000)/VLOOKUP(Output!$G$9,lookup!$A$83:$Q$109,4,0)","v":{"$error":"#N/A"}},{"$f":"VLOOKUP(Output!$G$9,lookup!$A$83:$Q$109,11,0)","v":{"$error":"#N/A"}},{"$f":"($H9*1000)/VLOOKUP(Output!$G$9,lookup!$A$83:$Q$109,4,0)","v":{"$error":"#N/A"}},{"$f":"VLOOKUP(Output!$G$9,lookup!$A$83:$Q$109,12,0)","v":{"$error":"#N/A"}},{"$f":"($J9*1000)/VLOOKUP(Output!$G$9,lookup!$A$83:$Q$109,4,0)","v":{"$error":"#N/A"}},{"$f":"VLOOKUP(Output!$G$9,lookup!$A$83:$Q$109,13,0)","v":{"$error":"#N/A"}},{"$f":"($L9*1000)/VLOOKUP(Output!$G$9,lookup!$A$83:$Q$109,4,0)","v":{"$error":"#N/A"}},{"$f":"VLOOKUP(Output!$G$9,lookup!$A$83:$Q$109,15,0)","v":{"$error":"#N/A"}},{"$f":"($N9*1000)/VLOOKUP(Output!$G$9,lookup!$A$83:$Q$109,4,0)","v":{"$error":"#N/A"}},{"$f":"VLOOKUP(Output!$G$9,lookup!$A$83:$Q$109,17,0)","v":{"$error":"#N/A"}},{"$f":"($P9*1000)/VLOOKUP(Output!$G$9,lookup!$A$83:$Q$109,4,0)","v":{"$error":"#N/A"}}]
["May",{"$f":"VLOOKUP(Output!$G$9,lookup!$A$110:$Q$136,8,0)","v":{"$error":"#N/A"}},{"$f":"($B10*1000)/VLOOKUP(Output!$G$9,lookup!$A$110:$Q$136,4,0)","v":{"$error":"#N/A"}},{"$f":"VLOOKUP(Output!$G$9,lookup!$A$110:$Q$136,9,0)","v":{"$error":"#N/A"}},{"$f":"($D10*1000)/VLOOKUP(Output!$G$9,lookup!$A$110:$Q$136,4,0)","v":{"$error":"#N/A"}},{"$f":"VLOOKUP(Output!$G$9,lookup!$A$110:$Q$136,10,0)","v":{"$error":"#N/A"}},{"$f":"($F10*1000)/VLOOKUP(Output!$G$9,lookup!$A$110:$Q$136,4,0)","v":{"$error":"#N/A"}},{"$f":"VLOOKUP(Output!$G$9,lookup!$A$110:$Q$136,11,0)","v":{"$error":"#N/A"}},{"$f":"($H10*1000)/VLOOKUP(Output!$G$9,lookup!$A$110:$Q$136,4,0)","v":{"$error":"#N/A"}},{"$f":"VLOOKUP(Output!$G$9,lookup!$A$110:$Q$136,12,0)","v":{"$error":"#N/A"}},{"$f":"($J10*1000)/VLOOKUP(Output!$G$9,lookup!$A$110:$Q$136,4,0)","v":{"$error":"#N/A"}},{"$f":"VLOOKUP(Output!$G$9,lookup!$A$110:$Q$136,13,0)","v":{"$error":"#N/A"}},{"$f":"($L10*1000)/VLOOKUP(Output!$G$9,lookup!$A$110:$Q$136,4,0)","v":{"$error":"#N/A"}},{"$f":"VLOOKUP(Output!$G$9,lookup!$A$110:$Q$136,15,0)","v":{"$error":"#N/A"}},{"$f":"($N10*1000)/VLOOKUP(Output!$G$9,lookup!$A$110:$Q$136,4,0)","v":{"$error":"#N/A"}},{"$f":"VLOOKUP(Output!$G$9,lookup!$A$110:$Q$136,17,0)","v":{"$error":"#N/A"}},{"$f":"($P10*1000)/VLOOKUP(Output!$G$9,lookup!$A$110:$Q$136,4,0)","v":{"$error":"#N/A"}}]
["Jun",{"$f":"VLOOKUP(Output!$G$9,lookup!$A$137:$Q$163,8,0)","v":{"$error":"#N/A"}},{"$f":"($B11*1000)/VLOOKUP(Output!$G$9,lookup!$A$137:$Q$163,4,0)","v":{"$error":"#N/A"}},{"$f":"VLOOKUP(Output!$G$9,lookup!$A$137:$Q$163,9,0)","v":{"$error":"#N/A"}},{"$f":"($D11*1000)/VLOOKUP(Output!$G$9,lookup!$A$137:$Q$163,4,0)","v":{"$error":"#N/A"}},{"$f":"VLOOKUP(Output!$G$9,lookup!$A$137:$Q$163,10,0)","v":{"$error":"#N/A"}},{"$f":"($F11*1000)/VLOOKUP(Output!$G$9,lookup!$A$137:$Q$163,4,0)","v":{"$error":"#N/A"}},{"$f":"VLOOKUP(Output!$G$9,lookup!$A$137:$Q$163,11,0)","v":{"$error":"#N/A"}},{"$f":"($H11*1000)/VLOOKUP(Output!$G$9,lookup!$A$137:$Q$163,4,0)","v":{"$error":"#N/A"}},{"$f":"VLOOKUP(Output!$G$9,lookup!$A$137:$Q$163,12,0)","v":{"$error":"#N/A"}},{"$f":"($J11*1000)/VLOOKUP(Output!$G$9,lookup!$A$137:$Q$163,4,0)","v":{"$error":"#N/A"}},{"$f":"VLOOKUP(Output!$G$9,lookup!$A$137:$Q$163,13,0)","v":{"$error":"#N/A"}},{"$f":"($L11*1000)/VLOOKUP(Output!$G$9,lookup!$A$137:$Q$163,4,0)","v":{"$error":"#N/A"}},{"$f":"VLOOKUP(Output!$G$9,lookup!$A$137:$Q$163,15,0)","v":{"$error":"#N/A"}},{"$f":"($N11*1000)/VLOOKUP(Output!$G$9,lookup!$A$137:$Q$163,4,0)","v":{"$error":"#N/A"}},{"$f":"VLOOKUP(Output!$G$9,lookup!$A$137:$Q$163,17,0)","v":{"$error":"#N/A"}},{"$f":"($P11*1000)/VLOOKUP(Output!$G$9,lookup!$A$137:$Q$163,4,0)","v":{"$error":"#N/A"}}]
["Jul",{"$f":"VLOOKUP(Output!$G$9,lookup!$A$164:$Q$190,8,0)","v":{"$error":"#N/A"}},{"$f":"($B12*1000)/VLOOKUP(Output!$G$9,lookup!$A$164:$Q$190,4,0)","v":{"$error":"#N/A"}},{"$f":"VLOOKUP(Output!$G$9,lookup!$A$164:$Q$190,9,0)","v":{"$error":"#N/A"}},{"$f":"($D12*1000)/VLOOKUP(Output!$G$9,lookup!$A$164:$Q$190,4,0)","v":{"$error":"#N/A"}},{"$f":"VLOOKUP(Output!$G$9,lookup!$A$164:$Q$190,10,0)","v":{"$error":"#N/A"}},{"$f":"($F12*1000)/VLOOKUP(Output!$G$9,lookup!$A$164:$Q$190,4,0)","v":{"$error":"#N/A"}},{"$f":"VLOOKUP(Output!$G$9,lookup!$A$164:$Q$190,11,0)","v":{"$error":"#N/A"}},{"$f":"($H12*1000)/VLOOKUP(Output!$G$9,lookup!$A$164:$Q$190,4,0)","v":{"$error":"#N/A"}},{"$f":"VLOOKUP(Output!$G$9,lookup!$A$164:$Q$190,12,0)","v":{"$error":"#N/A"}},{"$f":"($J12*1000)/VLOOKUP(Output!$G$9,lookup!$A$164:$Q$190,4,0)","v":{"$error":"#N/A"}},{"$f":"VLOOKUP(Output!$G$9,lookup!$A$164:$Q$190,13,0)","v":{"$error":"#N/A"}},{"$f":"($L12*1000)/VLOOKUP(Output!$G$9,lookup!$A$164:$Q$190,4,0)","v":{"$error":"#N/A"}},{"$f":"VLOOKUP(Output!$G$9,lookup!$A$164:$Q$190,15,0)","v":{"$error":"#N/A"}},{"$f":"($N12*1000)/VLOOKUP(Output!$G$9,lookup!$A$164:$Q$190,4,0)","v":{"$error":"#N/A"}},{"$f":"VLOOKUP(Output!$G$9,lookup!$A$164:$Q$190,17,0)","v":{"$error":"#N/A"}},{"$f":"($P12*1000)/VLOOKUP(Output!$G$9,lookup!$A$164:$Q$190,4,0)","v":{"$error":"#N/A"}}]
["Aug",{"$f":"VLOOKUP(Output!$G$9,lookup!$A$191:$Q$217,8,0)","v":{"$error":"#N/A"}},{"$f":"($B13*1000)/VLOOKUP(Output!$G$9,lookup!$A$191:$Q$217,4,0)","v":{"$error":"#N/A"}},{"$f":"VLOOKUP(Output!$G$9,lookup!$A$191:$Q$217,9,0)","v":{"$error":"#N/A"}},{"$f":"($D13*1000)/VLOOKUP(Output!$G$9,lookup!$A$191:$Q$217,4,0)","v":{"$error":"#N/A"}},{"$f":"VLOOKUP(Output!$G$9,lookup!$A$191:$Q$217,10,0)","v":{"$error":"#N/A"}},{"$f":"($F13*1000)/VLOOKUP(Output!$G$9,lookup!$A$191:$Q$217,4,0)","v":{"$error":"#N/A"}},{"$f":"VLOOKUP(Output!$G$9,lookup!$A$191:$Q$217,11,0)","v":{"$error":"#N/A"}},{"$f":"($H13*1000)/VLOOKUP(Output!$G$9,lookup!$A$191:$Q$217,4,0)","v":{"$error":"#N/A"}},{"$f":"VLOOKUP(Output!$G$9,lookup!$A$191:$Q$217,12,0)","v":{"$error":"#N/A"}},{"$f":"($J13*1000)/VLOOKUP(Output!$G$9,lookup!$A$191:$Q$217,4,0)","v":{"$error":"#N/A"}},{"$f":"VLOOKUP(Output!$G$9,lookup!$A$191:$Q$217,13,0)","v":{"$error":"#N/A"}},{"$f":"($L13*1000)/VLOOKUP(Output!$G$9,lookup!$A$191:$Q$217,4,0)","v":{"$error":"#N/A"}},{"$f":"VLOOKUP(Output!$G$9,lookup!$A$191:$Q$217,15,0)","v":{"$error":"#N/A"}},{"$f":"($N13*1000)/VLOOKUP(Output!$G$9,lookup!$A$191:$Q$217,4,0)","v":{"$error":"#N/A"}},{"$f":"VLOOKUP(Output!$G$9,lookup!$A$191:$Q$217,17,0)","v":{"$error":"#N/A"}},{"$f":"($P13*1000)/VLOOKUP(Output!$G$9,lookup!$A$191:$Q$217,4,0)","v":{"$error":"#N/A"}}]
["Sep",{"$f":"VLOOKUP(Output!$G$9,lookup!$A$218:$Q$244,8,0)","v":{"$error":"#N/A"}},{"$f":"($B14*1000)/VLOOKUP(Output!$G$9,lookup!$A$218:$Q$244,4,0)","v":{"$error":"#N/A"}},{"$f":"VLOOKUP(Output!$G$9,lookup!$A$218:$Q$244,9,0)","v":{"$error":"#N/A"}},{"$f":"($D14*1000)/VLOOKUP(Output!$G$9,lookup!$A$218:$Q$244,4,0)","v":{"$error":"#N/A"}},{"$f":"VLOOKUP(Output!$G$9,lookup!$A$218:$Q$244,10,0)","v":{"$error":"#N/A"}},{"$f":"($F14*1000)/VLOOKUP(Output!$G$9,lookup!$A$218:$Q$244,4,0)","v":{"$error":"#N/A"}},{"$f":"VLOOKUP(Output!$G$9,lookup!$A$218:$Q$244,11,0)","v":{"$error":"#N/A"}},{"$f":"($H14*1000)/VLOOKUP(Output!$G$9,lookup!$A$218:$Q$244,4,0)","v":{"$error":"#N/A"}},{"$f":"VLOOKUP(Output!$G$9,lookup!$A$218:$Q$244,12,0)","v":{"$error":"#N/A"}},{"$f":"($J14*1000)/VLOOKUP(Output!$G$9,lookup!$A$218:$Q$244,4,0)","v":{"$error":"#N/A"}},{"$f":"VLOOKUP(Output!$G$9,lookup!$A$218:$Q$244,13,0)","v":{"$error":"#N/A"}},{"$f":"($L14*1000)/VLOOKUP(Output!$G$9,lookup!$A$218:$Q$244,4,0)","v":{"$error":"#N/A"}},{"$f":"VLOOKUP(Output!$G$9,lookup!$A$218:$Q$244,15,0)","v":{"$error":"#N/A"}},{"$f":"($N14*1000)/VLOOKUP(Output!$G$9,lookup!$A$218:$Q$244,4,0)","v":{"$error":"#N/A"}},{"$f":"VLOOKUP(Output!$G$9,lookup!$A$218:$Q$244,17,0)","v":{"$error":"#N/A"}},{"$f":"($P14*1000)/VLOOKUP(Output!$G$9,lookup!$A$218:$Q$244,4,0)","v":{"$error":"#N/A"}}]
["Oct",{"$f":"VLOOKUP(Output!$G$9,lookup!$A$245:$Q$271,8,0)","v":{"$error":"#N/A"}},{"$f":"($B15*1000)/VLOOKUP(Output!$G$9,lookup!$A$245:$Q$271,4,0)","v":{"$error":"#N/A"}},{"$f":"VLOOKUP(Output!$G$9,lookup!$A$245:$Q$271,9,0)","v":{"$error":"#N/A"}},{"$f":"($D15*1000)/VLOOKUP(Output!$G$9,lookup!$A$245:$Q$271,4,0)","v":{"$error":"#N/A"}},{"$f":"VLOOKUP(Output!$G$9,lookup!$A$245:$Q$271,10,0)","v":{"$error":"#N/A"}},{"$f":"($F15*1000)/VLOOKUP(Output!$G$9,lookup!$A$245:$Q$271,4,0)","v":{"$error":"#N/A"}},{"$f":"VLOOKUP(Output!$G$9,lookup!$A$245:$Q$271,11,0)","v":{"$error":"#N/A"}},{"$f":"($H15*1000)/VLOOKUP(Output!$G$9,lookup!$A$245:$Q$271,4,0)","v":{"$error":"#N/A"}},{"$f":"VLOOKUP(Output!$G$9,lookup!$A$245:$Q$271,12,0)","v":{"$error":"#N/A"}},{"$f":"($J15*1000)/VLOOKUP(Output!$G$9,lookup!$A$245:$Q$271,4,0)","v":{"$error":"#N/A"}},{"$f":"VLOOKUP(Output!$G$9,lookup!$A$245:$Q$271,13,0)","v":{"$error":"#N/A"}},{"$f":"($L15*1000)/VLOOKUP(Output!$G$9,lookup!$A$245:$Q$271,4,0)","v":{"$error":"#N/A"}},{"$f":"VLOOKUP(Output!$G$9,lookup!$A$245:$Q$271,15,0)","v":{"$error":"#N/A"}},{"$f":"($N15*1000)/VLOOKUP(Output!$G$9,lookup!$A$245:$Q$271,4,0)","v":{"$error":"#N/A"}},{"$f":"VLOOKUP(Output!$G$9,lookup!$A$245:$Q$271,17,0)","v":{"$error":"#N/A"}},{"$f":"($P15*1000)/VLOOKUP(Output!$G$9,lookup!$A$245:$Q$271,4,0)","v":{"$error":"#N/A"}}]
["Nov",{"$f":"VLOOKUP(Output!$G$9,lookup!$A$272:$Q$298,8,0)","v":{"$error":"#N/A"}},{"$f":"($B16*1000)/VLOOKUP(Output!$G$9,lookup!$A$272:$Q$298,4,0)","v":{"$error":"#N/A"}},{"$f":"VLOOKUP(Output!$G$9,lookup!$A$272:$Q$298,9,0)","v":{"$error":"#N/A"}},{"$f":"($D16*1000)/VLOOKUP(Output!$G$9,lookup!$A$272:$Q$298,4,0)","v":{"$error":"#N/A"}},{"$f":"VLOOKUP(Output!$G$9,lookup!$A$272:$Q$298,10,0)","v":{"$error":"#N/A"}},{"$f":"($F16*1000)/VLOOKUP(Output!$G$9,lookup!$A$272:$Q$298,4,0)","v":{"$error":"#N/A"}},{"$f":"VLOOKUP(Output!$G$9,lookup!$A$272:$Q$298,11,0)","v":{"$error":"#N/A"}},{"$f":"($H16*1000)/VLOOKUP(Output!$G$9,lookup!$A$272:$Q$298,4,0)","v":{"$error":"#N/A"}},{"$f":"VLOOKUP(Output!$G$9,lookup!$A$272:$Q$298,12,0)","v":{"$error":"#N/A"}},{"$f":"($J16*1000)/VLOOKUP(Output!$G$9,lookup!$A$272:$Q$298,4,0)","v":{"$error":"#N/A"}},{"$f":"VLOOKUP(Output!$G$9,lookup!$A$272:$Q$298,13,0)","v":{"$error":"#N/A"}},{"$f":"($L16*1000)/VLOOKUP(Output!$G$9,lookup!$A$272:$Q$298,4,0)","v":{"$error":"#N/A"}},{"$f":"VLOOKUP(Output!$G$9,lookup!$A$272:$Q$298,15,0)","v":{"$error":"#N/A"}},{"$f":"($N16*1000)/VLOOKUP(Output!$G$9,lookup!$A$272:$Q$298,4,0)","v":{"$error":"#N/A"}},{"$f":"VLOOKUP(Output!$G$9,lookup!$A$272:$Q$298,17,0)","v":{"$error":"#N/A"}},{"$f":"($P16*1000)/VLOOKUP(Output!$G$9,lookup!$A$272:$Q$298,4,0)","v":{"$error":"#N/A"}}]
["Dec",{"$f":"VLOOKUP(Output!$G$9,lookup!$A$299:$Q$325,8,0)","v":{"$error":"#N/A"}},{"$f":"($B17*1000)/VLOOKUP(Output!$G$9,lookup!$A$299:$Q$325,4,0)","v":{"$error":"#N/A"}},{"$f":"VLOOKUP(Output!$G$9,lookup!$A$299:$Q$325,9,0)","v":{"$error":"#N/A"}},{"$f":"($D17*1000)/VLOOKUP(Output!$G$9,lookup!$A$299:$Q$325,4,0)","v":{"$error":"#N/A"}},{"$f":"VLOOKUP(Output!$G$9,lookup!$A$299:$Q$325,10,0)","v":{"$error":"#N/A"}},{"$f":"($F17*1000)/VLOOKUP(Output!$G$9,lookup!$A$299:$Q$325,4,0)","v":{"$error":"#N/A"}},{"$f":"VLOOKUP(Output!$G$9,lookup!$A$299:$Q$325,11,0)","v":{"$error":"#N/A"}},{"$f":"($H17*1000)/VLOOKUP(Output!$G$9,lookup!$A$299:$Q$325,4,0)","v":{"$error":"#N/A"}},{"$f":"VLOOKUP(Output!$G$9,lookup!$A$299:$Q$325,12,0)","v":{"$error":"#N/A"}},{"$f":"($J17*1000)/VLOOKUP(Output!$G$9,lookup!$A$299:$Q$325,4,0)","v":{"$error":"#N/A"}},{"$f":"VLOOKUP(Output!$G$9,lookup!$A$299:$Q$325,13,0)","v":{"$error":"#N/A"}},{"$f":"($L17*1000)/VLOOKUP(Output!$G$9,lookup!$A$299:$Q$325,4,0)","v":{"$error":"#N/A"}},{"$f":"VLOOKUP(Output!$G$9,lookup!$A$299:$Q$325,15,0)","v":{"$error":"#N/A"}},{"$f":"($N17*1000)/VLOOKUP(Output!$G$9,lookup!$A$299:$Q$325,4,0)","v":{"$error":"#N/A"}},{"$f":"VLOOKUP(Output!$G$9,lookup!$A$299:$Q$325,17,0)","v":{"$error":"#N/A"}},{"$f":"($P17*1000)/VLOOKUP(Output!$G$9,lookup!$A$299:$Q$325,4,0)","v":{"$error":"#N/A"}}]
[]
[]
[null,null,null,null,"Discharge at  POD (m3/s)",null,null,null,null,null,null,"Comparison Gauges (from NEWT)"]
["Month",0.8,0.7,0.6,0.5,0.4,0.3,0.2,0.05,null,"Month","Candidate 1","Candidate 2","Candidate 3"]
["Jan",{"$f":"(C6/1000)*annual!$A$3","v":{"$error":"#N/A"}},{"$f":"(E6/1000)*annual!$A$3","v":{"$error":"#N/A"}},{"$f":"(G6/1000)*annual!$A$3","v":{"$error":"#N/A"}},{"$f":"(I6/1000)*annual!$A$3","v":{"$error":"#N/A"}},{"$f":"(K6/1000)*annual!$A$3","v":{"$error":"#N/A"}},{"$f":"(M6/1000)*annual!$A$3","v":{"$error":"#N/A"}},{"$f":"(O6/1000)*annual!$A$3","v":{"$error":"#N/A"}},{"$f":"(Q6/1000)*annual!$A$3","v":{"$error":"#N/A"}},null,"Jan",{"$f":"VLOOKUP(variability!$C$3,lookup!$A$2:$Q$28,3,0)","v":{"$error":"#N/A"}},{"$f":"VLOOKUP(variability!$C$9,lookup!$A$2:$Q$28,3,0)","v":{"$error":"#N/A"}},{"$f":"VLOOKUP(variability!$C$15,lookup!$A$2:$Q$28,3,0)","v":{"$error":"#N/A"}}]
["Feb",{"$f":"(C7/1000)*annual!$A$3","v":{"$error":"#N/A"}},{"$f":"(E7/1000)*annual!$A$3","v":{"$error":"#N/A"}},{"$f":"(G7/1000)*annual!$A$3","v":{"$error":"#N/A"}},{"$f":"(I7/1000)*annual!$A$3","v":{"$error":"#N/A"}},{"$f":"(K7/1000)*annual!$A$3","v":{"$error":"#N/A"}},{"$f":"(M7/1000)*annual!$A$3","v":{"$error":"#N/A"}},{"$f":"(O7/1000)*annual!$A$3","v":{"$error":"#N/A"}},{"$f":"(Q7/1000)*annual!$A$3","v":{"$error":"#N/A"}},null,"Feb",{"$f":"VLOOKUP(variability!$D$3,lookup!$A$29:$Q$55,3,0)","v":{"$error":"#N/A"}},{"$f":"VLOOKUP(variability!$D$9,lookup!$A$29:$Q$55,3,0)","v":{"$error":"#N/A"}},{"$f":"VLOOKUP(variability!$D$15,lookup!$A$29:$Q$55,3,0)","v":{"$error":"#N/A"}}]
["Mar",{"$f":"(C8/1000)*annual!$A$3","v":{"$error":"#N/A"}},{"$f":"(E8/1000)*annual!$A$3","v":{"$error":"#N/A"}},{"$f":"(G8/1000)*annual!$A$3","v":{"$error":"#N/A"}},{"$f":"(I8/1000)*annual!$A$3","v":{"$error":"#N/A"}},{"$f":"(K8/1000)*annual!$A$3","v":{"$error":"#N/A"}},{"$f":"(M8/1000)*annual!$A$3","v":{"$error":"#N/A"}},{"$f":"(O8/1000)*annual!$A$3","v":{"$error":"#N/A"}},{"$f":"(Q8/1000)*annual!$A$3","v":{"$error":"#N/A"}},null,"Mar",{"$f":"VLOOKUP(variability!$E$3,lookup!$A$56:$Q$82,3,0)","v":{"$error":"#N/A"}},{"$f":"VLOOKUP(variability!$E$9,lookup!$A$56:$Q$82,3,0)","v":{"$error":"#N/A"}},{"$f":"VLOOKUP(variability!$E$15,lookup!$A$56:$Q$82,3,0)","v":{"$error":"#N/A"}}]
["Apr",{"$f":"(C9/1000)*annual!$A$3","v":{"$error":"#N/A"}},{"$f":"(E9/1000)*annual!$A$3","v":{"$error":"#N/A"}},{"$f":"(G9/1000)*annual!$A$3","v":{"$error":"#N/A"}},{"$f":"(I9/1000)*annual!$A$3","v":{"$error":"#N/A"}},{"$f":"(K9/1000)*annual!$A$3","v":{"$error":"#N/A"}},{"$f":"(M9/1000)*annual!$A$3","v":{"$error":"#N/A"}},{"$f":"(O9/1000)*annual!$A$3","v":{"$error":"#N/A"}},{"$f":"(Q9/1000)*annual!$A$3","v":{"$error":"#N/A"}},null,"Apr",{"$f":"VLOOKUP(variability!$F$3,lookup!$A$83:$Q$109,3,0)","v":{"$error":"#N/A"}},{"$f":"VLOOKUP(variability!$F$9,lookup!$A$83:$Q$109,3,0)","v":{"$error":"#N/A"}},{"$f":"VLOOKUP(variability!$F$15,lookup!$A$83:$Q$109,3,0)","v":{"$error":"#N/A"}}]
["May",{"$f":"(C10/1000)*annual!$A$3","v":{"$error":"#N/A"}},{"$f":"(E10/1000)*annual!$A$3","v":{"$error":"#N/A"}},{"$f":"(G10/1000)*annual!$A$3","v":{"$error":"#N/A"}},{"$f":"(I10/1000)*annual!$A$3","v":{"$error":"#N/A"}},{"$f":"(K10/1000)*annual!$A$3","v":{"$error":"#N/A"}},{"$f":"(M10/1000)*annual!$A$3","v":{"$error":"#N/A"}},{"$f":"(O10/1000)*annual!$A$3","v":{"$error":"#N/A"}},{"$f":"(Q10/1000)*annual!$A$3","v":{"$error":"#N/A"}},null,"May",{"$f":"VLOOKUP(variability!$G$3,lookup!$A$110:$Q$136,3,0)","v":{"$error":"#N/A"}},{"$f":"VLOOKUP(variability!$G$9,lookup!$A$110:$Q$136,3,0)","v":{"$error":"#N/A"}},{"$f":"VLOOKUP(variability!$G$15,lookup!$A$110:$Q$136,3,0)","v":{"$error":"#N/A"}}]
["Jun",{"$f":"(C11/1000)*annual!$A$3","v":{"$error":"#N/A"}},{"$f":"(E11/1000)*annual!$A$3","v":{"$error":"#N/A"}},{"$f":"(G11/1000)*annual!$A$3","v":{"$error":"#N/A"}},{"$f":"(I11/1000)*annual!$A$3","v":{"$error":"#N/A"}},{"$f":"(K11/1000)*annual!$A$3","v":{"$error":"#N/A"}},{"$f":"(M11/1000)*annual!$A$3","v":{"$error":"#N/A"}},{"$f":"(O11/1000)*annual!$A$3","v":{"$error":"#N/A"}},{"$f":"(Q11/1000)*annual!$A$3","v":{"$error":"#N/A"}},null,"Jun",{"$f":"VLOOKUP(variability!$H$3,lookup!$A$137:$Q$163,3,0)","v":{"$error":"#N/A"}},{"$f":"VLOOKUP(variability!$H$9,lookup!$A$137:$Q$163,3,0)","v":{"$error":"#N/A"}},{"$f":"VLOOKUP(variability!$H$15,lookup!$A$137:$Q$163,3,0)","v":{"$error":"#N/A"}}]
["Jul",{"$f":"(C12/1000)*annual!$A$3","v":{"$error":"#N/A"}},{"$f":"(E12/1000)*annual!$A$3","v":{"$error":"#N/A"}},{"$f":"(G12/1000)*annual!$A$3","v":{"$error":"#N/A"}},{"$f":"(I12/1000)*annual!$A$3","v":{"$error":"#N/A"}},{"$f":"(K12/1000)*annual!$A$3","v":{"$error":"#N/A"}},{"$f":"(M12/1000)*annual!$A$3","v":{"$error":"#N/A"}},{"$f":"(O12/1000)*annual!$A$3","v":{"$error":"#N/A"}},{"$f":"(Q12/1000)*annual!$A$3","v":{"$error":"#N/A"}},null,"Jul",{"$f":"VLOOKUP(variability!$I$3,lookup!$A$164:$Q$190,3,0)","v":{"$error":"#N/A"}},{"$f":"VLOOKUP(variability!$I$9,lookup!$A$164:$Q$190,3,0)","v":{"$error":"#N/A"}},{"$f":"VLOOKUP(variability!$I$15,lookup!$A$164:$Q$190,3,0)","v":{"$error":"#N/A"}}]
["Aug",{"$f":"(C13/1000)*annual!$A$3","v":{"$error":"#N/A"}},{"$f":"(E13/1000)*annual!$A$3","v":{"$error":"#N/A"}},{"$f":"(G13/1000)*annual!$A$3","v":{"$error":"#N/A"}},{"$f":"(I13/1000)*annual!$A$3","v":{"$error":"#N/A"}},{"$f":"(K13/1000)*annual!$A$3","v":{"$error":"#N/A"}},{"$f":"(M13/1000)*annual!$A$3","v":{"$error":"#N/A"}},{"$f":"(O13/1000)*annual!$A$3","v":{"$error":"#N/A"}},{"$f":"(Q13/1000)*annual!$A$3","v":{"$error":"#N/A"}},null,"Aug",{"$f":"VLOOKUP(variability!$J$3,lookup!$A$191:$Q$217,3,0)","v":{"$error":"#N/A"}},{"$f":"VLOOKUP(variability!$J$9,lookup!$A$191:$Q$217,3,0)","v":{"$error":"#N/A"}},{"$f":"VLOOKUP(variability!$J$15,lookup!$A$191:$Q$217,3,0)","v":{"$error":"#N/A"}}]
["Sep",{"$f":"(C14/1000)*annual!$A$3","v":{"$error":"#N/A"}},{"$f":"(E14/1000)*annual!$A$3","v":{"$error":"#N/A"}},{"$f":"(G14/1000)*annual!$A$3","v":{"$error":"#N/A"}},{"$f":"(I14/1000)*annual!$A$3","v":{"$error":"#N/A"}},{"$f":"(K14/1000)*annual!$A$3","v":{"$error":"#N/A"}},{"$f":"(M14/1000)*annual!$A$3","v":{"$error":"#N/A"}},{"$f":"(O14/1000)*annual!$A$3","v":{"$error":"#N/A"}},{"$f":"(Q14/1000)*annual!$A$3","v":{"$error":"#N/A"}},null,"Sep",{"$f":"VLOOKUP(variability!$K$3,lookup!$A$218:$Q$244,3,0)","v":{"$error":"#N/A"}},{"$f":"VLOOKUP(variability!$K$9,lookup!$A$218:$Q$244,3,0)","v":{"$error":"#N/A"}},{"$f":"VLOOKUP(variability!$K$15,lookup!$A$218:$Q$244,3,0)","v":{"$error":"#N/A"}}]
["Oct",{"$f":"(C15/1000)*annual!$A$3","v":{"$error":"#N/A"}},{"$f":"(E15/1000)*annual!$A$3","v":{"$error":"#N/A"}},{"$f":"(G15/1000)*annual!$A$3","v":{"$error":"#N/A"}},{"$f":"(I15/1000)*annual!$A$3","v":{"$error":"#N/A"}},{"$f":"(K15/1000)*annual!$A$3","v":{"$error":"#N/A"}},{"$f":"(M15/1000)*annual!$A$3","v":{"$error":"#N/A"}},{"$f":"(O15/1000)*annual!$A$3","v":{"$error":"#N/A"}},{"$f":"(Q15/1000)*annual!$A$3","v":{"$error":"#N/A"}},null,"Oct",{"$f":"VLOOKUP(variability!$L$3,lookup!$A$245:$Q$271,3,0)","v":{"$error":"#N/A"}},{"$f":"VLOOKUP(variability!$L$9,lookup!$A$245:$Q$271,3,0)","v":{"$error":"#N/A"}},{"$f":"VLOOKUP(variability!$L$15,lookup!$A$245:$Q$271,3,0)","v":{"$error":"#N/A"}}]
["Nov",{"$f":"(C16/1000)*annual!$A$3","v":{"$error":"#N/A"}},{"$f":"(E16/1000)*annual!$A$3","v":{"$error":"#N/A"}},{"$f":"(G16/1000)*annual!$A$3","v":{"$error":"#N/A"}},{"$f":"(I16/1000)*annual!$A$3","v":{"$error":"#N/A"}},{"$f":"(K16/1000)*annual!$A$3","v":{"$error":"#N/A"}},{"$f":"(M16/1000)*annual!$A$3","v":{"$error":"#N/A"}},{"$f":"(O16/1000)*annual!$A$3","v":{"$error":"#N/A"}},{"$f":"(Q16/1000)*annual!$A$3","v":{"$error":"#N/A"}},null,"Nov",{"$f":"VLOOKUP(variability!$M$3,lookup!$A$272:$Q$298,3,0)","v":{"$error":"#N/A"}},{"$f":"VLOOKUP(variability!$M$9,lookup!$A$272:$Q$298,3,0)","v":{"$error":"#N/A"}},{"$f":"VLOOKUP(variability!$M$15,lookup!$A$272:$Q$298,3,0)","v":{"$error":"#N/A"}}]
["Dec",{"$f":"(C17/1000)*annual!$A$3","v":{"$error":"#N/A"}},{"$f":"(E17/1000)*annual!$A$3","v":{"$error":"#N/A"}},{"$f":"(G17/1000)*annual!$A$3","v":{"$error":"#N/A"}},{"$f":"(I17/1000)*annual!$A$3","v":{"$error":"#N/A"}},{"$f":"(K17/1000)*annual!$A$3","v":{"$error":"#N/A"}},{"$f":"(M17/1000)*annual!$A$3","v":{"$error":"#N/A"}},{"$f":"(O17/1000)*annual!$A$3","v":{"$error":"#N/A"}},{"$f":"(Q17/1000)*annual!$A$3","v":{"$error":"#N/A"}},null,"Dec",{"$f":"VLOOKUP(variability!$N$3,lookup!$A$299:$Q$325,3,0)","v":{"$error":"#N/A"}},{"$f":"VLOOKUP(variability!$N$9,lookup!$A$299:$Q$325,3,0)","v":{"$error":"#N/A"}},{"$f":"VLOOKUP(variability!$N$15,lookup!$A$299:$Q$325,3,0)","v":{"$error":"#N/A"}}]

{"sheet":"lookup","index":8,"n_rows":325,"n_cols":17,"rows_kept":325,"cut":false,"hidden":false,"merged":[]}
["WSC","Month","Name","Drainage Area (km2)","NEWT Mean (m3/s)","Adjustment NEWT:WSC","Mean","80th %tile","70th %tile","60th %tile","Median","40th %tile","30th %tile","25th %tile","20th %tile","10th %tile","5th %tile"]
["07FA001","Jan","Halfway (FA001)",9400,13,{"$f":"G2/E2","v":0.95115012406947941},12.364951612903232,15.820000000000006,14.4,13.7,12.45,10.5,9.6300000000000008,9.3624999999999989,8.7739999999999991,7.08,6.5495000000000001]
["07FA003","Jan","Halfway ",3764,6.76,0.91900843389677034,6.2124970131421673,7.22,6.76,6.2319999999999993,5.75,5.21,4.9000000000000004,4.7300000000000004,4.4000000000000004,3.8860000000000001,3.46]
["07FA005","Jan","Graham ",2142,5.35,0.98720943147739726,5.281570458404075,6.15,5.859,5.46,5.21,4.88,4.5999999999999996,4.4024999999999999,4.3,4.04,3.7885]
["07FA006","Jan","Halfway (FA006)",9340,13,0.94597210113339303,12.297637314734109,15.3,14.2,13,12,11.2,10.6,10.199999999999999,9.68,8.5,7.74]
["07FB001","Jan","Pine",12147,41.66,0.89891446035147837,37.448776418242588,47.02,42.2,39,35.4,33.200000000000003,30.2,29.2,27.9,24.3,21.5]
["07FB003","Jan","Sukunka",2590,12.19,0.81891375316049253,9.9825586510264035,12.6,11.1,10.199999999999999,9.0350000000000001,8.2060000000000013,7.61,7.42,7.23,6.4,5.6975000000000007]
["07FB004","Jan","Dickebusch",82.4,0.08,0.58551136363636302,4.6840909090909044E-2,8.5999999999999993E-2,5.8999999999999997E-2,4.4799999999999951E-2,3.4000000000000002E-2,2.1999999999999999E-2,1.4E-2,0.01,7.0000000000000001E-3,3.0000000000000001E-3,1E-3]
["07FB005","Jan","Quality",29.5,0.02,1.2074333800841532,2.4148667601683063E-2,4.2000000000000003E-2,3.4000000000000002E-2,2.8399999999999977E-2,1.7999999999999999E-2,1.4999999999999999E-2,1.2E-2,9.2499999999999995E-3,7.0000000000000001E-3,2E-3,1E-3]
["07FB008","Jan","Moberly",1520,2.02,0.96385264102447121,1.946982334869432,2.6320000000000006,2.15,1.99,1.85,1.6260000000000001,1.39,1.31,1.1200000000000001,0.65270000000000006,0.50775000000000003]
["07FB009","Jan","Flatbed",486,0.53,1.2068376068376063,0.63962393162393139,0.85960000000000014,0.72,0.61920000000000008,0.55900000000000005,0.50540000000000007,0.441,0.42399999999999999,0.39020000000000005,0.315,0.18910000000000002]
["07FB011","Jan","Windrem",22.9,0.01]
["07FC001","Jan","Beatton",15523,3.2,{"$f":"G13/E13","v":0.4313719758064512},1.380390322580644,2.0720000000000005,1.7,1.4339999999999997,1.25,1.05,0.8627999999999999,0.70274999999999999,0.57999999999999996,0.33990000000000004,0.27200000000000002]
["07FC002","Jan","St John ",213,0.03,0.15448460508701473,4.6345381526104413E-3,6.0000000000000001E-3,4.5999999999999947E-3,3.0000000000000001E-3,2E-3,0,0,0,0,0,0]
["07FC003","Jan","Blueberry",1774,0.32,0.27843822004608276,8.910023041474649E-2,0.14099999999999999,0.11899999999999999,0.10299999999999999,0.08,6.5000000000000002E-2,5.0999999999999997E-2,4.1000000000000002E-2,3.1E-2,0.01,3.0000000000000001E-3]
["07FD001","Jan","Kiskatinaw ",3597,0.95,1.0630723762812051,1.0099187574671449,1.4740000000000009,1.19,1.02,0.8,0.68700000000000006,0.53800000000000003,0.47124999999999995,0.43360000000000004,0.22130000000000002,0.14000000000000001]
["07FD002","Jan","Peace",100853,1448,0.8978327845479166,1300.0618720253833,1720,1630,1560,1480,1370,1170,994,820,342.70000000000005,311]
["07FD004","Jan","Alces ",339,0.04,0.40931590656284667,1.6372636262513868E-2,2.9000000000000001E-2,2.5000000000000001E-2,1.7999999999999999E-2,1.2999999999999999E-2,8.0000000000000002E-3,4.0000000000000001E-3,3.0000000000000001E-3,1E-3,0,0]
["07FD007","Jan","Pouce Coupe",2860,0.49,0.56402028210048494,0.27636993822923761,0.46,0.29729999999999995,0.21839999999999998,0.14000000000000001,0.1,8.5000000000000006E-2,7.5999999999999998E-2,5.3999999999999999E-2,2.1000000000000001E-2,1.4999999999999999E-2]
["07FD009","Jan","Clear ",2880]
["07FD011","Jan","Hines",374]
["07FD015","Jan","Dawson",116,0.02]
["10CA001","Jan","Fontas",7400,1.66,{"$f":"G23/E23","v":1.0180072905638113},1.6898921023359266,2.3520000000000003,1.92,1.6639999999999997,1.51,1.2660000000000002,1.1499999999999999,1.0900000000000001,0.9870000000000001,0.71970000000000001,0.64380000000000004]
["10CB001","Jan","Sikanni Chief",2196,5.95,0.89393267743530025,5.3188994307400366,6.25,5.92,5.55,5.3,5.0999999999999996,4.84,4.66,4.54,3.8,3.09]
["10CD003","Jan","Raspberry ",288,0.02,8.3477576711250348E-2,1.6695515342250069E-3,1E-3,0,0,0,0,0,0,0,0,0]
["10CD004","Jan","Bougie ",338,0.1,3.5772495755517685E-2,3.5772495755517688E-3,4.0000000000000001E-3,0,0,0,0,0,0,0,0,0]
["10CD005","Jan","Adsett ",112,0.02,0.42197035745422828,8.4394071490845653E-3,1.4E-2,6.0000000000000001E-3,2E-3,0,0,0,0,0,0,0]
["10CD006","Jan","Prophet",7320,10.68,0.66590724727730866,7.1118894009216564,9.3000000000000007,8.8789999999999996,7.339999999999999,6.8,6.1,5.641,5.0924999999999994,4.8580000000000005,4.5999999999999996,4.5]
["07FA001","Feb","Halfway (FA001)",9400,11.94,0.88147361883690534,10.524795008912649,12.4,11.9,11.4,11,9.91,8.89,8.2100000000000009,7.79,5.8,5.2]
["07FA003","Feb","Halfway ",3764,6.2,0.87542124994850223,5.4276117496807137,6.03,5.5379999999999994,5.21,4.93,4.7160000000000002,4.42,4.25,4.008,3.702,2.9320000000000004]
["07FA005","Feb","Graham ",2142,4.9400000000000004,0.94636068392396622,4.6750217785843935,5.3280000000000012,5.0199999999999996,4.8460000000000001,4.6500000000000004,4.5199999999999996,4.2830000000000004,4.2,4.17,3.9,3.61]
["07FA006","Feb","Halfway (FA006)",9340,11.94,0.91017183730751627,10.867451737451743,12.8,12,11.2,10.5,10,9.7200000000000006,9.5249999999999986,9.1999999999999993,8.36,7.6]
["07FB001","Feb","Pine",12147,34.96,0.94526573649265577,33.046490147783246,39.740000000000009,35.700000000000003,33,30.6,28.3,26,24.675000000000001,23.5,20.9,18.215]
["07FB003","Feb","Sukunka",2590,10.59,0.80102675888794828,8.4828733766233722,9.8160000000000025,9.1,8.4,7.6,7.0340000000000007,6.4430000000000005,6.2,5.8,5.12,4.5165000000000006]
["07FB004","Feb","Dickebusch",82.4,7.0000000000000007E-2,0.49664888682745989,3.4765422077922194E-2,6.0999999999999999E-2,4.3999999999999997E-2,3.5000000000000003E-2,2.1999999999999999E-2,1.6E-2,0.01,7.0000000000000001E-3,4.2000000000000171E-3,2E-3,0]
["07FB005","Feb","Quality",29.5,0.02,0.93027950310558982,1.8605590062111797E-2,3.1E-2,2.5000000000000001E-2,0.02,1.7000000000000001E-2,1.4E-2,6.0000000000000001E-3,5.0000000000000001E-3,2E-3,1E-3,0]
["07FB008","Feb","Moberly",1520,1.78,0.85560269051440818,1.5229727891156466,1.93,1.8,1.72,1.5550000000000002,1.4,1.24,1.0275000000000001,0.86499999999999999,0.63200000000000001,0.45474999999999999]
["07FB009","Feb","Flatbed",486,0.48,1.129468201754386,0.54214473684210529,0.72280000000000011,0.62709999999999988,0.54100000000000004,0.47499999999999998,0.42599999999999999,0.38200000000000001,0.36799999999999999,0.35260000000000002,0.26,0.16215000000000002]
["07FB011","Feb","Windrem",22.9,0.01]
["07FC001","Feb","Beatton",15523,2.69,{"$f":"G40/E40","v":0.38972012745618645},1.0483471428571416,1.56,1.3129999999999995,1.1200000000000001,0.95,0.81759999999999999,0.66,0.58074999999999999,0.52,0.28999999999999998,0.16965000000000002]
["07FC002","Feb","St John ",213,0.02,0.15000000000000011,3.0000000000000022E-3,6.0000000000000001E-3,2E-3,0,0,0,0,0,0,0,0]
["07FC003","Feb","Blueberry",1774,0.28999999999999998,0.25148882828993563,7.2931760204081333E-2,0.115,9.5000000000000001E-2,7.6999999999999999E-2,7.0999999999999994E-2,6.0800000000000069E-2,4.5999999999999999E-2,3.6999999999999998E-2,2.8400000000000036E-2,4.0000000000000001E-3,1E-3]
["07FD001","Feb","Kiskatinaw ",3597,0.75,1.2217650063856993,0.91632375478927452,1.39,1.0950000000000002,0.9,0.68450000000000011,0.60499999999999998,0.501,0.46,0.39200000000000002,0.21249999999999999,0.13425000000000001]
["07FD002","Feb","Peace",100853,1411,0.89482312775001371,1262.5954332552694,1720,1630,1550,1430,1280,1040,946,716.60000000000014,334,283]
["07FD004","Feb","Alces ",339,0.03,0.56896551724137812,1.7068965517241342E-2,2.9800000000000066E-2,2.1999999999999999E-2,1.9E-2,1.2E-2,8.4000000000000342E-3,4.0000000000000001E-3,2E-3,1E-3,0,0]
["07FD007","Feb","Pouce Coupe",2860,0.34,0.85041793313069769,0.28914209726443724,0.48099999999999998,0.30849999999999989,0.21,0.16800000000000001,0.114,8.2000000000000003E-2,7.0999999999999994E-2,5.6000000000000001E-2,2.5999999999999999E-2,1.7999999999999999E-2]
["07FD009","Feb","Clear ",2880]
["07FD011","Feb","Hines",374]
["07FD015","Feb","Dawson",116,0.02]
["10CA001","Feb","Fontas",7400,0.8,{"$f":"G50/E50","v":1.5183928571428569},1.2147142857142856,1.63,1.43,1.26,1.1599999999999999,1.06,1,0.90749999999999997,0.752,0.55000000000000004,0.48660000000000003]
["10CB001","Feb","Sikanni Chief",2196,5.14,0.92792479933070837,4.7695334685598407,5.5,5.2,4.9000000000000004,4.6500000000000004,4.45,4.28,4.2,4.1059999999999999,3.86,3.4]
["10CD003","Feb","Raspberry ",288,0.01,3.01093355761144E-2,3.0109335576114401E-4,0,0,0,0,0,0,0,0,0,0]
["10CD004","Feb","Bougie ",338,0.09,3.9745916515426402E-2,3.577132486388376E-3,2E-3,1E-3,0,0,0,0,0,0,0,0]
["10CD005","Feb","Adsett ",112,0.02,0.23350419384902069,4.6700838769804139E-3,5.0000000000000001E-3,3.0000000000000001E-3,2E-3,1E-3,0,0,0,0,0,0]
["10CD006","Feb","Prophet",7320,9.66,0.61744728947479655,5.9645408163265348,7.3,6.8,6.4,5.8000000000000007,4.8,4.6400000000000006,4.57,4.5,4.335,4.25]
["07FA001","Mar","Halfway (FA001)",9400,11.78,0.86448550861335993,10.183639291465379,12.5,11.3,10.8,10.4,9.9,9.0500000000000007,8.2100000000000009,7.65,6.51,5.25]
["07FA003","Mar","Halfway ",3764,5.87,0.95079571520743178,5.5811708482676243,5.95,5.6019999999999994,5.4,5.2,4.9000000000000004,4.6379999999999999,4.47,4.25,3.71,3.4660000000000002]
["07FA005","Mar","Graham ",2142,4.5599999999999996,1.0145429362880904,4.6263157894736917,5.03,4.8,4.5999999999999996,4.49,4.37,4.2,4.0999999999999996,4.03,3.71,3.4184999999999999]
["07FA006","Mar","Halfway (FA006)",9340,11.78,0.9304334182476468,10.960505666957278,12.780000000000006,11.619999999999992,11.1,10.4,9.6199999999999992,9.3000000000000007,9.18,9,8,7.2930000000000001]
["07FB001","Mar","Pine",12147,37.03,0.98191136849928073,36.360177975528366,44.560000000000016,38.5,33.4,30,28.3,25.8,24.9,24,20.770000000000003,17.285]
["07FB003","Mar","Sukunka",2590,10.99,0.86902049050189512,9.5505351906158271,11.4,9.83,8.24,7.3449999999999998,6.7420000000000009,6.1,5.85,5.6260000000000003,4.95,4.5199999999999996]
["07FB004","Mar","Dickebusch",82.4,0.09,0.61045128706419083,5.4940615835777175E-2,7.4999999999999997E-2,5.8000000000000003E-2,4.4999999999999998E-2,3.4000000000000002E-2,2.4E-2,1.2999999999999999E-2,1.0999999999999999E-2,8.9999999999999993E-3,3.0000000000000001E-3,1E-3]
["07FB005","Mar","Quality",29.5,0.03,0.93847592332865737,2.8154277699859721E-2,3.7600000000000022E-2,3.3000000000000002E-2,2.8000000000000001E-2,2.1999999999999999E-2,1.7000000000000001E-2,0.01,6.0000000000000001E-3,5.0000000000000001E-3,2E-3,1E-3]
["07FB008","Mar","Moberly",1520,2.02,0.86201122416388887,1.7412626728110556,2.13,1.82,1.65,1.52,1.4,1.2430000000000001,1.1100000000000001,1.02,0.76549999999999996,0.46544999999999997]
["07FB009","Mar","Flatbed",486,0.68,0.94867672026365835,0.64510016977928775,0.80260000000000009,0.68989999999999996,0.58339999999999981,0.5,0.46680000000000005,0.40799999999999997,0.38,0.35499999999999998,0.27800000000000002,0.22084999999999999]
["07FB011","Mar","Windrem",22.9,0.02,null,6.2E-2]
["07FC001","Mar","Beatton",15523,4.76,{"$f":"G67/E67","v":0.53055150447275734},2.5254251612903249,2.2620000000000005,1.58,1.26,1.04,0.90360000000000018,0.71699999999999997,0.65850000000000009,0.60499999999999998,0.38,0.26845000000000002]
["07FC002","Mar","St John ",213,0.05,4.9244354838709681,0.2462217741935484,3.6999999999999998E-2,1.9E-2,8.0000000000000002E-3,8.0000000000000002E-3,3.0000000000000001E-3,2E-3,0,0,0,0]
["07FC003","Mar","Blueberry",1774,0.5,0.39034331797235006,0.19517165898617503,0.16400000000000001,0.13500000000000001,0.11,9.2999999999999999E-2,0.08,6.6000000000000003E-2,5.1999999999999998E-2,3.5999999999999997E-2,1.2999999999999999E-2,2E-3]
["07FD001","Mar","Kiskatinaw ",3597,1.38,1.0866638962478139,1.499596176821983,1.9,1.52,1.2,0.91149999999999998,0.77060000000000017,0.63,0.55500000000000005,0.48060000000000003,0.2863,0.161]
["07FD002","Mar","Peace",100853,1305,0.89647837812100473,1169.9042834479112,1590,1510,1410,1290,1130,974,878.5,715,323,249.5]
["07FD004","Mar","Alces ",339,0.06,1.3153318502039302,7.8919911012235805E-2,6.4400000000000096E-2,0.04,2.5999999999999999E-2,0.02,1.7000000000000001E-2,1.0999999999999999E-2,6.0000000000000001E-3,4.0000000000000001E-3,2E-3,0]
["07FD007","Mar","Pouce Coupe",2860,0.77,1.6831730383549182,1.296043239533287,1,0.53800000000000003,0.38420000000000004,0.26500000000000001,0.19079999999999997,0.108,8.6999999999999994E-2,6.0999999999999999E-2,0.04,1.9E-2]
["07FD009","Mar","Clear ",2880,null,null,0.43262536023054715,0.14060000000000014,7.0999999999999994E-2,4.9199999999999931E-2,0.01,0,0,0,0,0,0]
["07FD011","Mar","Hines",374,null,null,1.9754150197628464E-2,5.0000000000000001E-3,2E-3,0,0,0,0,0,0,0,0]
["07FD015","Mar","Dawson",116,0.04]
["10CA001","Mar","Fontas",7400,1.76,{"$f":"G77/E77","v":1.0907991202346039},1.9198064516129028,1.49,1.34,1.2279999999999995,1.1499999999999999,1.06,0.95199999999999996,0.9,0.77,0.51,0.37650000000000006]
["10CB001","Mar","Sikanni Chief",2196,4.5,1.0250108932461874,4.6125490196078438,5.25,4.95,4.58,4.3899999999999997,4.2,4.05,4,3.95,3.72,3.48]
["10CD003","Mar","Raspberry ",288,0.03,0.1575516693163749,4.7265500794912473E-3,3.0000000000000001E-3,1E-3,0,0,0,0,0,0,0,0]
["10CD004","Mar","Bougie ",338,0.16,0.14475806451612916,2.3161290322580668E-2,8.9999999999999993E-3,4.0000000000000001E-3,2E-3,1E-3,0,0,0,0,0,0]
["10CD005","Mar","Adsett ",112,0.04,0.29723190932868249,1.18892763731473E-2,0.01,6.0000000000000001E-3,4.0000000000000001E-3,2E-3,1E-3,0,0,0,0,0]
["10CD006","Mar","Prophet",7320,8.51,0.73835065279665579,6.2833640552995407,8.2800000000000011,7.6039999999999992,7.1099999999999994,4.95,4.68,4.42,4.2300000000000004,3.9,3.3800000000000003,2.46]
["07FA001","Apr","Halfway (FA001)",9400,34.049999999999997,1.0562026431718059,35.963699999999989,45.3,31.1,22.7,17.200000000000003,13.760000000000002,11.8,10.8,10.199999999999999,8.92,8.2955000000000005]
["07FA003","Apr","Halfway",3764,15.16,0.9435771523502402,14.304629629629641,18.8,15,12.9,10.4,8.6,7.4609999999999994,6.8,6.09,5.0999999999999996,4.6234999999999999]
["07FA005","Apr","Graham ",2142,11.29,0.66611812969092343,7.5204736842105246,10.1,8.343,6.95,6.25,5.5460000000000003,5.0199999999999996,4.74,4.508,3.7589999999999999,3.1280000000000001]
["07FA006","Apr","Halfway (FA006)",9340,34.049999999999997,0.91451283883001944,31.139162162162158,42.660000000000018,31.5,25.04,20.2,16,13.1,12.4,11.8,10.3,9.4700000000000006]
["07FB001","Apr","Pine",12147,94.43,1.1420921171310987,107.84775862068966,155,111.29999999999995,83.819999999999965,68,54,42.939999999999984,39.075000000000003,35.4,28.19,23.7]
["07FB003","Apr","Sukunka",2590,28.43,1.310025687760475,37.244030303030307,61.52,41.9,27.079999999999995,19.05,13.760000000000002,11.2,9.8000000000000007,8.9,6.8,5.7689999999999992]
["07FB004","Apr","Dickebusch",82.4,0.35,1.6978809523809535,0.59425833333333367,0.91140000000000054,0.52929999999999999,0.34279999999999994,0.22,0.128,8.0699999999999994E-2,6.5000000000000002E-2,0.05,2.4E-2,1.4E-2]
["07FB005","Apr","Quality",29.5,0.13,2.416332218506132,0.31412318840579717,0.52820000000000034,0.32239999999999963,0.2,0.12,0.06,0.04,3.4000000000000002E-2,0.03,1.7999999999999999E-2,8.9999999999999993E-3]
["07FB008","Apr","Moberly",1520,6.69,0.97501732033122102,6.5228658730158688,10.320000000000006,6.5119999999999978,4.2679999999999998,3.3449999999999998,2.72,2.36,2.0474999999999999,1.85,1.47,1.2095]
["07FB009","Apr","Flatbed",486,2.48,1.912452956989247,4.7428833333333325,7.6720000000000006,4.8759999999999994,3.19,2.08,1.4,0.9645999999999999,0.8,0.68900000000000006,0.44,0.30195]
["07FB011","Apr","Windrem",22.9,7.0000000000000007E-2,2.11351869606903,0.14794630872483211,0.157,0.127,0.107,6.6000000000000003E-2,4.5999999999999999E-2,4.2000000000000003E-2,0.04,2.5800000000000003E-2,0.01,3.4000000000000002E-3]
["07FC001","Apr","Beatton",15523,26.99,2.9619859948128933,79.944001999999983,123.20000000000005,71.929999999999993,45.2,26.75,13.8,6.6789999999999994,4.415,3.0740000000000003,1.387,0.95599999999999996]
["07FC002","Apr","St John ",213,0.3,11.92927160493827,3.5787814814814811,6.2060000000000004,4.2319999999999975,2.7480000000000002,1.73,0.99680000000000024,0.60840000000000005,0.501,0.40380000000000005,1.9700000000000006E-2,8.0000000000000002E-3]
["07FC003","Apr","Blueberry",1774,3.05,3.5765001951600301,10.908325595238091,17.520000000000003,9.1999999999999993,5.0539999999999994,3.01,1.4120000000000004,0.6341,0.42799999999999999,0.29780000000000001,0.14699999999999999,8.2000000000000003E-2]
["07FD001","Apr","Kiskatinaw",3597,6.38,3.3904022020976079,21.630766049382739,32.520000000000003,19.329999999999995,13.9,8.9600000000000009,5.2960000000000003,2.95,2.2949999999999999,1.73,1.0290000000000001,0.6986]
["07FD002","Apr","Peace",100853,1302,0.92483191055375091,1204.1311475409836,1570,1470,1360,1240,1120,989.69999999999993,900.75,801,531.5,356.70000000000005]
["07FD004","Apr","Alces ",339,0.35,4.4434975369458138,1.5552241379310348,2.6320000000000006,1.44,0.95459999999999978,0.59549999999999992,0.33,0.14739999999999998,9.7250000000000003E-2,5.8999999999999997E-2,2.2900000000000004E-2,6.0000000000000001E-3]
["07FD007","Apr","Pouce Coupe",2860,3.97,5.9015380166060245,23.429105925925917,37.340000000000003,20,11.7,6.4350000000000005,3.26,1.95,1.36,0.90680000000000005,0.31980000000000003,0.11045000000000001]
["07FD009","Apr","Clear ",2880,null,null,18.327262368815596,26.240000000000009,17.609999999999992,10.9,7.3849999999999998,3.9640000000000009,1.7,0.878,0.49020000000000002,0.1,1.4E-2]
["07FD011","Apr","Hines",374,null,null,0.91227804878048735,1.04,0.60929999999999995,0.38279999999999997,0.23449999999999999,0.12360000000000002,3.3000000000000002E-2,1.4999999999999999E-2,6.0000000000000001E-3,0,0]
["07FD015","Apr","Dawson",116,0.19,null,1.301857142857143,1.88,1.4,0.98299999999999998,0.49299999999999999,0.24399999999999999,0.17299999999999999,0.13450000000000001,8.4000000000000005E-2,2.9000000000000001E-2,1.55E-2]
["10CA001","Apr","Fontas",7400,12.65,{"$f":"G104/E104","v":2.0197530325746231},25.549875862068983,38.260000000000019,17,9.2039999999999953,5.3049999999999997,3.1260000000000012,1.6,1.4324999999999999,1.34,1.0900000000000001,0.89]
["10CB001","Apr","Sikanni Chief",2196,9.43,0.92864519438033255,8.7571241830065354,10.3,8.4,7,5.95,5.35,4.9000000000000004,4.6500000000000004,4.4780000000000006,4.12,3.93]
["10CD003","Apr","Raspberry ",288,0.56999999999999995,1.7416286549707616,0.99272833333333399,1.0920000000000005,0.33559999999999995,0.1694,5.7500000000000002E-2,2.5000000000000001E-2,7.0000000000000001E-3,3.0000000000000001E-3,2E-3,0,0]
["10CD004","Apr","Bougie ",338,1.31,1.1140819606267571,1.4594473684210518,1.5,0.76649999999999974,0.32819999999999994,0.12,2.8600000000000025E-2,0.01,7.0000000000000001E-3,4.0000000000000001E-3,1E-3,0]
["10CD005","Apr","Adsett ",112,0.4,1.1165135135135134,0.44660540540540539,0.6,0.34,0.183,6.3E-2,2.1600000000000022E-2,8.9999999999999993E-3,4.2500000000000003E-3,3.0000000000000001E-3,1E-3,0]
["10CD006","Apr","Prophet",7320,25.34,1.1874262412147181,30.089380952380953,45.600000000000051,30.569999999999968,18.88,15,12.7,10.469999999999999,9.4250000000000007,7.1,5,4.1945000000000006]
["07FA001","May","Halfway (FA001)",9400,137.19,1.1877288149940393,162.94451612903225,239.20000000000005,185,155.39999999999998,135,116,97.22,89.350000000000009,82.04,48.050000000000004,36.484999999999999]
["07FA003","May","Halfway ",3764,58.46,1.1841406535159091,69.22486260454005,91,79.11999999999999,65.36,57.4,48.060000000000009,39.18,34.6,28.6,19.600000000000001,13.18]
["07FA005","May","Graham ",2142,32.36,1.4541021424928804,47.054745331069611,77.62,61.7,48.5,36,27.46,19.61,17.600000000000001,14.6,10.270000000000001,8.8085000000000004]
["07FA006","May","Halfway (FA006)",9340,137.19,1.0674814258259875,146.44777680906722,205,174,146,126,106,87,78.849999999999994,67.72,47,35.660000000000004]
["07FB001","May","Pine",12147,403,1.417615504026517,571.29904812268637,823,697,602,504,429,355,321.5,289,210,164.5]
["07FB003","May","Sukunka",2590,121.26,1.6305508920750498,197.72060117302055,287,241.09999999999991,206.79999999999995,173,146,116,103,92.4,71.66,56.7]
["07FB004","May","Dickebusch",82.4,1.97,1.0868626910996315,2.1411195014662741,3.084000000000001,2.44,1.93,1.59,1.2020000000000004,0.91790000000000005,0.82624999999999993,0.73760000000000003,0.44460000000000005,0.32500000000000001]
["07FB005","May","Quality",29.5,0.81,0.67931189721745977,0.55024263674614249,0.81000000000000016,0.60519999999999996,0.48619999999999997,0.36599999999999999,0.27600000000000002,0.21299999999999999,0.188,0.16020000000000001,9.4400000000000012E-2,5.8000000000000003E-2]
["07FB008","May","Moberly",1520,28.08,1.2333140774000979,34.631459293394748,50.5,41.7,35.4,30,25.9,21.130000000000003,19.024999999999999,16.7,8.5139999999999993,5.4359999999999991]
["07FB009","May","Flatbed",486,14.27,1.1317145830110087,16.149567099567093,22.9,18.8,16.3,14,12.1,10.1,9.0749999999999993,7.7480000000000002,5.4139999999999997,4.4139999999999997]
["07FB011","May","Windrem",22.9,0.41,0.64679340028694376,0.26518529411764691,0.39379999999999998,0.30929999999999996,0.21680000000000002,0.17499999999999999,0.14719999999999997,0.12340000000000001,0.106,9.4799999999999995E-2,6.4799999999999996E-2,4.6799999999999994E-2]
["07FC001","May","Beatton",15523,181.69,1.0604241019006944,192.66845507433717,300,219,171,136,111.40000000000009,83.179999999999993,69.5,57.560000000000016,35,23.3]
["07FC002","May","St John ",213,1.97,1.0417146080090245,2.0521777777777781,2.4380000000000011,1.3049999999999993,0.87640000000000007,0.59599999999999997,0.43480000000000002,0.28509999999999996,0.23050000000000001,0.19500000000000001,0.14399999999999999,0.1047]
["07FC003","May","Blueberry",1774,19.190000000000001,1.1262339916383108,21.612430299539184,32.4,22.7,15.4,11.5,9.27,7.17,6.1274999999999995,4.96,2.6749999999999998,1.835]
["07FD001","May","Kiskatinaw ",3597,37.619999999999997,0.91681783565390396,34.490686977299866,52.440000000000005,39.519999999999982,31.7,24.9,19.600000000000001,14.689999999999998,12.4,10.6,7.0030000000000001,5.1995000000000005]
["07FD002","May","Peace",100853,1480,1.2104003468709352,1791.3925133689841,2120,1930,1770,1630,1496.0000000000002,1370,1300,1210,1010,831.35]
["07FD004","May","Alces ",339,2.36,0.96160870835768542,2.2693965517241375,3.36,2.4059999999999988,1.83,1.4049999999999998,0.96460000000000012,0.6361,0.53849999999999998,0.43120000000000003,0.23140000000000005,0.10390000000000001]
["07FD007","May","Pouce Coupe",2860,24.63,0.94977287985609304,23.392906030855571,38.700000000000003,26.249999999999989,16.7,11.9,7.62,5.37,4.4800000000000004,3.37,1.48,0.876]
["07FD009","May","Clear ",2880,null,null,17.325579106737319,23.6,19,15,11.6,8.59,6.29,5.23,4.1900000000000004,2.93,1.97]
["07FD011","May","Hines",374,null,null,2.2142105691056884,3.41,2.3259999999999987,1.6239999999999999,1.1100000000000001,0.72420000000000018,0.45539999999999997,0.34975000000000001,0.218,3.2000000000000001E-2,7.4500000000000026E-3]
["07FD015","May","Dawson",116,1.1599999999999999,{"$f":"G130/E130","v":0.17906139412394065},0.20771121718377114,0.21640000000000004,0.109,7.1799999999999975E-2,3.5000000000000003E-2,2.0200000000000017E-2,1.0999999999999999E-2,7.4999999999999997E-3,4.0000000000000001E-3,1E-3,1E-3]
["10CA001","May","Fontas",7400,118.62,0.80270834090328447,95.217263397947605,146,118,92.48,73,59.040000000000006,48.900000000000006,43,35.940000000000012,23.9,14.860000000000003]
["10CB001","May","Sikanni Chief",2196,30.82,1.3014955746800201,40.112093611638223,58.8,49.2,39.6,31.6,25.9,21.3,19,15.9,11.9,9.4499999999999993]
["10CD003","May","Raspberry ",288,5.3,1.1563458208002937,6.1286328502415568,9.0040000000000049,6.64,4.8460000000000001,3.5649999999999999,2.6580000000000008,1.9430000000000001,1.6724999999999999,1.4120000000000001,0.94530000000000003,0.69240000000000002]
["10CD004","May","Bougie ",338,9.61,0.7930028320103748,7.620757215619701,10.360000000000003,7.81,6.1839999999999984,4.9749999999999996,3.82,3.04,2.6924999999999999,2.2799999999999998,1.44,0.71684999999999999]
["10CD005","May","Adsett ",112,3.12,0.7213030648514529,2.2504655623365331,2.9,2.3199999999999998,1.85,1.47,1.19,0.95579999999999998,0.85,0.77,0.52760000000000007,0.36730000000000002]
["10CD006","May","Prophet",7320,132.4,1.0607292522310552,140.44055299539173,187.8,155,132,117,98.660000000000011,85.24,80.2,74.960000000000008,53.04,46.099999999999994]
["07FA001","Jun","Halfway (FA001)",9400,252.15,0.93578400360077929,235.95793650793649,299,257.29999999999995,226.39999999999998,200,176,155,144,135,114,106]
["07FA003","Jun","Halfway ",3764,123.45,0.91869214097097984,113.41254480286746,143,118.19999999999993,100,88.9,78.260000000000005,69.5,65.5,61.220000000000006,54.160000000000004,46.68]
["07FA005","Jun","Graham ",2142,90.53,0.96201948449822139,87.091623931623985,116,98.529999999999987,87,76,68.099999999999994,59.6,55.324999999999996,51.9,43.78,38.299999999999997]
["07FA006","Jun","Halfway (FA006)",9340,252.15,0.99952838025413893,252.03108108108114,320,258,219.39999999999998,194,171,148.69999999999999,140,130,106,88.925000000000011]
["07FB001","Jun","Pine",12147,573,1.1528080565330587,660.55901639344268,872.60000000000014,765,682,599,528,457,420,378.8,300,250]
["07FB003","Jun","Sukunka",2590,171.47,1.0933872167761469,187.48310606060591,261,216.29999999999995,188,162,145,122,114,103,81.97,64.089999999999989]
["07FB004","Jun","Dickebusch",82.4,1.75,0.97486905681191416,1.7060208494208497,2.1420000000000003,1.6579999999999995,1.29,0.96699999999999997,0.755,0.57139999999999991,0.49199999999999999,0.42180000000000001,0.28739999999999999,0.2167]
["07FB005","Jun","Quality",29.5,0.56999999999999995,0.77519021099694174,0.44185842026825672,0.61199999999999999,0.39500000000000002,0.27300000000000002,0.20399999999999999,0.158,0.127,0.1135,9.7000000000000003E-2,6.5000000000000002E-2,4.3999999999999997E-2]
["07FB008","Jun","Moberly",1520,38.58,1.1626877154870963,44.856492063492169,60.8,50.929999999999993,45.2,41,35.5,31.439999999999998,29.3,26.98,21.6,18.095000000000002]
["07FB009","Jun","Flatbed",486,11.77,0.967119048846666,11.382991204925258,15.3,12.619999999999992,10.6,9.09,7.4620000000000015,5.95,5.26,4.82,3.2559999999999998,2.1379999999999999]
["07FB011","Jun","Windrem",22.9,0.36,0.5716161616161618,0.20578181818181823,0.32200000000000001,0.19399999999999984,0.123,8.299999999999999E-2,5.8999999999999997E-2,3.7999999999999999E-2,2.8250000000000001E-2,2.3E-2,1.2999999999999999E-2,8.8999999999999982E-3]
["07FC001","Jun","Beatton",15523,151.72999999999999,0.88236692081155221,133.88153289473681,179.20000000000005,127,96.679999999999993,80.650000000000006,64.900000000000006,50.809999999999995,43.7,37.160000000000004,25.3,16.3]
["07FC002","Jun","St John ",213,1.52,0.27750730994152051,0.42181111111111119,0.3292000000000001,0.24459999999999996,0.153,0.1235,8.7999999999999995E-2,6.2E-2,4.4999999999999998E-2,2.7800000000000005E-2,5.0000000000000001E-3,2E-3]
["07FC003","Jun","Blueberry",1774,15.88,0.82077078085642197,13.033839999999982,13.2,8.49,6.1579999999999995,4.67,3.56,2.74,2.3024999999999998,1.8680000000000003,1.1000000000000001,0.71499999999999997]
["07FD001","Jun","Kiskatinaw ",3597,29.78,0.85543698391951128,25.474913381123049,30.740000000000009,20.8,16.2,12.1,9.4220000000000006,7.2979999999999992,6.2075000000000005,5.31,3.2930000000000001,2.2665000000000002]
["07FD002","Jun","Peace",100853,1664,1.3330398637820513,2218.1783333333333,2662.0000000000005,2210,1930,1680,1500,1320,1240,1140,945.9,827.9]
["07FD004","Jun","Alces ",339,1.91,0.69412890413431938,1.32578620689655,1.66,1.1499999999999999,0.85039999999999993,0.66900000000000004,0.50520000000000009,0.375,0.30225000000000002,0.23960000000000001,0.10850000000000003,2.3E-2]
["07FD007","Jun","Pouce Coupe",2860,18.47,0.82581999857420174,15.252895373665506,15.2,8.6839999999999975,5.5439999999999996,3.89,2.79,1.85,1.51,1.2280000000000002,0.56400000000000006,0.29899999999999999]
["07FD009","Jun","Clear ",2880,null,null,6.6837365632096937,9.8699999999999992,6.2899999999999947,4.7300000000000004,3.4,2.48,1.89,1.56,1.3,0.79400000000000004,0.53500000000000003]
["07FD011","Jun","Hines",374,null,null,0.92117723577235733,1.4220000000000004,0.83,0.57479999999999976,0.38,0.25060000000000004,0.12369999999999999,7.3999999999999996E-2,4.1800000000000011E-2,1.4E-2,2E-3]
["07FD015","Jun","Dawson",116,0.88,{"$f":"G157/E157","v":0.45734265734265817},0.4024615384615392,9.4800000000000065E-2,2.1199999999999931E-2,7.0000000000000001E-3,3.0000000000000001E-3,1E-3,1E-3,0,0,0,0]
["10CA001","Jun","Fontas",7400,78.09,0.92009845172542093,71.85048809523812,104,78.389999999999986,59.94,47.150000000000006,37.660000000000004,31.5,28.675000000000001,22.2,13.48,9.0190000000000001]
["10CB001","Jun","Sikanni Chief",2196,91.07,0.90969913045181272,82.846299810246578,108,92.2,80.400000000000006,71.2,63.4,56,52.1,48.9,42.2,37]
["10CD003","Jun","Raspberry ",288,2.77,1.024204848675105,2.8370474308300406,3.7860000000000014,2.6879999999999997,1.8339999999999999,1.36,1.04,0.81919999999999993,0.71499999999999997,0.61180000000000001,0.4,0.28819999999999996]
["10CD004","Jun","Bougie ",338,6.93,1.1254726503453167,7.7995254668930452,9.9120000000000008,7.01,5.1639999999999988,3.87,2.94,2.16,1.8425,1.53,0.96089999999999998,0.60299999999999998]
["10CD005","Jun","Adsett ",112,2.13,1.0981576760768053,2.3390758500435949,2.75,2.06,1.6060000000000003,1.26,0.98320000000000007,0.77100000000000002,0.67500000000000004,0.56659999999999999,0.38620000000000004,0.27320000000000005]
["10CD006","Jun","Prophet",7320,201.71,1.1524961578503794,232.47000000000003,309.40000000000009,246.19999999999993,215,186,159,145,136.25,127.80000000000001,105.9,93.484999999999999]
["07FA001","Jul","Halfway (FA001)",9400,172.76,1.044238315392032,180.40261136712743,222,183,161,140,127,110,102,95.4,69.7,53.95]
["07FA003","Jul","Halfway ",3764,80.7,1.0282504193444739,82.979808841099043,107,88.92,76.08,65.400000000000006,55,47.44,42.4,38.24,27.1,22.78]
["07FA005","Jul","Graham ",2142,65.36,0.7708257078494376,50.381168265039243,67.5,57.1,50.1,42.5,37.700000000000003,32.78,30.35,27.4,21.2,16.93]
["07FA006","Jul","Halfway (FA006)",9340,172.76,0.98470334341092969,170.1173496076722,210,172.19999999999993,146,126,109,90.08,81.650000000000006,74.3,55.120000000000005,45.42]
["07FB001","Jul","Pine",12147,388,0.79253763077409556,307.50460074034908,405,338,289,249,211,176,161,148,121,101]
["07FB003","Jul","Sukunka",2590,109.07,0.70355756358678345,76.73702346041047,102,83.21,69.36,58.95,50.02,42.7,39,35.320000000000007,26.53,22.2]
["07FB004","Jul","Dickebusch",82.4,1.1000000000000001,1.2657014253563377,1.3922715678919715,1.3760000000000014,0.90239999999999998,0.65539999999999987,0.46800000000000003,0.314,0.22500000000000001,0.183,0.14440000000000003,8.8999999999999996E-2,5.8600000000000006E-2]
["07FB005","Jul","Quality",29.5,0.32,1.1978815885797938,0.38332210834553404,0.52020000000000011,0.34199999999999992,0.22,0.151,0.109,8.1599999999999992E-2,7.0000000000000007E-2,5.7000000000000002E-2,3.2000000000000001E-2,2.1999999999999999E-2]
["07FB008","Jul","Moberly",1520,22.96,0.99474006754550681,22.839231950844837,30.7,25,21,17.8,14.7,11.7,10.5,9.402000000000001,6.6510000000000007,5.0710000000000006]
["07FB009","Jul","Flatbed",486,7.27,1.0070923136923364,7.3215611205432856,8.49,5.7290000000000001,4.3819999999999988,3.2850000000000001,2.5880000000000001,1.9,1.67,1.4239999999999999,0.84799999999999998,0.56284999999999996]
["07FB011","Jul","Windrem",22.9,0.24,0.5741080156402748,0.13778592375366594,0.22900000000000001,0.13099999999999998,8.8999999999999996E-2,5.2999999999999999E-2,2.8000000000000001E-2,1.7999999999999999E-2,1.4E-2,1.2E-2,0,0]
["07FC001","Jul","Beatton",15523,113.4,0.90688306727367529,102.84053982883478,144,102.59999999999991,79.459999999999994,64.5,46.4,33.4,28.6,23.76,16,10.89]
["07FC002","Jul","St John ",213,1.1100000000000001,0.45822273886790027,0.50862724014336935,0.58240000000000003,0.36119999999999997,0.13479999999999992,8.7999999999999995E-2,5.0999999999999997E-2,2.8000000000000001E-2,2.3E-2,1.6600000000000004E-2,3.8000000000000009E-3,0]
["07FC003","Jul","Blueberry",1774,10.85,0.77064751273700371,8.3615255131964901,9.0120000000000022,5.2479999999999993,3.7279999999999998,2.82,1.98,1.38,1.17,0.93280000000000007,0.52480000000000004,0.26019999999999999]
["07FD001","Jul","Kiskatinaw ",3597,21.24,1.0172680499668059,21.606773381294953,24.2,15.989999999999986,10.8,7.45,5.338000000000001,3.91,3.1074999999999999,2.4,1.35,0.84915000000000007]
["07FD002","Jul","Peace",100853,1618,1.0610303167606654,1716.7470525187566,2290,1830,1600,1390,1180,988,912,836,723,651.25]
["07FD004","Jul","Alces ",339,1.31,0.68219650332430382,0.89367741935483802,1.334000000000001,0.87059999999999993,0.62699999999999978,0.44,0.316,0.214,0.15,7.5200000000000045E-2,0.01,2E-3]
["07FD007","Jul","Pouce Coupe",2860,14.34,1.0163700728256466,14.574746844319773,10.3,5.3749999999999964,3.11,2.0049999999999999,1.1399999999999999,0.66749999999999998,0.44550000000000001,0.33500000000000002,0.113,2.8250000000000001E-2]
["07FD009","Jul","Clear ",2880,null,null,5.5572294372294433,8.14,4.84,2.79,1.7650000000000001,1.06,0.68799999999999994,0.54025000000000001,0.41299999999999998,0.19800000000000001,0.1145]
["07FD011","Jul","Hines",374,null,null,0.81486467348544345,1.04,0.54600000000000004,0.26500000000000001,9.6000000000000002E-2,5.3999999999999999E-2,2.4E-2,1.4999999999999999E-2,7.0000000000000001E-3,0,0]
["07FD015","Jul","Dawson",116,0.73,{"$f":"G184/E184","v":0.37293745738548389},0.27224434389140323,5.7000000000000002E-2,0.02,5.0000000000000001E-3,3.0000000000000001E-3,2E-3,1E-3,1E-3,1E-3,0,0]
["10CA001","Jul","Fontas",7400,62.29,1.0958514509788566,68.260586881472975,102,66.5,50,38.799999999999997,28.92,21.7,19.3,16.399999999999999,12.4,9.5279999999999987]
["10CB001","Jul","Sikanni Chief",2196,61.14,1.0247175890838134,62.651233396584352,80.900000000000006,70.400000000000006,61.4,54.1,47.9,41.7,39,36,28.9,24.6]
["10CD003","Jul","Raspberry ",288,2.77,0.65639061260931597,1.8182019969278052,2.7179999999999995,1.7769999999999992,1.22,0.91,0.6794,0.42830000000000001,0.33500000000000002,0.27339999999999998,0.15609999999999999,9.2049999999999993E-2]
["10CD004","Jul","Bougie ",338,6.11,1.1380469362092474,6.953466780238502,8.68,5.6629999999999976,4.0999999999999996,3.0300000000000002,2.3720000000000003,1.7279999999999995,1.43,1.1760000000000002,0.68060000000000009,0.37025000000000002]
["10CD005","Jul","Adsett ",112,2,1.2227619877942482,2.4455239755884963,2.2999999999999998,1.6419999999999992,1.2620000000000005,0.98,0.78340000000000043,0.57600000000000007,0.502,0.40600000000000003,0.2492,0.15760000000000002]
["10CD006","Jul","Prophet",7320,177.1,1.2127231614308347,214.7732718894008,287.60000000000002,212,185,166,148,132.80000000000001,120,111.4,96.94,76.22]
["07FA001","Aug","Halfway (FA001)",9400,97.17,1.1232218954634272,109.14347158218123,111,88.899999999999991,77.599999999999994,70.5,61.4,51.9,47.5,44.2,39.4,36.200000000000003]
["07FA003","Aug","Halfway ",3764,46.38,0.98507601482326423,45.687825567502998,59.500000000000036,44.019999999999996,36.559999999999995,30.8,26.5,22.979999999999997,21.3,19.8,15.06,11.68]
["07FA005","Aug","Graham ",2142,37.369999999999997,0.69666551361793994,26.034390243902415,33.200000000000003,28.889999999999997,25.3,22.05,19.3,17,16,14.8,11.7,9.32]
["07FA006","Aug","Halfway (FA006)",9340,97.17,0.86584517970150709,84.134176111595451,110.80000000000007,89.5,74.460000000000008,62.8,51.84,45.26,41.349999999999994,37.799999999999997,28.560000000000002,23.1]
["07FB001","Aug","Pine",12147,188,0.72382843705345612,136.07974616604974,163,138,121,109,98.5,88.9,84,77.8,61.5,53.2]
["07FB003","Aug","Sukunka",2590,53.67,0.52431284882975682,28.139870596693047,37.4,31.2,26.5,22.6,19.7,16.899999999999999,15.6,14.2,11,9.36]
["07FB004","Aug","Dickebusch",82.4,0.53,1.024622424303856,0.54304988488104367,0.53460000000000019,0.41039999999999993,0.2891999999999999,0.20399999999999999,0.159,0.121,0.11,8.7999999999999995E-2,5.1200000000000016E-2,3.3000000000000002E-2]
["07FB005","Aug","Quality",29.5,0.13,1.4204732065687136,0.18466151685393276,0.23080000000000009,0.14799999999999999,0.10199999999999999,7.3999999999999996E-2,5.4400000000000032E-2,3.829999999999998E-2,3.2000000000000001E-2,2.5999999999999999E-2,1.4E-2,8.0000000000000002E-3]
["07FB008","Aug","Moberly",1520,12.41,0.73190232345700212,9.0829078341013965,11.9,8.8479999999999972,7.59,6.2450000000000001,4.8839999999999995,3.883,3.6025,3.1019999999999999,2.0829999999999997,1.51]
["07FB009","Aug","Flatbed",486,3.19,0.96665673182856082,3.0836349745331089,3.58,2.5389999999999997,1.9519999999999993,1.4950000000000001,1.2180000000000002,0.92800000000000005,0.79400000000000004,0.68759999999999999,0.52800000000000002,0.434]
["07FB011","Aug","Windrem",22.9,0.1,1.8535777126099711,0.18535777126099712,6.8000000000000005E-2,2.9000000000000001E-2,1.0999999999999999E-2,4.0000000000000001E-3,0,0,0,0,0,0]
["07FC001","Aug","Beatton",15523,62.23,0.89693742500630758,55.816415958142521,63.700000000000045,44.319999999999979,32.379999999999995,26,20.020000000000003,14.939999999999998,12.8,10.8,7.26,5.3979999999999997]
["07FC002","Aug","St John ",213,0.63,0.21724981509927749,0.13686738351254482,6.1400000000000031E-2,2.4E-2,1.4E-2,1.0999999999999999E-2,7.0000000000000001E-3,2E-3,1E-3,1E-3,0,0]
["07FC003","Aug","Blueberry",1774,5.99,0.7007382783622742,4.1974222873900224,3.14,1.83,1.1200000000000001,0.749,0.48920000000000002,0.32200000000000023,0.26500000000000001,0.21199999999999999,0.125,6.2400000000000004E-2]
["07FD001","Aug","Kiskatinaw ",3597,10.8,0.68297612726226697,7.3761421744324842,8.6440000000000019,5.6129999999999978,4.2159999999999993,3.165,2.1820000000000004,1.45,1.22,0.94600000000000017,0.52760000000000007,0.27600000000000002]
["07FD002","Aug","Peace",100853,1252,0.99377875357122947,1244.2109994711793,1600,1440,1290,1150,983,838,779,733,616,548]
["07FD004","Aug","Alces ",339,0.77,0.39011022348063579,0.30038487208008957,0.36740000000000006,0.22959999999999992,0.13500000000000001,7.9000000000000001E-2,2.9200000000000045E-2,6.0000000000000001E-3,2E-3,1E-3,0,0]
["07FD007","Aug","Pouce Coupe",2860,8.1,0.4664362890239464,3.7781339410939658,2.76,1.58,1.0900000000000001,0.63700000000000001,0.34499999999999997,0.19550000000000001,0.14199999999999999,0.111,0.05,0.03]
["07FD009","Aug","Clear ",2880,null,null,1.9477326164874569,2.6420000000000003,1.35,0.83779999999999988,0.497,0.28860000000000002,0.14299999999999999,0.10199999999999999,6.8000000000000005E-2,2.1000000000000001E-2,0.01]
["07FD011","Aug","Hines",374,null,null,0.19077183320220284,0.38800000000000001,0.128,4.1000000000000002E-2,1.6E-2,6.0000000000000001E-3,1E-3,0,0,0,0]
["07FD015","Aug","Dawson",116,0.36,{"$f":"G211/E211","v":0.40373980632008066},0.14534633027522903,5.0000000000000001E-3,2E-3,1E-3,1E-3,0,0,0,0,0,0]
["10CA001","Aug","Fontas",7400,39.42,0.92379713214887726,36.416082949308745,48.160000000000004,36.4,29.5,23.1,17.98,13.609999999999996,11.8,9.8379999999999992,5.7939999999999996,3.8374999999999999]
["10CB001","Aug","Sikanni Chief",2196,36.26,1.0031248768033811,36.373308032890598,48.4,38.799999999999997,33.4,29.6,26,23.6,22.2,20.7,17.3,14.8]
["10CD003","Aug","Raspberry ",288,1.61,0.75209567698046942,1.2108740399385558,1.38,0.86839999999999984,0.59960000000000002,0.40400000000000003,0.30079999999999996,0.19700000000000001,0.16300000000000001,0.12439999999999998,4.8000000000000001E-2,1.4049999999999998E-2]
["10CD004","Aug","Bougie ",338,3.33,1.0879343629343639,3.6228214285714317,4.0360000000000005,2.5,1.67,1.1000000000000001,0.74360000000000004,0.4872999999999999,0.39575000000000005,0.312,0.16600000000000001,7.9350000000000004E-2]
["10CD005","Aug","Adsett ",112,1.1399999999999999,1.0929801618256638,1.2459973844812566,1.484000000000002,0.87719999999999998,0.63360000000000016,0.40899999999999997,0.28639999999999999,0.218,0.18149999999999999,0.151,9.1999999999999998E-2,6.8000000000000005E-2]
["10CD006","Aug","Prophet",7320,101.67,1.3091147423284595,133.09769585253449,173.8,129,106.19999999999999,86.9,73.34,65.959999999999994,62.6,58.760000000000005,52.96,46.16]
["07FA001","Sep","Halfway (FA001)",9400,70.94,1.0276893954649804,72.904285714285706,102.20000000000005,84.49,73.72,62.25,52.660000000000004,42.879999999999995,39.849999999999994,36.799999999999997,29.050000000000004,25.990000000000002]
["07FA003","Sep","Halfway ",3764,35.119999999999997,0.9152769156445133,32.144525277435307,43.7,34.700000000000003,30,25.7,22.3,19.899999999999999,18.8,17.600000000000001,12.9,9.9450000000000003]
["07FA005","Sep","Graham ",2142,25.56,0.7790633179608627,19.91285840707965,25.8,21.8,18.439999999999998,16.55,15,13.6,12.8,12.1,9.798,7.2545000000000002]
["07FA006","Sep","Halfway (FA006)",9340,70.94,0.8601509065718751,61.019105312208815,78.36,61.94,53.3,45.7,39,34.799999999999997,32.5,29.1,23.02,18.62]
["07FB001","Sep","Pine",12147,154,0.77504606755595884,119.35709440361767,156,123,105,92.1,82.02000000000001,70.900000000000006,66.3,61,50.080000000000005,43.1]
["07FB003","Sep","Sukunka",2590,44.3,0.74950053190109334,33.202873563218432,45.120000000000005,32.299999999999997,25.079999999999995,20,16.360000000000003,13.7,12.4,11.4,8.5459999999999994,7.0259999999999998]
["07FB004","Sep","Dickebusch",82.4,0.46,0.86658902691511364,0.39863095238095231,0.44200000000000023,0.29289999999999983,0.20439999999999997,0.14499999999999999,0.11700000000000001,9.5000000000000001E-2,8.7999999999999995E-2,7.9000000000000001E-2,0.06,4.7950000000000007E-2]
["07FB005","Sep","Quality",29.5,0.14000000000000001,1.0642428785607205,0.14899400299850088,0.22240000000000021,0.16019999999999998,0.10119999999999993,6.8000000000000005E-2,4.7E-2,3.5000000000000003E-2,2.8000000000000001E-2,2.1999999999999999E-2,8.0000000000000002E-3,2E-3]
["07FB008","Sep","Moberly",1520,8.93,0.69144909228316576,6.1746403940886703,8.9300000000000015,5.5579999999999989,4.3019999999999987,3.59,2.84,2.2909999999999995,1.99,1.4339999999999999,0.76750000000000007,0.54765000000000008]
["07FB009","Sep","Flatbed",486,3.1,0.85276828054563558,2.6435816696914705,3.3360000000000012,2.14,1.62,1.2250000000000001,0.97440000000000004,0.76060000000000005,0.70099999999999996,0.60840000000000005,0.47609999999999997,0.41499999999999998]
["07FB011","Sep","Windrem",22.9,0.08,0.35258620689655173,2.8206896551724141E-2,4.5999999999999999E-2,2.3999999999999973E-2,5.0000000000000001E-3,2E-3,0,0,0,0,0,0]
["07FC001","Sep","Beatton",15523,46.62,0.89285528385528468,41.624913333333367,54.52,33.729999999999997,23.8,17.399999999999999,12,8.1999999999999993,6.8674999999999997,5.6960000000000006,3.5,2.7284999999999999]
["07FC002","Sep","St John ",213,0.41,0.32728093947606141,0.13418518518518516,9.6000000000000002E-2,6.5000000000000002E-2,3.6999999999999998E-2,1.4E-2,6.0000000000000001E-3,3.0000000000000001E-3,1E-3,1E-3,0,0]
["07FC003","Sep","Blueberry",1774,4.55,0.75408484848484836,3.4310860606060598,2.7360000000000011,1.49,0.93479999999999996,0.59850000000000003,0.38500000000000001,0.22139999999999999,0.17649999999999999,0.14380000000000001,7.5999999999999998E-2,2.5999999999999999E-2]
["07FD001","Sep","Kiskatinaw ",3597,7.28,0.92763193596526783,6.7531604938271501,7.9940000000000007,4.7359999999999998,3.45,2.66,1.76,1.21,0.94274999999999998,0.81279999999999997,0.54880000000000007,0.33265000000000006]
["07FD002","Sep","Peace",100853,1246,0.92661559386872372,1154.5630299604297,1470,1340,1240,1160,1070,960,887,813.6,642.6,549]
["07FD004","Sep","Alces ",339,0.53,1.1389763608761627,0.60365747126436631,0.40040000000000009,0.2085999999999999,0.126,7.4999999999999997E-2,2.8600000000000025E-2,3.0000000000000001E-3,2E-3,1E-3,0,0]
["07FD007","Sep","Pouce Coupe",2860,4.8899999999999997,0.64987291630258504,3.1778785607196407,1.96,0.82199999999999995,0.53500000000000003,0.40300000000000002,0.26520000000000005,0.14889999999999998,0.115,9.0999999999999998E-2,5.0999999999999997E-2,3.2000000000000001E-2]
["07FD009","Sep","Clear ",2880,null,null,1.789845185185186,1.7720000000000005,0.83499999999999996,0.42499999999999999,0.27550000000000002,0.17799999999999999,9.7699999999999995E-2,5.8500000000000003E-2,3.3000000000000002E-2,1.4E-2,4.5000000000000286E-4]
["07FD011","Sep","Hines",374,null,null,0.16937886178861816,0.10340000000000009,5.6000000000000001E-2,0.03,1.4E-2,5.0000000000000001E-3,1E-3,1E-3,0,0,0]
["07FD015","Sep","Dawson",116,0.22,{"$f":"G238/E238","v":2.6668159426780063E-2},5.866995073891614E-3,4.0000000000000001E-3,1E-3,1E-3,0,0,0,0,0,0,0]
["10CA001","Sep","Fontas",7400,28.54,0.81780136494092537,23.340050955414011,34.220000000000006,24.4,18.939999999999998,15.3,12.180000000000007,7.7119999999999997,6.18,4.3900000000000006,2.5939999999999999,1.8640000000000001]
["10CB001","Sep","Sikanni Chief",2196,25.75,1.0109446030839522,26.031823529411767,33.720000000000006,28.6,24.4,21.6,19.5,17.600000000000001,16.5,15.6,12.69,11]
["10CD003","Sep","Raspberry ",288,1.17,0.97127458960792135,1.1363912698412679,1.4720000000000004,0.94529999999999992,0.56040000000000001,0.33850000000000002,0.25560000000000005,0.159,0.12,9.1999999999999998E-2,4.8000000000000001E-2,1.4E-2]
["10CD004","Sep","Bougie ",338,2.42,1.0471988168459996,2.5342211367673189,2.81,1.7749999999999999,1.1299999999999999,0.66549999999999998,0.41,0.28849999999999998,0.23599999999999999,0.20100000000000001,0.1045,6.225E-2]
["10CD005","Sep","Adsett ",112,0.79,1.1934245638043115,0.94280540540540614,1.01,0.64,0.47139999999999993,0.3075,0.22220000000000004,0.156,0.13800000000000001,0.11799999999999999,7.0000000000000007E-2,6.0999999999999999E-2]
["10CD006","Sep","Prophet",7320,69.930000000000007,0.84272168016010351,58.931527093596046,71.760000000000019,65.16,59.859999999999992,56.8,51.540000000000006,41.88,38.450000000000003,34.74,31.12,28.630000000000003]
["07FA001","Oct","Halfway (FA001)",9400,52.06,1.0303224016402366,53.638584229390723,71.400000000000006,58,47.66,39.6,36.200000000000003,32.619999999999997,30.35,28.6,22.57,19.585000000000001]
["07FA003","Oct","Halfway ",3764,25.84,0.80971030763455842,20.92291434927699,27.740000000000009,24,21,18.8,17.320000000000004,15.239999999999998,13.75,12.8,11,9.1379999999999999]
["07FA005","Oct","Graham ",2142,21.31,0.72299844083498566,15.407096774193542,19.2,17.100000000000001,15.6,14.1,13,11.9,11.3,10.9,9.1560000000000006,6.7960000000000003]
["07FA006","Oct","Halfway (FA006)",9340,52.06,0.75001567305568539,39.045815939278981,48.440000000000005,42.4,37.700000000000003,34.450000000000003,32,29.8,27.8,26,19.23,16.5]
["07FB001","Oct","Pine",12147,170,0.85102859386246121,144.6748609566184,193,155,133,115,99.960000000000008,85.51,78.25,71.900000000000006,58.5,49.8]
["07FB003","Oct","Sukunka",2590,51.41,0.86594203223326449,44.518079877112122,59,47.269999999999989,39.9,33.9,27.2,22.2,20.5,19,14.41,10.91]
["07FB004","Oct","Dickebusch",82.4,0.39,0.65753878688057898,0.25644012688342582,0.34100000000000003,0.24,0.17499999999999999,0.14299999999999999,0.114,9.9000000000000005E-2,9.0999999999999998E-2,8.1000000000000003E-2,6.7000000000000004E-2,0.05]
["07FB005","Oct","Quality",29.5,0.11,0.93483870967741944,0.10283225806451614,0.18540000000000009,0.1185999999999999,7.0000000000000007E-2,5.0999999999999997E-2,4.4999999999999998E-2,2.9000000000000001E-2,2.5999999999999999E-2,2.3E-2,1.2900000000000005E-2,6.0000000000000001E-3]
["07FB008","Oct","Moberly",1520,8.06,0.62441828962680668,5.0328114143920617,6.958000000000002,5.7,4.8600000000000003,4.12,3.27,2.694,2.4300000000000002,2.2000000000000002,0.98500000000000021,0.47039999999999998]
["07FB009","Oct","Flatbed",486,2.63,0.80674325742398889,2.1217347670250906,3.05,2.44,1.88,1.5,1.19,0.9245000000000001,0.82599999999999996,0.71099999999999997,0.58450000000000002,0.49199999999999999]
["07FB011","Oct","Windrem",22.9,0.05,0.49885350318471311,2.4942675159235657E-2,1.6200000000000048E-2,8.0000000000000002E-3,6.0000000000000001E-3,4.0000000000000001E-3,2E-3,7.9999999999999722E-4,0,0,0,0]
["07FC001","Oct","Beatton",15523,23.41,0.82187985748101733,19.240207463630615,25.1,18.5,14.4,10,7.85,6.44,5.79,4.97,3.62,3.02]
["07FC002","Oct","St John ",213,0.21,0.36368663594469974,7.637419354838694E-2,7.4400000000000036E-2,5.0999999999999997E-2,3.6999999999999998E-2,1.8499999999999999E-2,1.0999999999999999E-2,3.0000000000000001E-3,3.0000000000000001E-3,1E-3,0,0]
["07FC003","Oct","Blueberry",1774,2.2599999999999998,0.5405932669956357,1.2217407834101366,1.34,0.86799999999999999,0.623,0.505,0.41699999999999998,0.33200000000000002,0.29474999999999996,0.24299999999999999,0.16350000000000001,0.11749999999999999]
["07FD001","Oct","Kiskatinaw ",3597,4.58,1.1088547682772241,5.0785548387096862,7.1320000000000006,5.18,4.1100000000000003,2.85,2.0060000000000002,1.58,1.37,1.1880000000000002,0.79500000000000004,0.65200000000000002]
["07FD002","Oct","Peace",100853,1378,0.94852892505945152,1307.0728587319243,1610,1500,1410,1300,1200,1100,1050,1010,857.7,691]
["07FD004","Oct","Alces ",339,0.28999999999999998,0.75896922506488529,0.22010107526881673,0.3450000000000002,0.20459999999999989,0.14239999999999997,9.4E-2,6.2600000000000017E-2,2.3E-2,1.7000000000000001E-2,4.0000000000000001E-3,9.0000000000000572E-4,0]
["07FD007","Oct","Pouce Coupe",2860,2.67,0.59475627333799741,1.5879992498124531,1.56,0.94239999999999979,0.64639999999999986,0.47799999999999998,0.33400000000000002,0.216,0.18,0.13900000000000001,9.0200000000000016E-2,0.06]
["07FD009","Oct","Clear ",2880,null,null,0.95166339410939571,1.21,0.75900000000000001,0.55400000000000005,0.36349999999999999,0.24199999999999999,0.17449999999999999,0.14824999999999999,0.12,6.0999999999999999E-2,2.4E-2]
["07FD011","Oct","Hines",374,null,null,9.5380952380952566E-2,0.123,7.9000000000000001E-2,3.9E-2,0.02,1.2999999999999999E-2,3.0000000000000001E-3,1E-3,0,0,0]
["07FD015","Oct","Dawson",116,0.11,{"$f":"G265/E265","v":5.5630165289256198E-2},6.1193181818181815E-3,7.0000000000000001E-3,4.0000000000000001E-3,2E-3,2E-3,1E-3,1E-3,7.5000000000000002E-4,0,0,0]
["10CA001","Oct","Fontas",7400,14.65,0.99079231389542699,14.515107398568006,23.3,19.209999999999997,16.899999999999999,13.1,9.0559999999999974,5.6540000000000008,4.7624999999999993,4.1960000000000006,2.843,1.9595]
["10CB001","Oct","Sikanni Chief",2196,20.22,0.82809995753903176,16.744181141439221,21.6,18.469999999999981,16.5,14.8,13.2,12.1,11.5,10.7,9.3010000000000002,8.3354999999999997]
["10CD003","Oct","Raspberry ",288,0.66,0.8286540520411485,0.54691167434715804,0.76839999999999986,0.48539999999999983,0.33420000000000005,0.26,0.20699999999999999,0.14899999999999999,0.13,0.108,7.0000000000000007E-2,2.7049999999999998E-2]
["10CD004","Oct","Bougie ",338,1.23,0.57190650747817173,0.70344500419815126,0.95399999999999996,0.68200000000000005,0.5,0.38800000000000001,0.314,0.22500000000000001,0.184,0.14199999999999999,7.0999999999999994E-2,0.01]
["10CD005","Oct","Adsett ",112,0.42,0.69994138572237041,0.29397538200339557,0.42699999999999999,0.318,0.24099999999999999,0.1895,0.155,0.11509999999999997,0.10299999999999999,9.2999999999999999E-2,6.8000000000000005E-2,4.2849999999999999E-2]
["10CD006","Oct","Prophet",7320,46.9,0.81011417566545196,37.994354838709697,49.460000000000008,45.7,42.78,37.75,34.5,29.689999999999998,28.175000000000001,25.740000000000002,18.02,17.015000000000001]
["07FA001","Nov","Halfway (FA001)",9400,23.23,1.1431657658519476,26.555740740740742,35.020000000000003,31.1,28,25.2,23.020000000000003,20.100000000000001,19.475000000000001,15.08,11.6,10.095000000000001]
["07FA003","Nov","Halfway ",3764,11.8,0.93495032144944312,11.03241379310343,14.4,12.9,11.339999999999998,10.3,9.4960000000000004,8.4499999999999993,7.9,7.5740000000000007,6.1779999999999999,4.2645]
["07FA005","Nov","Graham ",2142,9.2100000000000009,0.95196785359651848,8.7676239316239357,10.820000000000006,9.5789999999999988,9,8.3249999999999993,7.6960000000000006,7.1,6.8,6.47,5.5179999999999998,5.1444999999999999]
["07FA006","Nov","Halfway (FA006)",9340,23.23,0.89280342356486386,20.739823529411787,24.9,23.2,21.3,20,18,16,15.7,14.68,12.9,12]
["07FB001","Nov","Pine",12147,118,null,101.3007471264367,129,104,90.6,78.95,70.62,62.469999999999992,56.9,52.1,45.5,39.9]
["07FB003","Nov","Sukunka",2590,36.42,0.84598336863575696,30.810714285714269,40.620000000000005,30.229999999999997,24.54,21.1,17.899999999999999,16.100000000000001,15.1,14.1,12.2,10.1]
["07FB004","Nov","Dickebusch",82.4,0.24,0.70226626016260185,0.16854390243902445,0.20420000000000002,0.13400000000000001,0.10299999999999999,7.2999999999999995E-2,6.2E-2,5.1999999999999998E-2,4.2000000000000003E-2,3.5999999999999997E-2,2.1999999999999999E-2,1.2999999999999999E-2]
["07FB005","Nov","Quality",29.5,7.0000000000000007E-2,0.72752380952380924,5.0926666666666655E-2,7.9000000000000001E-2,5.929999999999995E-2,4.5999999999999999E-2,3.6999999999999998E-2,2.5999999999999999E-2,1.7999999999999999E-2,1.7000000000000001E-2,1.4E-2,8.9000000000000051E-3,3.0000000000000001E-3]
["07FB008","Nov","Moberly",1520,4.2699999999999996,1.0524736283752694,4.4940623931624,5.4040000000000008,4.6359999999999992,4.0739999999999998,3.49,2.65,2.31,2.13,1.95,1.2890000000000001,0.62250000000000016]
["07FB009","Nov","Flatbed",486,1.64,0.97090334236675657,1.5922814814814807,1.93,1.48,1.19,1.0249999999999999,0.89560000000000006,0.72,0.68874999999999997,0.64400000000000002,0.54790000000000005,0.47499999999999998]
["07FB011","Nov","Windrem",22.9,0.03]
["07FC001","Nov","Beatton",15523,11.59,{"$f":"G283/E283","v":0.57107400452271861},6.6187477124183083,8.5,6.23,5.39,4.55,3.77,3.1069999999999998,2.8325,2.6,1.94,1.5245]
["07FC002","Nov","St John ",213,0.09,0.39628205128205141,3.5665384615384627E-2,5.7000000000000002E-2,2.3E-2,1.4400000000000005E-2,0.01,7.0000000000000001E-3,6.0000000000000001E-3,4.0000000000000001E-3,1.8000000000000043E-3,0,0]
["07FC003","Nov","Blueberry",1774,1.06,0.41496689837801987,0.43986491228070107,0.48120000000000002,0.34129999999999999,0.27500000000000002,0.224,0.17499999999999999,0.14699999999999999,0.13,0.11,0.08,5.7450000000000008E-2]
["07FD001","Nov","Kiskatinaw ",3597,2.25,1.2015307744107753,2.7034442424242444,3.42,2.83,2.44,1.9,1.55,1.19,1.02,0.8892000000000001,0.60299999999999998,0.48]
["07FD002","Nov","Peace",100853,1497,0.92834796439934175,1389.7369027058146,1730,1661.9999999999982,1570,1460,1350,1200,1110,1020,795.6,632.40000000000009]
["07FD004","Nov","Alces ",339,0.14000000000000001,0.79822222222222383,0.11175111111111134,0.11720000000000005,7.3999999999999996E-2,6.2E-2,4.9500000000000002E-2,3.5000000000000003E-2,1.6E-2,1.2E-2,8.0000000000000002E-3,1E-3,0]
["07FD007","Nov","Pouce Coupe",2860,1.08,0.75566077441077195,0.81611363636363377,0.90600000000000003,0.6208999999999999,0.51079999999999992,0.42499999999999999,0.28100000000000003,0.16700000000000001,0.153,0.121,8.7999999999999995E-2,4.8000000000000001E-2]
["07FD009","Nov","Clear ",2880]
["07FD011","Nov","Hines",374]
["07FD015","Nov","Dawson",116,0.04]
["10CA001","Nov","Fontas",7400,6.31,{"$f":"G293/E293","v":1.1729627907418119},7.4013952095808326,12.820000000000006,9.445999999999998,6.9740000000000002,5.5,4.5,3.6,3.26,2.9660000000000006,1.5700000000000003,1.28]
["10CB001","Nov","Sikanni Chief",2196,9.8699999999999992,0.91668160444756208,9.0476474358974368,11.5,10.229999999999995,9.25,8.629999999999999,7.65,6.907,6.65,6.3980000000000006,5.75,5.1895000000000007]
["10CD003","Nov","Raspberry ",288,0.19,0.59695488721804346,0.11342142857142826,0.17560000000000012,9.2999999999999999E-2,6.7000000000000004E-2,4.5999999999999999E-2,0.03,1.7000000000000001E-2,1.0999999999999999E-2,7.8000000000000118E-3,2E-3,0]
["10CD004","Nov","Bougie ",338,0.44,0.26400318298268732,0.11616140051238241,0.2,0.13500000000000001,0.1,6.2E-2,3.9E-2,2.1999999999999999E-2,1.2999999999999999E-2,8.9999999999999993E-3,3.0000000000000001E-3,1E-3]
["10CD005","Nov","Adsett ",112,0.15,0.51469005847953475,7.7203508771930204E-2,0.13,9.0999999999999998E-2,6.6000000000000003E-2,4.8000000000000001E-2,3.3000000000000002E-2,2.1999999999999999E-2,1.7999999999999999E-2,1.4E-2,6.0000000000000001E-3,3.0000000000000001E-3]
["10CD006","Nov","Prophet",7320,21.17,0.71892615336167509,15.219666666666663,16.82,15.36,13.84,12.7,10.9,10.27,9.6999999999999993,8.9600000000000009,8.2449999999999992,7.2974999999999994]
["07FA001","Dec","Halfway (FA001)",9400,17.47,0.94966358190044098,16.590622775800703,21,19.47,17.8,16.399999999999999,14.940000000000001,13,12.2,11.5,9.32,8.8375000000000004]
["07FA003","Dec","Halfway ",3764,9.15,0.9086009431843709,8.3136986301369937,9.6300000000000008,8.995000000000001,8.39,7.85,7.25,6.75,6.3475000000000001,5.8,4.9749999999999996,4.28]
["07FA005","Dec","Graham ",2142,6.97,0.95233540570699804,6.6377777777777762,7.93,7.27,6.7879999999999994,6.5,6.2620000000000005,5.7279999999999998,5.4,5.1459999999999999,4.3580000000000005,4.18]
["07FA006","Dec","Halfway (FA006)",9340,17.47,0.87501379868512708,15.286491063029169,19.2,17.399999999999999,15.6,14.8,13.88,12.8,12.4,12,10.4,9.7009999999999987]
["07FB001","Dec","Pine",12147,60.3,0.87003756726571224,52.463265306122445,64.060000000000016,57,51.8,47.4,43.5,40.700000000000003,39,37.4,31.6,27.12]
["07FB003","Dec","Sukunka",2590,17.63,0.75953713875685347,13.390639756283326,16.600000000000001,15.439999999999998,13.4,12.2,11.2,10.4,10,9.6,8.1,7.6319999999999997]
["07FB004","Dec","Dickebusch",82.4,0.11,0.68737527716186486,7.5611280487805133E-2,0.105,8.1000000000000003E-2,0.06,4.8000000000000001E-2,3.7999999999999999E-2,2.8000000000000001E-2,2.1000000000000001E-2,1.7999999999999999E-2,8.0000000000000002E-3,5.0000000000000001E-3]
["07FB005","Dec","Quality",29.5,0.03,1.0090133333333307,3.027039999999992E-2,5.2999999999999999E-2,4.4999999999999998E-2,3.3000000000000002E-2,2.5000000000000001E-2,1.7000000000000001E-2,1.4999999999999999E-2,1.2999999999999999E-2,9.8000000000000118E-3,4.0000000000000001E-3,3.0000000000000001E-3]
["07FB008","Dec","Moberly",1520,2.71,1.0253061397609053,2.7785796387520536,3.6,3.15,2.59,2.2799999999999998,2.13,1.84,1.68,1.554,1.2,0.51970000000000005]
["07FB009","Dec","Flatbed",486,0.73,1.1975232876712325,0.87419199999999964,1.03,0.92,0.82539999999999991,0.74,0.69359999999999999,0.625,0.56899999999999995,0.50480000000000003,0.39900000000000002,0.36499999999999999]
["07FB011","Dec","Windrem",22.9,0.02]
["07FC001","Dec","Beatton",15523,6.19,{"$f":"G310/E310","v":0.46616017335532101},2.8855314730694372,3.62,2.95,2.61,2.38,1.92,1.55,1.46,1.3,0.878,0.59]
["07FC002","Dec","St John ",213,0.06,0.17116935483870943,1.0270161290322566E-2,0.02,7.8999999999999782E-3,6.0000000000000001E-3,4.0000000000000001E-3,3.0000000000000001E-3,0,0,0,0,0]
["07FC003","Dec","Blueberry",1774,0.57999999999999996,0.26596958543200216,0.15426235955056125,0.215,0.18,0.14839999999999987,0.13,0.106,8.4699999999999942E-2,6.7000000000000004E-2,5.3999999999999999E-2,3.6999999999999998E-2,2.1999999999999999E-2]
["07FD001","Dec","Kiskatinaw ",3597,1.33,1.1371972599768645,1.5124723557692299,2.29,1.740999999999999,1.3579999999999997,1.19,1.01,0.83269999999999988,0.7,0.59,0.4,0.27100000000000002]
["07FD002","Dec","Peace",100853,1570,0.92227226576635124,1447.9674572531715,1840,1760,1680,1580,1470,1340,1240,1100,498.80000000000024,388]
["07FD004","Dec","Alces ",339,7.0000000000000007E-2,0.51916299559471402,3.6341409691629988E-2,5.0999999999999997E-2,4.1000000000000002E-2,3.219999999999993E-2,0.02,1.4E-2,0.01,5.7499999999999999E-3,3.0000000000000001E-3,0,0]
["07FD007","Dec","Pouce Coupe",2860,0.76,0.55195119617224919,0.41948290909090941,0.58360000000000012,0.42159999999999992,0.34,0.25,0.15,0.108,9.1999999999999998E-2,7.5999999999999998E-2,4.5400000000000003E-2,0.03]
["07FD009","Dec","Clear ",2880]
["07FD011","Dec","Hines",374]
["07FD015","Dec","Dawson",116,0.04]
["10CA001","Dec","Fontas",7400,2.8,{"$f":"G320/E320","v":1.3276742857142849},3.7174879999999977,5.2,4.1359999999999992,3.3539999999999996,2.7850000000000001,2.2799999999999998,1.91,1.75,1.5460000000000003,1.1599999999999999,1.0044999999999999]
["10CB001","Dec","Sikanni Chief",2196,7.85,0.86428626382303353,6.7846471710108132,8.3120000000000029,7.65,6.95,6.51,6.09,5.61,5.45,5.2140000000000004,4.62,4.0199999999999996]
["10CD003","Dec","Raspberry ",288,0.05,0.32610542879622406,1.6305271439811204E-2,2.1999999999999999E-2,0.01,4.0000000000000001E-3,1E-3,1E-3,0,0,0,0,0]
["10CD004","Dec","Bougie ",338,0.22,8.4928625093914592E-2,1.8684297520661211E-2,2.3E-2,1.0299999999999955E-2,5.0000000000000001E-3,2E-3,1E-3,0,0,0,0,0]
["10CD005","Dec","Adsett ",112,0.06,0.41478096895851418,2.4886858137510851E-2,5.3999999999999999E-2,3.1E-2,1.7000000000000001E-2,8.9999999999999993E-3,4.0000000000000001E-3,2E-3,1E-3,0,0,0]
["10CD006","Dec","Prophet",7320,15.33,0.56215003261578611,8.6177600000000005,11.3,10.5,9.6999999999999993,9,7.0119999999999996,6.7,6.6,6.4960000000000004,5.1879999999999997,4.8099999999999996]

{"sheet":"WSC","index":9,"n_rows":29,"n_cols":8,"rows_kept":29,"cut":false,"hidden":false,"merged":[]}
["WSC Gauge","Name_short","Name","Area (km2)","Type","Record",null,"Gauges (realtime) for dropdown list"]
["07FA001","Halfway (Farrell), Lower","Halfway River near Farrell Creek (Lower)",9400,"discontinued","1961-1983",null,"07FA003"]
["07FA003","Halfway (Graham)","Halfway River above Graham River",3764,"real-time","1977-2021",null,"07FA005"]
["07FA005","Graham","Graham River above Colt Creek",2142,"real-time","1981-2021",null,"07FA006"]
["07FA006","Halfway (Farrell)","Halfway River above Farrell Creek",9340,"real-time","1984-2021",null,"07FB001"]
["07FB001","Pine","Pine River at East Pine",12147,"real-time","1962-2021",null,"07FB003"]
["07FB003","Sukunka","Sukunka R near the mouth",2590,"real-time","1977-2021",null,"07FB004"]
["07FB004","Dickebusch","Dickebusch Cr near the mouth",82.4,"real-time","1978-2021",null,"07FB008"]
["07FB005","Quality","Quality Cr neear the mouth",29.5,"discontinued","1978-2001",null,"07FB009"]
["07FB008","Moberly","Moberly River near Fort St John",1520,"real-time","1980-2021",null,"07FC001"]
["07FB009","Flatbed","Flatbed Cr at km 110",486,"real-time","1982-2020",null,"07FC003"]
["07FB011","Windren","Windren Cr near Chetwynd",23,"discontinued","1986-1998",null,"07FD001"]
["07FC001","Beatton (FSJ)","Beatton River near Fort St. John",15523,"real-time","1961-2021",null,"07FD002"]
["07FC002","St John","St John Creek near Montney",213,"discontinued","1962-1974",null,"07FD007"]
["07FC003","Blueberry","Blueberry River below Aitken Creek",1774,"real-time","1964-2021",null,"07FD009"]
["07FD001","Kiskatinaw","Kiskatinaw River near Farmington",3597,"real-time","1944-2021",null,"07FD011"]
["07FD002","Peace","Peace River near taylor",100759,"real-time","1950-2020",null,"10CA001"]
["07FD004","Alces","Alces River At 22nd Base Line",229,"discontinued","1963-2017",null,"10CB001"]
["07FD007","Pouce Coupe","Pouce Coupe below Henderson",2860,"real-time","1971-2020",null,"10CD003"]
["07FD009","Clear","Clear River near Bear Canyon",2880,"real-time","1971-2021",null,"10CD004"]
["07FD011","Hines","Hines Creek above Gerry Lake",374,"real-time","1974-2020",null,"10CD005"]
["07FD015","Dawson","Dawson Cr above S Dawson Cr",116,"discontinued","1971-1995"]
["10CA001","Fontas","Fontas River near the mouth",7400,"real-time","1988-2021"]
["10CB001","Sikanni Chief","Sikanni Chief River near Fort Nelson",2196,"real-time","1944-2021"]
["10CD003","Raspberry","Raspberry Creek near the Mouth",288,"real-time","1979-2021"]
["10CD004","Bougie","Bougie Creek at Km 368 Alaska Highway",338,"real-time","1981-2021"]
["10CD005","Adsett","Adsett Creek at Km 386 Alaska Highway",112,"real-time","1983-2021"]
["10CD006","Prophet","Prophet River above Cheves Cr",7320,"discontinued","1988-1995"]
["Beatton","Beatton (Tommy Lks)","Beatton at Tommy Lakes Rd",1852,"industry","2013-2022"]

{"sheet":"thresholds","index":10,"n_rows":6,"n_cols":5,"rows_kept":6,"cut":false,"hidden":false,"merged":[[0,2,1,4],[0,1,1,1],[0,0,2,0]]}
["Watershed Size Class","Mean Annual Discharge (MAD)"," Maximum Cumulative Withdrawal, % of Natural or Naturalized Weekly or Monthly Flow"]
[]
[null,"m3/s",">Q80","≤Q80 - >Q95","≤Q95"]
[3,"≥10",0.15,0.05,0.05]
[2,"≥2 - ≤10 ",0.15,0.05,0]
[1,"<2",0.1,0,0]

{"sheet":"Output","index":11,"n_rows":28,"n_cols":37,"rows_kept":28,"cut":false,"hidden":false,"merged":[[10,33,11,34],[10,35,11,36],[10,9,11,32],[9,5,10,7],[8,0,8,3],[9,0,9,3],[12,18,12,20],[12,30,12,32],[12,9,12,11],[12,12,12,14],[12,15,12,17],[12,33,12,34],[12,35,12,36],[12,27,12,29],[12,24,12,26],[12,21,12,23],[4,0,4,1],[0,6,1,7],[0,2,0,3],[2,0,2,1],[3,0,3,1],[2,2,2,3],[5,0,5,1],[12,2,12,3],[12,4,12,5],[12,6,12,7],[10,0,10,3],[7,0,7,4],[7,5,8,5]]}
["Location (USER):",null,null,null,"Date: ",{"$f":"TODAY()","v":"2023-03-22"},"Enter WSA Application Amount:"]
["Location (NEWT):",null,{"$f":"annual!$A$1","v":0}]
["Coordinates:",null,null,null,null,null,"m3/s, or"]
["Wastershed Area (km2):",null,{"$f":"annual!$A3","v":0},null,null,null,"m3/day, or"]
["Mean Annual Discharge (MAD) (m3/s):",null,{"$f":"annual!B3","v":0},null,null,null,"m3/year"]
["Watershed Size Class:",null,{"$f":"IF($C5<2,1,IF($C5>=10,3,2))","v":1},{"$f":"IF($C5<2,\"MAD < 2.0 m3/s\",IF($C5>=10,\"MAD >= 10.0 m3/s\",\"MAD >= 2.0 and < 10.0 m3/s\"))","v":"MAD < 2.0 m3/s"},null,null,"m3/s, used in further calculations",{"$f":"IF(H$3>0,H$3,IF(H$4>0,H$4/(60*60*24),IF(H$5>0,H$5/(365*60*60*24),0)))","v":0}]
[]
["Maximum Water Allocation (MWA) rates, based on EBF threshold",null,null,null,null,"WSC Reference Gauge:","Default","User Selected"]
["When discharge is > 20% Ecosystem Base Flow (EBF) threshold:",null,null,null,{"$f":"VLOOKUP($C$6,thresholds!$A$4:$E$6,3,0)","v":0.1},null,{"$f":"IF(H9=\"\",variability!J3,H9)","v":0}]
["When discharge is > 5% and ≤ 20% Ecosystem Base Flow (EBF) threshold:",null,null,null,{"$f":"VLOOKUP($C$6,thresholds!$A$4:$E$6,4,0)","v":0},{"$f":"VLOOKUP($G$9,WSC!$A$2:$F$27,3,0)","v":{"$error":"#N/A"}}]
["When discharge is ≤ 5% Ecosystem Base Flow (EBF) threshold:",null,null,null,{"$f":"VLOOKUP($C$6,thresholds!$A$4:$E$6,5,0)","v":0},null,null,null,null,"Maximum Water Diversion (m3/sec, m3/day), when discharge is:",null,null,null,null,null,null,null,null,null,null,null,null,null,null,null,null,null,null,null,null,null,null,null,"Ecosystem Base Flow (EBF) (m3/s) at Point of Diversion (POD)",null,"Ecosystem Base Flow (EBF) (m3/s) at WSC Reference Gauge"]
[]
[null,"Mean Monthly Discharge (NEWT)"," Corrected Mean Monthly Discharge",null," Existing WSA authorizations",null,"Existing WSA Authorizations with Application",null,null,"<= 80% and > 70% Frequency",null,null,"<= 70% and > 60% Frequency",null,null,"<= 60% and > 50% Frequency",null,null,"<= 50% > 40% Frequency",null,null,"<= 40% and > 30% Frequency",null,null,"<= 30% and > 20% Frequency",null,null,"<= 20% and > 5% Frequency",null,null,"<= 5% Frequency",null,null,"(Percent Exceedance)",null,"(Percent Exceedance)"]
["Month"," m³/s","m3/s","m3","m3/s","m3","m3/s","m3",null,"m3/day, before application","m3/day, with application","m3/sec, with application","m3/day, before application","m3/day, with application","m3/sec, with application","m3/day, before application","m3/day, with application","m3/sec, with application","m3/day, before application","m3/day, with application","m3/sec, with application","m3/day, before application","m3/day, with application","m3/sec, with application","m3/day, before application","m3/day, with application","m3/sec, with application","m3/day, before application","m3/day, with application","m3/sec, with application","m3/day, before application","m3/day, with application","m3/sec, with application",0.2,0.05,0.2,0.05]
["Jan",{"$f":"monthly!B7","v":0},{"$f":"B15*VLOOKUP($G$9,lookup!A2:Q28,6,0)","v":{"$error":"#N/A"}},{"$f":"C15*60*60*24*31","v":{"$error":"#N/A"}},{"$f":"monthly!B$11+'WSA-adjust'!B10","v":0},{"$f":"E15*60*60*24*31","v":0},{"$f":"H15/(60*60*24*31)","v":0},{"$f":"IF(H$3>0,H$3*60*60*24*31,IF(H$4>0,H$4*31,IF(H$5>0,H$5/365*31)))+F15","v":0},null,{"$f":"IF(((('EBF Calculation'!$B22*$E$9)-$E15)*86400)<0,0,'EBF Calculation'!$B22*$E$9-$E15)*86400","v":{"$error":"#N/A"}},{"$f":"L15*60*60*24","v":{"$error":"#N/A"}},{"$f":"('EBF Calculation'!$B22*$E$9)-$G15","v":{"$error":"#N/A"}},{"$f":"IF(((('EBF Calculation'!$C22*$E$9)-$E15)*86400)<0,0,'EBF Calculation'!$C22*$E$9-$E15)*86400","v":{"$error":"#N/A"}},{"$f":"O15*60*60*24","v":{"$error":"#N/A"}},{"$f":"('EBF Calculation'!$C22*$E$9)-$G15","v":{"$error":"#N/A"}},{"$f":"IF(((('EBF Calculation'!D22*$E$9)-$E15)*86400)<0,0,'EBF Calculation'!D22*$E$9-$E15)*86400","v":{"$error":"#N/A"}},{"$f":"R15*60*60*24","v":{"$error":"#N/A"}},{"$f":"('EBF Calculation'!$D22*$E$9)-$G15","v":{"$error":"#N/A"}},{"$f":"IF(((('EBF Calculation'!E22*$E$9)-$E15)*86400)<0,0,'EBF Calculation'!E22*$E$9-$E15)*86400","v":{"$error":"#N/A"}},{"$f":"U15*60*60*24","v":{"$error":"#N/A"}},{"$f":"('EBF Calculation'!$E22*$E$9)-$G15","v":{"$error":"#N/A"}},{"$f":"IF(((('EBF Calculation'!F22*$E$9)-$E15)*86400)<0,0,'EBF Calculation'!F22*$E$9-$E15)*86400","v":{"$error":"#N/A"}},{"$f":"X15*60*60*24","v":{"$error":"#N/A"}},{"$f":"('EBF Calculation'!$F22*$E$9)-$G15","v":{"$error":"#N/A"}},{"$f":"IF(((('EBF Calculation'!G22*$E$9)-$E15)*86400)<0,0,'EBF Calculation'!G22*$E$9-$E15)*86400","v":{"$error":"#N/A"}},{"$f":"AA15*60*60*24","v":{"$error":"#N/A"}},{"$f":"('EBF Calculation'!$G22*$E$9)-$G15","v":{"$error":"#N/A"}},{"$f":"IF(((('EBF Calculation'!H22*$E$10)-$E15)*86400)<0,0,'EBF Calculation'!H22*$E$10-$E15)*86400","v":{"$error":"#N/A"}},{"$f":"AD15*60*60*24","v":0},{"$f":"IF($E$10=0,0,('EBF Calculation'!$H22*$E$10)-$G15)","v":0},{"$f":"IF(((('EBF Calculation'!I22*$E$11)-$E15)*86400)<0,0,'EBF Calculation'!I22*$E$11-$E15)*86400","v":{"$error":"#N/A"}},{"$f":"AG15*60*60*24","v":0},{"$f":"IF($E$11=0,0,('EBF Calculation'!$I22*$E$11)-$G15)","v":0},{"$f":"($C$4/VLOOKUP($G$9,lookup!A2:Q28,4,0))*AJ15","v":{"$error":"#N/A"}},{"$f":"($C$4/VLOOKUP($G$9,lookup!A2:Q28,4,0))*AK15","v":{"$error":"#N/A"}},{"$f":"VLOOKUP($G$9,lookup!A2:Q28,15,0)","v":{"$error":"#N/A"}},{"$f":"VLOOKUP($G$9,lookup!A2:Q28,17,0)","v":{"$error":"#N/A"}}]
["Feb",{"$f":"monthly!$C7","v":0},{"$f":"B16*VLOOKUP($G$9,lookup!A29:Q55,6,0)","v":{"$error":"#N/A"}},{"$f":"C16*60*60*24*28","v":{"$error":"#N/A"}},{"$f":"monthly!$C$11+'WSA-adjust'!B11","v":0},{"$f":"E16*60*60*24*28","v":0},{"$f":"H16/(60*60*24*28)","v":0},{"$f":"IF(H$3>0,H$3*60*60*24*28,IF(H$4>0,H$4*28,IF(H$5>0,H$5/365*28)))+F16","v":0},null,{"$f":"IF(((('EBF Calculation'!$B23*$E$9)-$E16)*86400)<0,0,'EBF Calculation'!$B23*$E$9-$E16)*86400","v":{"$error":"#N/A"}},{"$f":"L16*60*60*24","v":{"$error":"#N/A"}},{"$f":"('EBF Calculation'!$B23*$E$9)-$G16","v":{"$error":"#N/A"}},{"$f":"IF(((('EBF Calculation'!$C23*$E$9)-$E16)*86400)<0,0,'EBF Calculation'!$C23*$E$9-$E16)*86400","v":{"$error":"#N/A"}},{"$f":"O16*60*60*24","v":{"$error":"#N/A"}},{"$f":"('EBF Calculation'!$C23*$E$9)-$G16","v":{"$error":"#N/A"}},{"$f":"IF(((('EBF Calculation'!D23*$E$9)-$E16)*86400)<0,0,'EBF Calculation'!D23*$E$9-$E16)*86400","v":{"$error":"#N/A"}},{"$f":"R16*60*60*24","v":{"$error":"#N/A"}},{"$f":"('EBF Calculation'!$D23*$E$9)-$G16","v":{"$error":"#N/A"}},{"$f":"IF(((('EBF Calculation'!E23*$E$9)-$E16)*86400)<0,0,'EBF Calculation'!E23*$E$9-$E16)*86400","v":{"$error":"#N/A"}},{"$f":"U16*60*60*24","v":{"$error":"#N/A"}},{"$f":"('EBF Calculation'!$E23*$E$9)-$G16","v":{"$error":"#N/A"}},{"$f":"IF(((('EBF Calculation'!F23*$E$9)-$E16)*86400)<0,0,'EBF Calculation'!F23*$E$9-$E16)*86400","v":{"$error":"#N/A"}},{"$f":"X16*60*60*24","v":{"$error":"#N/A"}},{"$f":"('EBF Calculation'!$F23*$E$9)-$G16","v":{"$error":"#N/A"}},{"$f":"IF(((('EBF Calculation'!G23*$E$9)-$E16)*86400)<0,0,'EBF Calculation'!G23*$E$9-$E16)*86400","v":{"$error":"#N/A"}},{"$f":"AA16*60*60*24","v":{"$error":"#N/A"}},{"$f":"('EBF Calculation'!$G23*$E$9)-$G16","v":{"$error":"#N/A"}},{"$f":"IF(((('EBF Calculation'!H23*$E$10)-$E16)*86400)<0,0,'EBF Calculation'!H23*$E$10-$E16)*86400","v":{"$error":"#N/A"}},{"$f":"AD16*60*60*24","v":0},{"$f":"IF($E$10=0,0,('EBF Calculation'!$H23*$E$10)-$G16)","v":0},{"$f":"IF(((('EBF Calculation'!I23*$E$11)-$E16)*86400)<0,0,'EBF Calculation'!I23*$E$11-$E16)*86400","v":{"$error":"#N/A"}},{"$f":"AG16*60*60*24","v":0},{"$f":"IF($E$11=0,0,('EBF Calculation'!$I23*$E$11)-$G16)","v":0},{"$f":"($C$4/VLOOKUP($G$9,lookup!$A$29:$Q$55,4,0))*AJ16","v":{"$error":"#N/A"}},{"$f":"($C$4/VLOOKUP($G$9,lookup!$A$29:$Q$55,4,0))*AK16","v":{"$error":"#N/A"}},{"$f":"VLOOKUP($G$9,lookup!$A$29:$Q$55,15,0)","v":{"$error":"#N/A"}},{"$f":"VLOOKUP($G$9,lookup!$A$29:$Q$55,17,0)","v":{"$error":"#N/A"}}]
["Mar",{"$f":"monthly!D7","v":0},{"$f":"B17*VLOOKUP($G$9,lookup!A56:Q82,6,0)","v":{"$error":"#N/A"}},{"$f":"C17*60*60*24*31","v":{"$error":"#N/A"}},{"$f":"monthly!D$11+'WSA-adjust'!B12","v":0},0,{"$f":"H17/(60*60*24*31)","v":0},{"$f":"IF(H$3>0,H$3*60*60*24*31,IF(H$4>0,H$4*31,IF(H$5>0,H$5/365*31)))+F17","v":0},null,{"$f":"IF(((('EBF Calculation'!$B24*$E$9)-$E17)*86400)<0,0,'EBF Calculation'!$B24*$E$9-$E17)*86400","v":{"$error":"#N/A"}},{"$error":"#N/A"},{"$f":"('EBF Calculation'!$B24*$E$9)-$G17","v":{"$error":"#N/A"}},{"$f":"IF(((('EBF Calculation'!$C24*$E$9)-$E17)*86400)<0,0,'EBF Calculation'!$C24*$E$9-$E17)*86400","v":{"$error":"#N/A"}},{"$error":"#N/A"},{"$f":"('EBF Calculation'!$C24*$E$9)-$G17","v":{"$error":"#N/A"}},{"$f":"IF(((('EBF Calculation'!D24*$E$9)-$E17)*86400)<0,0,'EBF Calculation'!D24*$E$9-$E17)*86400","v":{"$error":"#N/A"}},{"$error":"#N/A"},{"$f":"('EBF Calculation'!$D24*$E$9)-$G17","v":{"$error":"#N/A"}},{"$f":"IF(((('EBF Calculation'!E24*$E$9)-$E17)*86400)<0,0,'EBF Calculation'!E24*$E$9-$E17)*86400","v":{"$error":"#N/A"}},{"$f":"U17*60*60*24","v":{"$error":"#N/A"}},{"$f":"('EBF Calculation'!$E24*$E$9)-$G17","v":{"$error":"#N/A"}},{"$f":"IF(((('EBF Calculation'!F24*$E$9)-$E17)*86400)<0,0,'EBF Calculation'!F24*$E$9-$E17)*86400","v":{"$error":"#N/A"}},{"$f":"X17*60*60*24","v":{"$error":"#N/A"}},{"$f":"('EBF Calculation'!$F24*$E$9)-$G17","v":{"$error":"#N/A"}},{"$f":"IF(((('EBF Calculation'!G24*$E$9)-$E17)*86400)<0,0,'EBF Calculation'!G24*$E$9-$E17)*86400","v":{"$error":"#N/A"}},{"$f":"AA17*60*60*24","v":{"$error":"#N/A"}},{"$f":"('EBF Calculation'!$G24*$E$9)-$G17","v":{"$error":"#N/A"}},{"$f":"IF(((('EBF Calculation'!H24*$E$10)-$E17)*86400)<0,0,'EBF Calculation'!H24*$E$10-$E17)*86400","v":{"$error":"#N/A"}},0,{"$f":"IF($E$10=0,0,('EBF Calculation'!$H24*$E$10)-$G17)","v":0},{"$f":"IF(((('EBF Calculation'!I24*$E$11)-$E17)*86400)<0,0,'EBF Calculation'!I24*$E$11-$E17)*86400","v":{"$error":"#N/A"}},0,{"$f":"IF($E$11=0,0,('EBF Calculation'!$I24*$E$11)-$G17)","v":0},{"$f":"($C$4/VLOOKUP($G$9,lookup!$A$56:$Q$82,4,0))*AJ17","v":{"$error":"#N/A"}},{"$f":"($C$4/VLOOKUP($G$9,lookup!$A$56:$Q$82,4,0))*AK17","v":{"$error":"#N/A"}},{"$f":"VLOOKUP($G$9,lookup!$A$56:$Q$82,15,0)","v":{"$error":"#N/A"}},{"$f":"VLOOKUP($G$9,lookup!$A$56:$Q$82,17,0)","v":{"$error":"#N/A"}}]
["Apr",{"$f":"monthly!E7","v":0},{"$f":"B18*VLOOKUP($G$9,lookup!A83:Q109,6,0)","v":{"$error":"#N/A"}},{"$f":"C18*60*60*24*30","v":{"$error":"#N/A"}},{"$f":"monthly!E$11+'WSA-adjust'!B13","v":0},{"$f":"E18*60*60*24*30","v":0},{"$f":"H18/(60*60*24*30)","v":0},{"$f":"IF(H$3>0,H$3*60*60*24*30,IF(H$4>0,H$4*30,IF(H$5>0,H$5/365*30)))+F18","v":0},null,{"$f":"IF(((('EBF Calculation'!$B25*$E$9)-$E18)*86400)<0,0,'EBF Calculation'!$B25*$E$9-$E18)*86400","v":{"$error":"#N/A"}},{"$error":"#N/A"},{"$f":"('EBF Calculation'!$B25*$E$9)-$G18","v":{"$error":"#N/A"}},{"$f":"IF(((('EBF Calculation'!$C25*$E$9)-$E18)*86400)<0,0,'EBF Calculation'!$C25*$E$9-$E18)*86400","v":{"$error":"#N/A"}},{"$error":"#N/A"},{"$f":"('EBF Calculation'!$C25*$E$9)-$G18","v":{"$error":"#N/A"}},{"$f":"IF(((('EBF Calculation'!D25*$E$9)-$E18)*86400)<0,0,'EBF Calculation'!D25*$E$9-$E18)*86400","v":{"$error":"#N/A"}},{"$error":"#N/A"},{"$f":"('EBF Calculation'!$D25*$E$9)-$G18","v":{"$error":"#N/A"}},{"$f":"IF(((('EBF Calculation'!E25*$E$9)-$E18)*86400)<0,0,'EBF Calculation'!E25*$E$9-$E18)*86400","v":{"$error":"#N/A"}},{"$f":"U18*60*60*24","v":{"$error":"#N/A"}},{"$f":"('EBF Calculation'!$E25*$E$9)-$G18","v":{"$error":"#N/A"}},{"$f":"IF(((('EBF Calculation'!F25*$E$9)-$E18)*86400)<0,0,'EBF Calculation'!F25*$E$9-$E18)*86400","v":{"$error":"#N/A"}},{"$f":"X18*60*60*24","v":{"$error":"#N/A"}},{"$f":"('EBF Calculation'!$F25*$E$9)-$G18","v":{"$error":"#N/A"}},{"$f":"IF(((('EBF Calculation'!G25*$E$9)-$E18)*86400)<0,0,'EBF Calculation'!G25*$E$9-$E18)*86400","v":{"$error":"#N/A"}},{"$error":"#N/A"},{"$f":"('EBF Calculation'!$G25*$E$9)-$G18","v":{"$error":"#N/A"}},{"$f":"IF(((('EBF Calculation'!H25*$E$10)-$E18)*86400)<0,0,'EBF Calculation'!H25*$E$10-$E18)*86400","v":{"$error":"#N/A"}},0,{"$f":"IF($E$10=0,0,('EBF Calculation'!$H25*$E$10)-$G18)","v":0},{"$f":"IF(((('EBF Calculation'!I25*$E$11)-$E18)*86400)<0,0,'EBF Calculation'!I25*$E$11-$E18)*86400","v":{"$error":"#N/A"}},0,{"$f":"IF($E$11=0,0,('EBF Calculation'!$I25*$E$11)-$G18)","v":0},{"$f":"($C$4/VLOOKUP($G$9,lookup!$A$83:$Q$109,4,0))*AJ18","v":{"$error":"#N/A"}},{"$f":"($C$4/VLOOKUP($G$9,lookup!$A$83:$Q$109,4,0))*AK18","v":{"$error":"#N/A"}},{"$f":"VLOOKUP($G$9,lookup!$A$83:$Q$109,15,0)","v":{"$error":"#N/A"}},{"$f":"VLOOKUP($G$9,lookup!$A$83:$Q$109,17,0)","v":{"$error":"#N/A"}}]
["May",{"$f":"monthly!F7","v":0},{"$f":"B19*VLOOKUP($G$9,lookup!A110:Q136,6,0)","v":{"$error":"#N/A"}},{"$error":"#N/A"},{"$f":"monthly!F$11+'WSA-adjust'!B14","v":0},0,0,{"$f":"IF(H$3>0,H$3*60*60*24*31,IF(H$4>0,H$4*31,IF(H$5>0,H$5/365*31)))+F19","v":0},null,{"$f":"IF(((('EBF Calculation'!$B26*$E$9)-$E19)*86400)<0,0,'EBF Calculation'!$B26*$E$9-$E19)*86400","v":{"$error":"#N/A"}},{"$error":"#N/A"},{"$f":"('EBF Calculation'!$B26*$E$9)-$G19","v":{"$error":"#N/A"}},{"$f":"IF(((('EBF Calculation'!$C26*$E$9)-$E19)*86400)<0,0,'EBF Calculation'!$C26*$E$9-$E19)*86400","v":{"$error":"#N/A"}},{"$error":"#N/A"},{"$f":"('EBF Calculation'!$C26*$E$9)-$G19","v":{"$error":"#N/A"}},{"$f":"IF(((('EBF Calculation'!D26*$E$9)-$E19)*86400)<0,0,'EBF Calculation'!D26*$E$9-$E19)*86400","v":{"$error":"#N/A"}},{"$error":"#N/A"},{"$f":"('EBF Calculation'!$D26*$E$9)-$G19","v":{"$error":"#N/A"}},{"$f":"IF(((('EBF Calculation'!E26*$E$9)-$E19)*86400)<0,0,'EBF Calculation'!E26*$E$9-$E19)*86400","v":{"$error":"#N/A"}},{"$f":"U19*60*60*24","v":{"$error":"#N/A"}},{"$f":"('EBF Calculation'!$E26*$E$9)-$G19","v":{"$error":"#N/A"}},{"$f":"IF(((('EBF Calculation'!F26*$E$9)-$E19)*86400)<0,0,'EBF Calculation'!F26*$E$9-$E19)*86400","v":{"$error":"#N/A"}},{"$f":"X19*60*60*24","v":{"$error":"#N/A"}},{"$f":"('EBF Calculation'!$F26*$E$9)-$G19","v":{"$error":"#N/A"}},{"$f":"IF(((('EBF Calculation'!G26*$E$9)-$E19)*86400)<0,0,'EBF Calculation'!G26*$E$9-$E19)*86400","v":{"$error":"#N/A"}},{"$error":"#N/A"},{"$f":"('EBF Calculation'!$G26*$E$9)-$G19","v":{"$error":"#N/A"}},{"$f":"IF(((('EBF Calculation'!H26*$E$10)-$E19)*86400)<0,0,'EBF Calculation'!H26*$E$10-$E19)*86400","v":{"$error":"#N/A"}},0,{"$f":"IF($E$10=0,0,('EBF Calculation'!$H26*$E$10)-$G19)","v":0},{"$f":"IF(((('EBF Calculation'!I26*$E$11)-$E19)*86400)<0,0,'EBF Calculation'!I26*$E$11-$E19)*86400","v":{"$error":"#N/A"}},0,{"$f":"IF($E$11=0,0,('EBF Calculation'!$I26*$E$11)-$G19)","v":0},{"$f":"($C$4/VLOOKUP($G$9,lookup!$A$110:$Q$136,4,0))*AJ19","v":{"$error":"#N/A"}},{"$f":"($C$4/VLOOKUP($G$9,lookup!$A$110:$Q$136,4,0))*AK19","v":{"$error":"#N/A"}},{"$f":"VLOOKUP($G$9,lookup!$A$110:$Q$136,15,0)","v":{"$error":"#N/A"}},{"$f":"VLOOKUP($G$9,lookup!$A$110:$Q$136,17,0)","v":{"$error":"#N/A"}}]
["Jun",{"$f":"monthly!G7","v":0},{"$f":"B20*VLOOKUP($G$9,lookup!A137:Q163,6,0)","v":{"$error":"#N/A"}},{"$f":"C20*60*60*24*30","v":{"$error":"#N/A"}},{"$f":"monthly!G$11+'WSA-adjust'!B15","v":0},{"$f":"E20*60*60*24*30","v":0},{"$f":"H20/(60*60*24*30)","v":0},{"$f":"IF(H$3>0,H$3*60*60*24*30,IF(H$4>0,H$4*30,IF(H$5>0,H$5/365*30)))+F20","v":0},null,{"$f":"IF(((('EBF Calculation'!$B27*$E$9)-$E20)*86400)<0,0,'EBF Calculation'!$B27*$E$9-$E20)*86400","v":{"$error":"#N/A"}},{"$error":"#N/A"},{"$f":"('EBF Calculation'!$B27*$E$9)-$G20","v":{"$error":"#N/A"}},{"$f":"IF(((('EBF Calculation'!$C27*$E$9)-$E20)*86400)<0,0,'EBF Calculation'!$C27*$E$9-$E20)*86400","v":{"$error":"#N/A"}},{"$error":"#N/A"},{"$f":"('EBF Calculation'!$C27*$E$9)-$G20","v":{"$error":"#N/A"}},{"$f":"IF(((('EBF Calculation'!D27*$E$9)-$E20)*86400)<0,0,'EBF Calculation'!D27*$E$9-$E20)*86400","v":{"$error":"#N/A"}},{"$error":"#N/A"},{"$f":"('EBF Calculation'!$D27*$E$9)-$G20","v":{"$error":"#N/A"}},{"$f":"IF(((('EBF Calculation'!E27*$E$9)-$E20)*86400)<0,0,'EBF Calculation'!E27*$E$9-$E20)*86400","v":{"$error":"#N/A"}},{"$f":"U20*60*60*24","v":{"$error":"#N/A"}},{"$f":"('EBF Calculation'!$E27*$E$9)-$G20","v":{"$error":"#N/A"}},{"$f":"IF(((('EBF Calculation'!F27*$E$9)-$E20)*86400)<0,0,'EBF Calculation'!F27*$E$9-$E20)*86400","v":{"$error":"#N/A"}},{"$f":"X20*60*60*24","v":{"$error":"#N/A"}},{"$f":"('EBF Calculation'!$F27*$E$9)-$G20","v":{"$error":"#N/A"}},{"$f":"IF(((('EBF Calculation'!G27*$E$9)-$E20)*86400)<0,0,'EBF Calculation'!G27*$E$9-$E20)*86400","v":{"$error":"#N/A"}},{"$error":"#N/A"},{"$f":"('EBF Calculation'!$G27*$E$9)-$G20","v":{"$error":"#N/A"}},{"$f":"IF(((('EBF Calculation'!H27*$E$10)-$E20)*86400)<0,0,'EBF Calculation'!H27*$E$10-$E20)*86400","v":{"$error":"#N/A"}},0,{"$f":"IF($E$10=0,0,('EBF Calculation'!$H27*$E$10)-$G20)","v":0},{"$f":"IF(((('EBF Calculation'!I27*$E$11)-$E20)*86400)<0,0,'EBF Calculation'!I27*$E$11-$E20)*86400","v":{"$error":"#N/A"}},0,{"$f":"IF($E$11=0,0,('EBF Calculation'!$I27*$E$11)-$G20)","v":0},{"$f":"($C$4/VLOOKUP($G$9,lookup!$A$137:$Q$163,4,0))*AJ20","v":{"$error":"#N/A"}},{"$f":"($C$4/VLOOKUP($G$9,lookup!$A$137:$Q$163,4,0))*AK20","v":{"$error":"#N/A"}},{"$f":"VLOOKUP($G$9,lookup!$A$137:$Q$163,15,0)","v":{"$error":"#N/A"}},{"$f":"VLOOKUP($G$9,lookup!$A$137:$Q$163,17,0)","v":{"$error":"#N/A"}}]
["Jul",{"$f":"monthly!H7","v":0},{"$f":"B21*VLOOKUP($G$9,lookup!A164:Q190,6,0)","v":{"$error":"#N/A"}},{"$error":"#N/A"},{"$f":"monthly!H$11+'WSA-adjust'!B16","v":0},0,0,{"$f":"IF(H$3>0,H$3*60*60*24*31,IF(H$4>0,H$4*31,IF(H$5>0,H$5/365*31)))+F21","v":0},null,{"$f":"IF(((('EBF Calculation'!$B28*$E$9)-$E21)*86400)<0,0,'EBF Calculation'!$B28*$E$9-$E21)*86400","v":{"$error":"#N/A"}},{"$error":"#N/A"},{"$f":"('EBF Calculation'!$B28*$E$9)-$G21","v":{"$error":"#N/A"}},{"$f":"IF(((('EBF Calculation'!$C28*$E$9)-$E21)*86400)<0,0,'EBF Calculation'!$C28*$E$9-$E21)*86400","v":{"$error":"#N/A"}},{"$error":"#N/A"},{"$f":"('EBF Calculation'!$C28*$E$9)-$G21","v":{"$error":"#N/A"}},{"$f":"IF(((('EBF Calculation'!D28*$E$9)-$E21)*86400)<0,0,'EBF Calculation'!D28*$E$9-$E21)*86400","v":{"$error":"#N/A"}},{"$error":"#N/A"},{"$f":"('EBF Calculation'!$D28*$E$9)-$G21","v":{"$error":"#N/A"}},{"$f":"IF(((('EBF Calculation'!E28*$E$9)-$E21)*86400)<0,0,'EBF Calculation'!E28*$E$9-$E21)*86400","v":{"$error":"#N/A"}},{"$f":"U21*60*60*24","v":{"$error":"#N/A"}},{"$f":"('EBF Calculation'!$E28*$E$9)-$G21","v":{"$error":"#N/A"}},{"$f":"IF(((('EBF Calculation'!F28*$E$9)-$E21)*86400)<0,0,'EBF Calculation'!F28*$E$9-$E21)*86400","v":{"$error":"#N/A"}},{"$f":"X21*60*60*24","v":{"$error":"#N/A"}},{"$f":"('EBF Calculation'!$F28*$E$9)-$G21","v":{"$error":"#N/A"}},{"$f":"IF(((('EBF Calculation'!G28*$E$9)-$E21)*86400)<0,0,'EBF Calculation'!G28*$E$9-$E21)*86400","v":{"$error":"#N/A"}},{"$error":"#N/A"},{"$f":"('EBF Calculation'!$G28*$E$9)-$G21","v":{"$error":"#N/A"}},{"$f":"IF(((('EBF Calculation'!H28*$E$10)-$E21)*86400)<0,0,'EBF Calculation'!H28*$E$10-$E21)*86400","v":{"$error":"#N/A"}},0,{"$f":"IF($E$10=0,0,('EBF Calculation'!$H28*$E$10)-$G21)","v":0},{"$f":"IF(((('EBF Calculation'!I28*$E$11)-$E21)*86400)<0,0,'EBF Calculation'!I28*$E$11-$E21)*86400","v":{"$error":"#N/A"}},0,{"$f":"IF($E$11=0,0,('EBF Calculation'!$I28*$E$11)-$G21)","v":0},{"$f":"($C$4/VLOOKUP($G$9,lookup!$A$164:$Q$190,4,0))*AJ21","v":{"$error":"#N/A"}},{"$f":"($C$4/VLOOKUP($G$9,lookup!$A$164:$Q$190,4,0))*AK21","v":{"$error":"#N/A"}},{"$f":"VLOOKUP($G$9,lookup!$A$164:$Q$190,15,0)","v":{"$error":"#N/A"}},{"$f":"VLOOKUP($G$9,lookup!$A$164:$Q$190,17,0)","v":{"$error":"#N/A"}}]
["Aug",{"$f":"monthly!I7","v":0},{"$f":"B22*VLOOKUP($G$9,lookup!A191:Q217,6,0)","v":{"$error":"#N/A"}},{"$error":"#N/A"},{"$f":"monthly!I$11+'WSA-adjust'!B17","v":0},0,0,{"$f":"IF(H$3>0,H$3*60*60*24*31,IF(H$4>0,H$4*31,IF(H$5>0,H$5/365*31)))+F22","v":0},null,{"$f":"IF(((('EBF Calculation'!$B29*$E$9)-$E22)*86400)<0,0,'EBF Calculation'!$B29*$E$9-$E22)*86400","v":{"$error":"#N/A"}},{"$error":"#N/A"},{"$f":"('EBF Calculation'!$B29*$E$9)-$G22","v":{"$error":"#N/A"}},{"$f":"IF(((('EBF Calculation'!$C29*$E$9)-$E22)*86400)<0,0,'EBF Calculation'!$C29*$E$9-$E22)*86400","v":{"$error":"#N/A"}},{"$error":"#N/A"},{"$f":"('EBF Calculation'!$C29*$E$9)-$G22","v":{"$error":"#N/A"}},{"$f":"IF(((('EBF Calculation'!D29*$E$9)-$E22)*86400)<0,0,'EBF Calculation'!D29*$E$9-$E22)*86400","v":{"$error":"#N/A"}},{"$error":"#N/A"},{"$f":"('EBF Calculation'!$D29*$E$9)-$G22","v":{"$error":"#N/A"}},{"$f":"IF(((('EBF Calculation'!E29*$E$9)-$E22)*86400)<0,0,'EBF Calculation'!E29*$E$9-$E22)*86400","v":{"$error":"#N/A"}},{"$f":"U22*60*60*24","v":{"$error":"#N/A"}},{"$f":"('EBF Calculation'!$E29*$E$9)-$G22","v":{"$error":"#N/A"}},{"$f":"IF(((('EBF Calculation'!F29*$E$9)-$E22)*86400)<0,0,'EBF Calculation'!F29*$E$9-$E22)*86400","v":{"$error":"#N/A"}},{"$f":"X22*60*60*24","v":{"$error":"#N/A"}},{"$f":"('EBF Calculation'!$F29*$E$9)-$G22","v":{"$error":"#N/A"}},{"$f":"IF(((('EBF Calculation'!G29*$E$9)-$E22)*86400)<0,0,'EBF Calculation'!G29*$E$9-$E22)*86400","v":{"$error":"#N/A"}},{"$error":"#N/A"},{"$f":"('EBF Calculation'!$G29*$E$9)-$G22","v":{"$error":"#N/A"}},{"$f":"IF(((('EBF Calculation'!H29*$E$10)-$E22)*86400)<0,0,'EBF Calculation'!H29*$E$10-$E22)*86400","v":{"$error":"#N/A"}},0,{"$f":"IF($E$10=0,0,('EBF Calculation'!$H29*$E$10)-$G22)","v":0},{"$f":"IF(((('EBF Calculation'!I29*$E$11)-$E22)*86400)<0,0,'EBF Calculation'!I29*$E$11-$E22)*86400","v":{"$error":"#N/A"}},0,{"$f":"IF($E$11=0,0,('EBF Calculation'!$I29*$E$11)-$G22)","v":0},{"$f":"($C$4/VLOOKUP($G$9,lookup!$A$191:$Q$217,4,0))*AJ22","v":{"$error":"#N/A"}},{"$f":"($C$4/VLOOKUP($G$9,lookup!$A$191:$Q$217,4,0))*AK22","v":{"$error":"#N/A"}},{"$f":"VLOOKUP($G$9,lookup!$A$191:$Q$217,15,0)","v":{"$error":"#N/A"}},{"$f":"VLOOKUP($G$9,lookup!$A$191:$Q$217,17,0)","v":{"$error":"#N/A"}}]
["Sep",{"$f":"monthly!J7","v":0},{"$f":"B23*VLOOKUP($G$9,lookup!A218:Q244,6,0)","v":{"$error":"#N/A"}},{"$f":"C23*60*60*24*30","v":{"$error":"#N/A"}},{"$f":"monthly!J$11+'WSA-adjust'!B18","v":0},{"$f":"E23*60*60*24*30","v":0},{"$f":"H23/(60*60*24*30)","v":0},{"$f":"IF(H$3>0,H$3*60*60*24*30,IF(H$4>0,H$4*30,IF(H$5>0,H$5/365*30)))+F23","v":0},null,{"$f":"IF(((('EBF Calculation'!$B30*$E$9)-$E23)*86400)<0,0,'EBF Calculation'!$B30*$E$9-$E23)*86400","v":{"$error":"#N/A"}},{"$error":"#N/A"},{"$f":"('EBF Calculation'!$B30*$E$9)-$G23","v":{"$error":"#N/A"}},{"$f":"IF(((('EBF Calculation'!$C30*$E$9)-$E23)*86400)<0,0,'EBF Calculation'!$C30*$E$9-$E23)*86400","v":{"$error":"#N/A"}},{"$error":"#N/A"},{"$f":"('EBF Calculation'!$C30*$E$9)-$G23","v":{"$error":"#N/A"}},{"$f":"IF(((('EBF Calculation'!D30*$E$9)-$E23)*86400)<0,0,'EBF Calculation'!D30*$E$9-$E23)*86400","v":{"$error":"#N/A"}},{"$error":"#N/A"},{"$f":"('EBF Calculation'!$D30*$E$9)-$G23","v":{"$error":"#N/A"}},{"$f":"IF(((('EBF Calculation'!E30*$E$9)-$E23)*86400)<0,0,'EBF Calculation'!E30*$E$9-$E23)*86400","v":{"$error":"#N/A"}},{"$f":"U23*60*60*24","v":{"$error":"#N/A"}},{"$f":"('EBF Calculation'!$E30*$E$9)-$G23","v":{"$error":"#N/A"}},{"$f":"IF(((('EBF Calculation'!F30*$E$9)-$E23)*86400)<0,0,'EBF Calculation'!F30*$E$9-$E23)*86400","v":{"$error":"#N/A"}},{"$f":"X23*60*60*24","v":{"$error":"#N/A"}},{"$f":"('EBF Calculation'!$F30*$E$9)-$G23","v":{"$error":"#N/A"}},{"$f":"IF(((('EBF Calculation'!G30*$E$9)-$E23)*86400)<0,0,'EBF Calculation'!G30*$E$9-$E23)*86400","v":{"$error":"#N/A"}},{"$error":"#N/A"},{"$f":"('EBF Calculation'!$G30*$E$9)-$G23","v":{"$error":"#N/A"}},{"$f":"IF(((('EBF Calculation'!H30*$E$10)-$E23)*86400)<0,0,'EBF Calculation'!H30*$E$10-$E23)*86400","v":{"$error":"#N/A"}},0,{"$f":"IF($E$10=0,0,('EBF Calculation'!$H30*$E$10)-$G23)","v":0},{"$f":"IF(((('EBF Calculation'!I30*$E$11)-$E23)*86400)<0,0,'EBF Calculation'!I30*$E$11-$E23)*86400","v":{"$error":"#N/A"}},0,{"$f":"IF($E$11=0,0,('EBF Calculation'!$I30*$E$11)-$G23)","v":0},{"$f":"($C$4/VLOOKUP($G$9,lookup!$A$218:$Q$244,4,0))*AJ23","v":{"$error":"#N/A"}},{"$f":"($C$4/VLOOKUP($G$9,lookup!$A$218:$Q$244,4,0))*AK23","v":{"$error":"#N/A"}},{"$f":"VLOOKUP($G$9,lookup!$A$218:$Q$244,15,0)","v":{"$error":"#N/A"}},{"$f":"VLOOKUP($G$9,lookup!$A$218:$Q$244,17,0)","v":{"$error":"#N/A"}}]
["Oct",{"$f":"monthly!K7","v":0},{"$f":"B24*VLOOKUP($G$9,lookup!A245:Q271,6,0)","v":{"$error":"#N/A"}},{"$error":"#N/A"},{"$f":"monthly!K$11+'WSA-adjust'!B19","v":0},0,0,{"$f":"IF(H$3>0,H$3*60*60*24*31,IF(H$4>0,H$4*31,IF(H$5>0,H$5/365*31)))+F24","v":0},null,{"$f":"IF(((('EBF Calculation'!$B31*$E$9)-$E24)*86400)<0,0,'EBF Calculation'!$B31*$E$9-$E24)*86400","v":{"$error":"#N/A"}},{"$error":"#N/A"},{"$f":"('EBF Calculation'!$B31*$E$9)-$G24","v":{"$error":"#N/A"}},{"$f":"IF(((('EBF Calculation'!$C31*$E$9)-$E24)*86400)<0,0,'EBF Calculation'!$C31*$E$9-$E24)*86400","v":{"$error":"#N/A"}},{"$error":"#N/A"},{"$f":"('EBF Calculation'!$C31*$E$9)-$G24","v":{"$error":"#N/A"}},{"$f":"IF(((('EBF Calculation'!D31*$E$9)-$E24)*86400)<0,0,'EBF Calculation'!D31*$E$9-$E24)*86400","v":{"$error":"#N/A"}},{"$error":"#N/A"},{"$f":"('EBF Calculation'!$D31*$E$9)-$G24","v":{"$error":"#N/A"}},{"$f":"IF(((('EBF Calculation'!E31*$E$9)-$E24)*86400)<0,0,'EBF Calculation'!E31*$E$9-$E24)*86400","v":{"$error":"#N/A"}},{"$f":"U24*60*60*24","v":{"$error":"#N/A"}},{"$f":"('EBF Calculation'!$E31*$E$9)-$G24","v":{"$error":"#N/A"}},{"$f":"IF(((('EBF Calculation'!F31*$E$9)-$E24)*86400)<0,0,'EBF Calculation'!F31*$E$9-$E24)*86400","v":{"$error":"#N/A"}},{"$f":"X24*60*60*24","v":{"$error":"#N/A"}},{"$f":"('EBF Calculation'!$F31*$E$9)-$G24","v":{"$error":"#N/A"}},{"$f":"IF(((('EBF Calculation'!G31*$E$9)-$E24)*86400)<0,0,'EBF Calculation'!G31*$E$9-$E24)*86400","v":{"$error":"#N/A"}},{"$error":"#N/A"},{"$f":"('EBF Calculation'!$G31*$E$9)-$G24","v":{"$error":"#N/A"}},{"$f":"IF(((('EBF Calculation'!H31*$E$10)-$E24)*86400)<0,0,'EBF Calculation'!H31*$E$10-$E24)*86400","v":{"$error":"#N/A"}},0,{"$f":"IF($E$10=0,0,('EBF Calculation'!$H31*$E$10)-$G24)","v":0},{"$f":"IF(((('EBF Calculation'!I31*$E$11)-$E24)*86400)<0,0,'EBF Calculation'!I31*$E$11-$E24)*86400","v":{"$error":"#N/A"}},0,{"$f":"IF($E$11=0,0,('EBF Calculation'!$I31*$E$11)-$G24)","v":0},{"$f":"($C$4/VLOOKUP($G$9,lookup!$A$245:$Q$271,4,0))*AJ24","v":{"$error":"#N/A"}},{"$f":"($C$4/VLOOKUP($G$9,lookup!$A$245:$Q$271,4,0))*AK24","v":{"$error":"#N/A"}},{"$f":"VLOOKUP($G$9,lookup!$A$245:$Q$271,15,0)","v":{"$error":"#N/A"}},{"$f":"VLOOKUP($G$9,lookup!$A$245:$Q$271,17,0)","v":{"$error":"#N/A"}}]
["Nov",{"$f":"monthly!L7","v":0},{"$f":"B25*VLOOKUP($G$9,lookup!A272:Q298,6,0)","v":{"$error":"#N/A"}},{"$f":"C25*60*60*24*30","v":{"$error":"#N/A"}},{"$f":"monthly!L$11+'WSA-adjust'!B20","v":0},{"$f":"E25*60*60*24*30","v":0},{"$f":"H25/(60*60*24*30)","v":0},{"$f":"IF(H$3>0,H$3*60*60*24*30,IF(H$4>0,H$4*30,IF(H$5>0,H$5/365*30)))+F25","v":0},null,{"$f":"IF(((('EBF Calculation'!$B32*$E$9)-$E25)*86400)<0,0,'EBF Calculation'!$B32*$E$9-$E25)*86400","v":{"$error":"#N/A"}},{"$error":"#N/A"},{"$f":"('EBF Calculation'!$B32*$E$9)-$G25","v":{"$error":"#N/A"}},{"$f":"IF(((('EBF Calculation'!$C32*$E$9)-$E25)*86400)<0,0,'EBF Calculation'!$C32*$E$9-$E25)*86400","v":{"$error":"#N/A"}},{"$error":"#N/A"},{"$f":"('EBF Calculation'!$C32*$E$9)-$G25","v":{"$error":"#N/A"}},{"$f":"IF(((('EBF Calculation'!D32*$E$9)-$E25)*86400)<0,0,'EBF Calculation'!D32*$E$9-$E25)*86400","v":{"$error":"#N/A"}},{"$error":"#N/A"},{"$f":"('EBF Calculation'!$D32*$E$9)-$G25","v":{"$error":"#N/A"}},{"$f":"IF(((('EBF Calculation'!E32*$E$9)-$E25)*86400)<0,0,'EBF Calculation'!E32*$E$9-$E25)*86400","v":{"$error":"#N/A"}},{"$f":"U25*60*60*24","v":{"$error":"#N/A"}},{"$f":"('EBF Calculation'!$E32*$E$9)-$G25","v":{"$error":"#N/A"}},{"$f":"IF(((('EBF Calculation'!F32*$E$9)-$E25)*86400)<0,0,'EBF Calculation'!F32*$E$9-$E25)*86400","v":{"$error":"#N/A"}},{"$f":"X25*60*60*24","v":{"$error":"#N/A"}},{"$f":"('EBF Calculation'!$F32*$E$9)-$G25","v":{"$error":"#N/A"}},{"$f":"IF(((('EBF Calculation'!G32*$E$9)-$E25)*86400)<0,0,'EBF Calculation'!G32*$E$9-$E25)*86400","v":{"$error":"#N/A"}},{"$error":"#N/A"},{"$f":"('EBF Calculation'!$G32*$E$9)-$G25","v":{"$error":"#N/A"}},{"$f":"IF(((('EBF Calculation'!H32*$E$10)-$E25)*86400)<0,0,'EBF Calculation'!H32*$E$10-$E25)*86400","v":{"$error":"#N/A"}},0,{"$f":"IF($E$10=0,0,('EBF Calculation'!$H32*$E$10)-$G25)","v":0},{"$f":"IF(((('EBF Calculation'!I32*$E$11)-$E25)*86400)<0,0,'EBF Calculation'!I32*$E$11-$E25)*86400","v":{"$error":"#N/A"}},0,{"$f":"IF($E$11=0,0,('EBF Calculation'!$I32*$E$11)-$G25)","v":0},{"$f":"($C$4/VLOOKUP($G$9,lookup!$A$272:$Q$298,4,0))*AJ25","v":{"$error":"#N/A"}},{"$f":"($C$4/VLOOKUP($G$9,lookup!$A$272:$Q$298,4,0))*AK25","v":{"$error":"#N/A"}},{"$f":"VLOOKUP($G$9,lookup!$A$272:$Q$298,15,0)","v":{"$error":"#N/A"}},{"$f":"VLOOKUP($G$9,lookup!$A$272:$Q$298,17,0)","v":{"$error":"#N/A"}}]
["Dec",{"$f":"monthly!M7","v":0},{"$f":"B26*VLOOKUP($G$9,lookup!A299:Q325,6,0)","v":{"$error":"#N/A"}},{"$error":"#N/A"},{"$f":"monthly!M$11+'WSA-adjust'!B21","v":0},0,0,{"$f":"IF(H$3>0,H$3*60*60*24*31,IF(H$4>0,H$4*31,IF(H$5>0,H$5/365*31)))+F26","v":0},null,{"$f":"IF(((('EBF Calculation'!$B33*$E$9)-$E26)*86400)<0,0,'EBF Calculation'!$B33*$E$9-$E26)*86400","v":{"$error":"#N/A"}},{"$error":"#N/A"},{"$f":"('EBF Calculation'!$B33*$E$9)-$G26","v":{"$error":"#N/A"}},{"$f":"IF(((('EBF Calculation'!$C33*$E$9)-$E26)*86400)<0,0,'EBF Calculation'!$C33*$E$9-$E26)*86400","v":{"$error":"#N/A"}},{"$error":"#N/A"},{"$f":"('EBF Calculation'!$C33*$E$9)-$G26","v":{"$error":"#N/A"}},{"$f":"IF(((('EBF Calculation'!D33*$E$9)-$E26)*86400)<0,0,'EBF Calculation'!D33*$E$9-$E26)*86400","v":{"$error":"#N/A"}},{"$error":"#N/A"},{"$f":"('EBF Calculation'!$D33*$E$9)-$G26","v":{"$error":"#N/A"}},{"$f":"IF(((('EBF Calculation'!E33*$E$9)-$E26)*86400)<0,0,'EBF Calculation'!E33*$E$9-$E26)*86400","v":{"$error":"#N/A"}},{"$f":"U26*60*60*24","v":{"$error":"#N/A"}},{"$f":"('EBF Calculation'!$E33*$E$9)-$G26","v":{"$error":"#N/A"}},{"$f":"IF(((('EBF Calculation'!F33*$E$9)-$E26)*86400)<0,0,'EBF Calculation'!F33*$E$9-$E26)*86400","v":{"$error":"#N/A"}},{"$f":"X26*60*60*24","v":{"$error":"#N/A"}},{"$f":"('EBF Calculation'!$F33*$E$9)-$G26","v":{"$error":"#N/A"}},{"$f":"IF(((('EBF Calculation'!G33*$E$9)-$E26)*86400)<0,0,'EBF Calculation'!G33*$E$9-$E26)*86400","v":{"$error":"#N/A"}},{"$error":"#N/A"},{"$f":"('EBF Calculation'!$G33*$E$9)-$G26","v":{"$error":"#N/A"}},{"$f":"IF(((('EBF Calculation'!H33*$E$10)-$E26)*86400)<0,0,'EBF Calculation'!H33*$E$10-$E26)*86400","v":{"$error":"#N/A"}},0,{"$f":"IF($E$10=0,0,('EBF Calculation'!$H33*$E$10)-$G26)","v":0},{"$f":"IF(((('EBF Calculation'!I33*$E$11)-$E26)*86400)<0,0,'EBF Calculation'!I33*$E$11-$E26)*86400","v":{"$error":"#N/A"}},0,{"$f":"IF($E$11=0,0,('EBF Calculation'!$I33*$E$11)-$G26)","v":0},{"$f":"($C$4/VLOOKUP($G$9,lookup!$A$299:$Q$325,4,0))*AJ26","v":{"$error":"#N/A"}},{"$f":"($C$4/VLOOKUP($G$9,lookup!$A$299:$Q$325,4,0))*AK26","v":{"$error":"#N/A"}},{"$f":"VLOOKUP($G$9,lookup!$A$299:$Q$325,15,0)","v":{"$error":"#N/A"}},{"$f":"VLOOKUP($G$9,lookup!$A$299:$Q$325,17,0)","v":{"$error":"#N/A"}}]
[]
["Annual",{"$f":"((B15*31)+(B16*28)+(B17*31)+(B18*30)+(B19*31)+(B20*30)+(B21*31)+(B22*31)+(B23*30)+(B24*31)+(B25*30)+(B26*31))/365","v":0},{"$f":"((C15*31)+(C16*28)+(C17*31)+(C18*30)+(C19*31)+(C20*30)+(C21*31)+(C22*31)+(C23*30)+(C24*31)+(C25*30)+(C26*31))/365","v":{"$error":"#N/A"}},{"$f":"C28*60*60*24*365","v":{"$error":"#N/A"}}]

{"sheet":"Diversion Schedule","index":12,"n_rows":28,"n_cols":23,"rows_kept":28,"cut":false,"hidden":false,"merged":[[2,1,2,2],[3,1,3,2],[8,0,9,0],[14,2,14,3],[14,14,14,15],[3,3,3,4],[4,3,4,4],[6,3,6,5],[14,17,14,18],[14,20,14,21],[14,11,14,12],[14,5,14,6],[14,8,14,9]]}
["Schedule 1. Diversion Table"]
[]
["POD Location:",{"$f":"Output!C1","v":0},null,"Location (NEWT):",null,{"$f":"Output!C2","v":0}]
["POD Coordinates:",{"$f":"Output!C3","v":0},null,"Wastershed Area (km2):",null,{"$f":"Output!C4","v":0}]
["Authorization Holder:",null,null,"Mean Annual Discharge (MAD) (m3/s):",null,{"$f":"Output!C5","v":0}]
["Authorization Number:",null,null,"Reference Gauge:",null,{"$f":"Output!G9","v":0}]
["Date:",{"$f":"TODAY()","v":"2023-03-22"},null,{"$f":"Output!F10","v":{"$error":"#N/A"}}]
[]
["Maximum approved diversion rate:",{"$f":"Output!H6","v":0},"m3/s"]
[null,{"$f":"B9*(60*60*24)","v":0},"m3/day"]
[]
[]
["Column","[B]","[C]","[D]","[E]","[F]","[G]","[H]","[I]","[J]","[K]","[L]","[M]","[N]","[O]","[P]","[Q]","[R]","[S]","[T]","[U]","[V]","[W]"]
["Discharge Percentile",0.8,null,null,0.7,null,null,0.6,null,null,0.5,null,null,0.4,null,null,0.3,null,null,0.2,null,null,0.05]
["Description","80% Frequency Cutback Threshold at Reference Gauge","Diversion Limit at POD when Discharge at Reference Gauge is ≤ 80% Frequency",null,"70% Frequency Cutback Threshold at Reference Gauge","Diversion Limit at POD when Discharge at Reference Gauge is ≤< 70% Frequency",null,"60% Frequency Cutback Threshold at Reference Gauge","Diversion Limit at POD when Discharge at Reference Gauge is ≤ 60% Frequency",null,"50% Frequency Cutback Threshold at Reference Gauge","Diversion Limit at POD when Discharge at Reference Gauge is ≤ 50% Frequency",null,"40% Frequency Cutback Threshold at Reference Gauge","Diversion Limit at POD when Discharge at Reference Gauge is ≤ 40% Frequency",null,"30% Frequency Cutback Threshold at Reference Gauge","Diversion Limit at POD when Discharge at Reference Gauge is ≤ 30% Frequency",null,"20% Frequency Cutback Threshold at Reference Gauge","Diversion Limit at POD when Discharge at Reference Gauge is ≤ 20% Frequency",null,"\"No Diversion\" Cutoff Threshold at Reference Gauge"]
["Month","m3/s","m3/day","m3/s","m3/s","m3/day","m3/s","m3/s","m3/day","m3/s","m3/s","m3/day","m3/s","m3/s","m3/day","m3/s","m3/s","m3/day","m3/s","m3/s","m3/day","m3/s","m3/s"]
["Jan",{"$f":"VLOOKUP(Output!$G$9,lookup!$A$2:$Q$28,8,0)","v":{"$error":"#N/A"}},{"$f":"D17*60*60*24","v":{"$error":"#N/A"}},{"$f":"IF(Output!L15>0,Output!$H$6,IF(Output!L15<-Output!$H$6,0,Output!$H$6+Output!L15))","v":{"$error":"#N/A"}},{"$f":"VLOOKUP(Output!$G$9,lookup!$A$2:$Q$28,9,0)","v":{"$error":"#N/A"}},{"$f":"G17*60*60*24","v":{"$error":"#N/A"}},{"$f":"IF(Output!O15>0,Output!$H$6,IF(Output!O15<-Output!$H$6,0,Output!$H$6+Output!O15))","v":{"$error":"#N/A"}},{"$f":"VLOOKUP(Output!$G$9,lookup!$A$2:$Q$28,10,0)","v":{"$error":"#N/A"}},{"$f":"J17*60*60*24","v":{"$error":"#N/A"}},{"$f":"IF(Output!R15>0,Output!$H$6,IF(Output!R15<-Output!$H$6,0,Output!$H$6+Output!R15))","v":{"$error":"#N/A"}},{"$f":"VLOOKUP(Output!$G$9,lookup!$A$2:$Q$28,11,0)","v":{"$error":"#N/A"}},{"$f":"M17*60*60*24","v":{"$error":"#N/A"}},{"$f":"IF(Output!U15>0,Output!$H$6,IF(Output!U15<-Output!$H$6,0,Output!$H$6+Output!U15))","v":{"$error":"#N/A"}},{"$f":"VLOOKUP(Output!$G$9,lookup!$A$2:$Q$28,12,0)","v":{"$error":"#N/A"}},{"$f":"P17*60*60*24","v":{"$error":"#N/A"}},{"$f":"IF(Output!X15>0,Output!$H$6,IF(Output!X15<-Output!$H$6,0,Output!$H$6+Output!X15))","v":{"$error":"#N/A"}},{"$f":"VLOOKUP(Output!$G$9,lookup!$A$2:$Q$28,13,0)","v":{"$error":"#N/A"}},{"$f":"S17*60*60*24","v":{"$error":"#N/A"}},{"$f":"IF(Output!AA15>0,Output!$H$6,IF(Output!AA15<-Output!$H$6,0,Output!$H$6+Output!AA15))","v":{"$error":"#N/A"}},{"$f":"VLOOKUP(Output!$G$9,lookup!$A$2:$Q$28,15,0)","v":{"$error":"#N/A"}},{"$f":"V17*60*60*24","v":0},{"$f":"IF(Output!$E$10=0,0,IF(Output!AD15>0,Output!$H$6,IF(Output!AD15<-Output!$H$6,0,Output!$H$6+Output!AD15)))","v":0},{"$f":"IF(Output!$E$11>0,0,VLOOKUP(Output!$G$9,lookup!$A$2:$Q$28,17,0))","v":{"$error":"#N/A"}}]
["Feb",{"$f":"VLOOKUP(Output!$G$9,lookup!$A$29:$Q$55,8,0)","v":{"$error":"#N/A"}},{"$f":"D18*60*60*24","v":{"$error":"#N/A"}},{"$f":"IF(Output!L16>0,Output!$H$6,IF(Output!L16<-Output!$H$6,0,Output!$H$6+Output!L16))","v":{"$error":"#N/A"}},{"$f":"VLOOKUP(Output!$G$9,lookup!$A$29:$Q$55,9,0)","v":{"$error":"#N/A"}},{"$f":"G18*60*60*24","v":{"$error":"#N/A"}},{"$f":"IF(Output!O16>0,Output!$H$6,IF(Output!O16<-Output!$H$6,0,Output!$H$6+Output!O16))","v":{"$error":"#N/A"}},{"$f":"VLOOKUP(Output!$G$9,lookup!$A$29:$Q$55,10,0)","v":{"$error":"#N/A"}},{"$f":"J18*60*60*24","v":{"$error":"#N/A"}},{"$f":"IF(Output!R16>0,Output!$H$6,IF(Output!R16<-Output!$H$6,0,Output!$H$6+Output!R16))","v":{"$error":"#N/A"}},{"$f":"VLOOKUP(Output!$G$9,lookup!$A$29:$Q$55,11,0)","v":{"$error":"#N/A"}},{"$f":"M18*60*60*24","v":{"$error":"#N/A"}},{"$f":"IF(Output!U16>0,Output!$H$6,IF(Output!U16<-Output!$H$6,0,Output!$H$6+Output!U16))","v":{"$error":"#N/A"}},{"$f":"VLOOKUP(Output!$G$9,lookup!$A$29:$Q$55,12,0)","v":{"$error":"#N/A"}},{"$f":"P18*60*60*24","v":{"$error":"#N/A"}},{"$f":"IF(Output!X16>0,Output!$H$6,IF(Output!X16<-Output!$H$6,0,Output!$H$6+Output!X16))","v":{"$error":"#N/A"}},{"$f":"VLOOKUP(Output!$G$9,lookup!$A$29:$Q$55,13,0)","v":{"$error":"#N/A"}},{"$f":"S18*60*60*24","v":{"$error":"#N/A"}},{"$f":"IF(Output!AA16>0,Output!$H$6,IF(Output!AA16<-Output!$H$6,0,Output!$H$6+Output!AA16))","v":{"$error":"#N/A"}},{"$f":"VLOOKUP(Output!$G$9,lookup!$A$29:$Q$55,15,0)","v":{"$error":"#N/A"}},{"$f":"V18*60*60*24","v":0},{"$f":"IF(Output!$E$10=0,0,IF(Output!AD16>0,Output!$H$6,IF(Output!AD16<-Output!$H$6,0,Output!$H$6+Output!AD16)))","v":0},{"$f":"IF(Output!$E$11>0,0,VLOOKUP(Output!$G$9,lookup!$A$29:$Q$55,17,0))","v":{"$error":"#N/A"}}]
["Mar",{"$f":"VLOOKUP(Output!$G$9,lookup!$A$56:$Q$82,8,0)","v":{"$error":"#N/A"}},{"$error":"#N/A"},{"$f":"IF(Output!L17>0,Output!$H$6,IF(Output!L17<-Output!$H$6,0,Output!$H$6+Output!L17))","v":{"$error":"#N/A"}},{"$f":"VLOOKUP(Output!$G$9,lookup!$A$56:$Q$82,9,0)","v":{"$error":"#N/A"}},{"$error":"#N/A"},{"$f":"IF(Output!O17>0,Output!$H$6,IF(Output!O17<-Output!$H$6,0,Output!$H$6+Output!O17))","v":{"$error":"#N/A"}},{"$f":"VLOOKUP(Output!$G$9,lookup!$A$56:$Q$82,10,0)","v":{"$error":"#N/A"}},{"$error":"#N/A"},{"$f":"IF(Output!R17>0,Output!$H$6,IF(Output!R17<-Output!$H$6,0,Output!$H$6+Output!R17))","v":{"$error":"#N/A"}},{"$f":"VLOOKUP(Output!$G$9,lookup!$A$56:$Q$82,11,0)","v":{"$error":"#N/A"}},{"$error":"#N/A"},{"$f":"IF(Output!U17>0,Output!$H$6,IF(Output!U17<-Output!$H$6,0,Output!$H$6+Output!U17))","v":{"$error":"#N/A"}},{"$f":"VLOOKUP(Output!$G$9,lookup!$A$56:$Q$82,12,0)","v":{"$error":"#N/A"}},{"$error":"#N/A"},{"$f":"IF(Output!X17>0,Output!$H$6,IF(Output!X17<-Output!$H$6,0,Output!$H$6+Output!X17))","v":{"$error":"#N/A"}},{"$f":"VLOOKUP(Output!$G$9,lookup!$A$56:$Q$82,13,0)","v":{"$error":"#N/A"}},{"$error":"#N/A"},{"$f":"IF(Output!AA17>0,Output!$H$6,IF(Output!AA17<-Output!$H$6,0,Output!$H$6+Output!AA17))","v":{"$error":"#N/A"}},{"$f":"VLOOKUP(Output!$G$9,lookup!$A$56:$Q$82,15,0)","v":{"$error":"#N/A"}},0,{"$f":"IF(Output!$E$10=0,0,IF(Output!AD17>0,Output!$H$6,IF(Output!AD17<-Output!$H$6,0,Output!$H$6+Output!AD17)))","v":0},{"$f":"IF(Output!$E$11>0,0,VLOOKUP(Output!$G$9,lookup!$A$56:$Q$82,17,0))","v":{"$error":"#N/A"}}]
["Apr",{"$f":"VLOOKUP(Output!$G$9,lookup!$A$83:$Q$109,8,0)","v":{"$error":"#N/A"}},{"$error":"#N/A"},{"$f":"IF(Output!L18>0,Output!$H$6,IF(Output!L18<-Output!$H$6,0,Output!$H$6+Output!L18))","v":{"$error":"#N/A"}},{"$f":"VLOOKUP(Output!$G$9,lookup!$A$83:$Q$109,9,0)","v":{"$error":"#N/A"}},{"$error":"#N/A"},{"$f":"IF(Output!O18>0,Output!$H$6,IF(Output!O18<-Output!$H$6,0,Output!$H$6+Output!O18))","v":{"$error":"#N/A"}},{"$f":"VLOOKUP(Output!$G$9,lookup!$A$83:$Q$109,10,0)","v":{"$error":"#N/A"}},{"$error":"#N/A"},{"$f":"IF(Output!R18>0,Output!$H$6,IF(Output!R18<-Output!$H$6,0,Output!$H$6+Output!R18))","v":{"$error":"#N/A"}},{"$f":"VLOOKUP(Output!$G$9,lookup!$A$83:$Q$109,11,0)","v":{"$error":"#N/A"}},{"$error":"#N/A"},{"$f":"IF(Output!U18>0,Output!$H$6,IF(Output!U18<-Output!$H$6,0,Output!$H$6+Output!U18))","v":{"$error":"#N/A"}},{"$f":"VLOOKUP(Output!$G$9,lookup!$A$83:$Q$109,12,0)","v":{"$error":"#N/A"}},{"$error":"#N/A"},{"$f":"IF(Output!X18>0,Output!$H$6,IF(Output!X18<-Output!$H$6,0,Output!$H$6+Output!X18))","v":{"$error":"#N/A"}},{"$f":"VLOOKUP(Output!$G$9,lookup!$A$83:$Q$109,13,0)","v":{"$error":"#N/A"}},{"$error":"#N/A"},{"$f":"IF(Output!AA18>0,Output!$H$6,IF(Output!AA18<-Output!$H$6,0,Output!$H$6+Output!AA18))","v":{"$error":"#N/A"}},{"$f":"VLOOKUP(Output!$G$9,lookup!$A$83:$Q$109,15,0)","v":{"$error":"#N/A"}},0,{"$f":"IF(Output!$E$10=0,0,IF(Output!AD18>0,Output!$H$6,IF(Output!AD18<-Output!$H$6,0,Output!$H$6+Output!AD18)))","v":0},{"$f":"IF(Output!$E$11>0,0,VLOOKUP(Output!$G$9,lookup!$A$83:$Q$109,17,0))","v":{"$error":"#N/A"}}]
["May",{"$f":"VLOOKUP(Output!$G$9,lookup!$A$110:$Q$136,8,0)","v":{"$error":"#N/A"}},{"$error":"#N/A"},{"$f":"IF(Output!L19>0,Output!$H$6,IF(Output!L19<-Output!$H$6,0,Output!$H$6+Output!L19))","v":{"$error":"#N/A"}},{"$f":"VLOOKUP(Output!$G$9,lookup!$A$110:$Q$136,9,0)","v":{"$error":"#N/A"}},{"$error":"#N/A"},{"$f":"IF(Output!O19>0,Output!$H$6,IF(Output!O19<-Output!$H$6,0,Output!$H$6+Output!O19))","v":{"$error":"#N/A"}},{"$f":"VLOOKUP(Output!$G$9,lookup!$A$110:$Q$136,10,0)","v":{"$error":"#N/A"}},{"$error":"#N/A"},{"$f":"IF(Output!R19>0,Output!$H$6,IF(Output!R19<-Output!$H$6,0,Output!$H$6+Output!R19))","v":{"$error":"#N/A"}},{"$f":"VLOOKUP(Output!$G$9,lookup!$A$110:$Q$136,11,0)","v":{"$error":"#N/A"}},{"$error":"#N/A"},{"$f":"IF(Output!U19>0,Output!$H$6,IF(Output!U19<-Output!$H$6,0,Output!$H$6+Output!U19))","v":{"$error":"#N/A"}},{"$f":"VLOOKUP(Output!$G$9,lookup!$A$110:$Q$136,12,0)","v":{"$error":"#N/A"}},{"$error":"#N/A"},{"$f":"IF(Output!X19>0,Output!$H$6,IF(Output!X19<-Output!$H$6,0,Output!$H$6+Output!X19))","v":{"$error":"#N/A"}},{"$f":"VLOOKUP(Output!$G$9,lookup!$A$110:$Q$136,13,0)","v":{"$error":"#N/A"}},{"$error":"#N/A"},{"$f":"IF(Output!AA19>0,Output!$H$6,IF(Output!AA19<-Output!$H$6,0,Output!$H$6+Output!AA19))","v":{"$error":"#N/A"}},{"$f":"VLOOKUP(Output!$G$9,lookup!$A$110:$Q$136,15,0)","v":{"$error":"#N/A"}},0,{"$f":"IF(Output!$E$10=0,0,IF(Output!AD19>0,Output!$H$6,IF(Output!AD19<-Output!$H$6,0,Output!$H$6+Output!AD19)))","v":0},{"$f":"IF(Output!$E$11>0,0,VLOOKUP(Output!$G$9,lookup!$A$110:$Q$136,17,0))","v":{"$error":"#N/A"}}]
["Jun",{"$f":"VLOOKUP(Output!$G$9,lookup!$A$137:$Q$163,8,0)","v":{"$error":"#N/A"}},{"$error":"#N/A"},{"$f":"IF(Output!L20>0,Output!$H$6,IF(Output!L20<-Output!$H$6,0,Output!$H$6+Output!L20))","v":{"$error":"#N/A"}},{"$f":"VLOOKUP(Output!$G$9,lookup!$A$137:$Q$163,9,0)","v":{"$error":"#N/A"}},{"$error":"#N/A"},{"$f":"IF(Output!O20>0,Output!$H$6,IF(Output!O20<-Output!$H$6,0,Output!$H$6+Output!O20))","v":{"$error":"#N/A"}},{"$f":"VLOOKUP(Output!$G$9,lookup!$A$137:$Q$163,10,0)","v":{"$error":"#N/A"}},{"$error":"#N/A"},{"$f":"IF(Output!R20>0,Output!$H$6,IF(Output!R20<-Output!$H$6,0,Output!$H$6+Output!R20))","v":{"$error":"#N/A"}},{"$f":"VLOOKUP(Output!$G$9,lookup!$A$137:$Q$163,11,0)","v":{"$error":"#N/A"}},{"$error":"#N/A"},{"$f":"IF(Output!U20>0,Output!$H$6,IF(Output!U20<-Output!$H$6,0,Output!$H$6+Output!U20))","v":{"$error":"#N/A"}},{"$f":"VLOOKUP(Output!$G$9,lookup!$A$137:$Q$163,12,0)","v":{"$error":"#N/A"}},{"$error":"#N/A"},{"$f":"IF(Output!X20>0,Output!$H$6,IF(Output!X20<-Output!$H$6,0,Output!$H$6+Output!X20))","v":{"$error":"#N/A"}},{"$f":"VLOOKUP(Output!$G$9,lookup!$A$137:$Q$163,13,0)","v":{"$error":"#N/A"}},{"$error":"#N/A"},{"$f":"IF(Output!AA20>0,Output!$H$6,IF(Output!AA20<-Output!$H$6,0,Output!$H$6+Output!AA20))","v":{"$error":"#N/A"}},{"$f":"VLOOKUP(Output!$G$9,lookup!$A$137:$Q$163,15,0)","v":{"$error":"#N/A"}},0,{"$f":"IF(Output!$E$10=0,0,IF(Output!AD20>0,Output!$H$6,IF(Output!AD20<-Output!$H$6,0,Output!$H$6+Output!AD20)))","v":0},{"$f":"IF(Output!$E$11>0,0,VLOOKUP(Output!$G$9,lookup!$A$137:$Q$163,17,0))","v":{"$error":"#N/A"}}]
["Jul",{"$f":"VLOOKUP(Output!$G$9,lookup!$A$164:$Q$190,8,0)","v":{"$error":"#N/A"}},{"$error":"#N/A"},{"$f":"IF(Output!L21>0,Output!$H$6,IF(Output!L21<-Output!$H$6,0,Output!$H$6+Output!L21))","v":{"$error":"#N/A"}},{"$f":"VLOOKUP(Output!$G$9,lookup!$A$164:$Q$190,9,0)","v":{"$error":"#N/A"}},{"$error":"#N/A"},{"$f":"IF(Output!O21>0,Output!$H$6,IF(Output!O21<-Output!$H$6,0,Output!$H$6+Output!O21))","v":{"$error":"#N/A"}},{"$f":"VLOOKUP(Output!$G$9,lookup!$A$164:$Q$190,10,0)","v":{"$error":"#N/A"}},{"$error":"#N/A"},{"$f":"IF(Output!R21>0,Output!$H$6,IF(Output!R21<-Output!$H$6,0,Output!$H$6+Output!R21))","v":{"$error":"#N/A"}},{"$f":"VLOOKUP(Output!$G$9,lookup!$A$164:$Q$190,11,0)","v":{"$error":"#N/A"}},{"$error":"#N/A"},{"$f":"IF(Output!U21>0,Output!$H$6,IF(Output!U21<-Output!$H$6,0,Output!$H$6+Output!U21))","v":{"$error":"#N/A"}},{"$f":"VLOOKUP(Output!$G$9,lookup!$A$164:$Q$190,12,0)","v":{"$error":"#N/A"}},{"$error":"#N/A"},{"$f":"IF(Output!X21>0,Output!$H$6,IF(Output!X21<-Output!$H$6,0,Output!$H$6+Output!X21))","v":{"$error":"#N/A"}},{"$f":"VLOOKUP(Output!$G$9,lookup!$A$164:$Q$190,13,0)","v":{"$error":"#N/A"}},{"$error":"#N/A"},{"$f":"IF(Output!AA21>0,Output!$H$6,IF(Output!AA21<-Output!$H$6,0,Output!$H$6+Output!AA21))","v":{"$error":"#N/A"}},{"$f":"VLOOKUP(Output!$G$9,lookup!$A$164:$Q$190,15,0)","v":{"$error":"#N/A"}},0,{"$f":"IF(Output!$E$10=0,0,IF(Output!AD21>0,Output!$H$6,IF(Output!AD21<-Output!$H$6,0,Output!$H$6+Output!AD21)))","v":0},{"$f":"IF(Output!$E$11>0,0,VLOOKUP(Output!$G$9,lookup!$A$164:$Q$190,17,0))","v":{"$error":"#N/A"}}]
["Aug",{"$f":"VLOOKUP(Output!$G$9,lookup!$A$191:$Q$217,8,0)","v":{"$error":"#N/A"}},{"$error":"#N/A"},{"$f":"IF(Output!L22>0,Output!$H$6,IF(Output!L22<-Output!$H$6,0,Output!$H$6+Output!L22))","v":{"$error":"#N/A"}},{"$f":"VLOOKUP(Output!$G$9,lookup!$A$191:$Q$217,9,0)","v":{"$error":"#N/A"}},{"$error":"#N/A"},{"$f":"IF(Output!O22>0,Output!$H$6,IF(Output!O22<-Output!$H$6,0,Output!$H$6+Output!O22))","v":{"$error":"#N/A"}},{"$f":"VLOOKUP(Output!$G$9,lookup!$A$191:$Q$217,10,0)","v":{"$error":"#N/A"}},{"$error":"#N/A"},{"$f":"IF(Output!R22>0,Output!$H$6,IF(Output!R22<-Output!$H$6,0,Output!$H$6+Output!R22))","v":{"$error":"#N/A"}},{"$f":"VLOOKUP(Output!$G$9,lookup!$A$191:$Q$217,11,0)","v":{"$error":"#N/A"}},{"$error":"#N/A"},{"$f":"IF(Output!U22>0,Output!$H$6,IF(Output!U22<-Output!$H$6,0,Output!$H$6+Output!U22))","v":{"$error":"#N/A"}},{"$f":"VLOOKUP(Output!$G$9,lookup!$A$191:$Q$217,12,0)","v":{"$error":"#N/A"}},{"$error":"#N/A"},{"$f":"IF(Output!X22>0,Output!$H$6,IF(Output!X22<-Output!$H$6,0,Output!$H$6+Output!X22))","v":{"$error":"#N/A"}},{"$f":"VLOOKUP(Output!$G$9,lookup!$A$191:$Q$217,13,0)","v":{"$error":"#N/A"}},{"$error":"#N/A"},{"$f":"IF(Output!AA22>0,Output!$H$6,IF(Output!AA22<-Output!$H$6,0,Output!$H$6+Output!AA22))","v":{"$error":"#N/A"}},{"$f":"VLOOKUP(Output!$G$9,lookup!$A$191:$Q$217,15,0)","v":{"$error":"#N/A"}},0,{"$f":"IF(Output!$E$10=0,0,IF(Output!AD22>0,Output!$H$6,IF(Output!AD22<-Output!$H$6,0,Output!$H$6+Output!AD22)))","v":0},{"$f":"IF(Output!$E$11>0,0,VLOOKUP(Output!$G$9,lookup!$A$191:$Q$217,17,0))","v":{"$error":"#N/A"}}]
["Sep",{"$f":"VLOOKUP(Output!$G$9,lookup!$A$218:$Q$244,8,0)","v":{"$error":"#N/A"}},{"$error":"#N/A"},{"$f":"IF(Output!L23>0,Output!$H$6,IF(Output!L23<-Output!$H$6,0,Output!$H$6+Output!L23))","v":{"$error":"#N/A"}},{"$f":"VLOOKUP(Output!$G$9,lookup!$A$218:$Q$244,9,0)","v":{"$error":"#N/A"}},{"$error":"#N/A"},{"$f":"IF(Output!O23>0,Output!$H$6,IF(Output!O23<-Output!$H$6,0,Output!$H$6+Output!O23))","v":{"$error":"#N/A"}},{"$f":"VLOOKUP(Output!$G$9,lookup!$A$218:$Q$244,10,0)","v":{"$error":"#N/A"}},{"$error":"#N/A"},{"$f":"IF(Output!R23>0,Output!$H$6,IF(Output!R23<-Output!$H$6,0,Output!$H$6+Output!R23))","v":{"$error":"#N/A"}},{"$f":"VLOOKUP(Output!$G$9,lookup!$A$218:$Q$244,11,0)","v":{"$error":"#N/A"}},{"$error":"#N/A"},{"$f":"IF(Output!U23>0,Output!$H$6,IF(Output!U23<-Output!$H$6,0,Output!$H$6+Output!U23))","v":{"$error":"#N/A"}},{"$f":"VLOOKUP(Output!$G$9,lookup!$A$218:$Q$244,12,0)","v":{"$error":"#N/A"}},{"$error":"#N/A"},{"$f":"IF(Output!X23>0,Output!$H$6,IF(Output!X23<-Output!$H$6,0,Output!$H$6+Output!X23))","v":{"$error":"#N/A"}},{"$f":"VLOOKUP(Output!$G$9,lookup!$A$218:$Q$244,13,0)","v":{"$error":"#N/A"}},{"$error":"#N/A"},{"$f":"IF(Output!AA23>0,Output!$H$6,IF(Output!AA23<-Output!$H$6,0,Output!$H$6+Output!AA23))","v":{"$error":"#N/A"}},{"$f":"VLOOKUP(Output!$G$9,lookup!$A$218:$Q$244,15,0)","v":{"$error":"#N/A"}},0,{"$f":"IF(Output!$E$10=0,0,IF(Output!AD23>0,Output!$H$6,IF(Output!AD23<-Output!$H$6,0,Output!$H$6+Output!AD23)))","v":0},{"$f":"IF(Output!$E$11>0,0,VLOOKUP(Output!$G$9,lookup!$A$218:$Q$244,17,0))","v":{"$error":"#N/A"}}]
["Oct",{"$f":"VLOOKUP(Output!$G$9,lookup!$A$245:$Q$271,8,0)","v":{"$error":"#N/A"}},{"$error":"#N/A"},{"$f":"IF(Output!L24>0,Output!$H$6,IF(Output!L24<-Output!$H$6,0,Output!$H$6+Output!L24))","v":{"$error":"#N/A"}},{"$f":"VLOOKUP(Output!$G$9,lookup!$A$245:$Q$271,9,0)","v":{"$error":"#N/A"}},{"$error":"#N/A"},{"$f":"IF(Output!O24>0,Output!$H$6,IF(Output!O24<-Output!$H$6,0,Output!$H$6+Output!O24))","v":{"$error":"#N/A"}},{"$f":"VLOOKUP(Output!$G$9,lookup!$A$245:$Q$271,10,0)","v":{"$error":"#N/A"}},{"$error":"#N/A"},{"$f":"IF(Output!R24>0,Output!$H$6,IF(Output!R24<-Output!$H$6,0,Output!$H$6+Output!R24))","v":{"$error":"#N/A"}},{"$f":"VLOOKUP(Output!$G$9,lookup!$A$245:$Q$271,11,0)","v":{"$error":"#N/A"}},{"$error":"#N/A"},{"$f":"IF(Output!U24>0,Output!$H$6,IF(Output!U24<-Output!$H$6,0,Output!$H$6+Output!U24))","v":{"$error":"#N/A"}},{"$f":"VLOOKUP(Output!$G$9,lookup!$A$245:$Q$271,12,0)","v":{"$error":"#N/A"}},{"$error":"#N/A"},{"$f":"IF(Output!X24>0,Output!$H$6,IF(Output!X24<-Output!$H$6,0,Output!$H$6+Output!X24))","v":{"$error":"#N/A"}},{"$f":"VLOOKUP(Output!$G$9,lookup!$A$245:$Q$271,13,0)","v":{"$error":"#N/A"}},{"$error":"#N/A"},{"$f":"IF(Output!AA24>0,Output!$H$6,IF(Output!AA24<-Output!$H$6,0,Output!$H$6+Output!AA24))","v":{"$error":"#N/A"}},{"$f":"VLOOKUP(Output!$G$9,lookup!$A$245:$Q$271,15,0)","v":{"$error":"#N/A"}},0,{"$f":"IF(Output!$E$10=0,0,IF(Output!AD24>0,Output!$H$6,IF(Output!AD24<-Output!$H$6,0,Output!$H$6+Output!AD24)))","v":0},{"$f":"IF(Output!$E$11>0,0,VLOOKUP(Output!$G$9,lookup!$A$245:$Q$271,17,0))","v":{"$error":"#N/A"}}]
["Nov",{"$f":"VLOOKUP(Output!$G$9,lookup!$A$272:$Q$298,8,0)","v":{"$error":"#N/A"}},{"$error":"#N/A"},{"$f":"IF(Output!L25>0,Output!$H$6,IF(Output!L25<-Output!$H$6,0,Output!$H$6+Output!L25))","v":{"$error":"#N/A"}},{"$f":"VLOOKUP(Output!$G$9,lookup!$A$272:$Q$298,9,0)","v":{"$error":"#N/A"}},{"$error":"#N/A"},{"$f":"IF(Output!O25>0,Output!$H$6,IF(Output!O25<-Output!$H$6,0,Output!$H$6+Output!O25))","v":{"$error":"#N/A"}},{"$f":"VLOOKUP(Output!$G$9,lookup!$A$272:$Q$298,10,0)","v":{"$error":"#N/A"}},{"$error":"#N/A"},{"$f":"IF(Output!R25>0,Output!$H$6,IF(Output!R25<-Output!$H$6,0,Output!$H$6+Output!R25))","v":{"$error":"#N/A"}},{"$f":"VLOOKUP(Output!$G$9,lookup!$A$272:$Q$298,11,0)","v":{"$error":"#N/A"}},{"$error":"#N/A"},{"$f":"IF(Output!U25>0,Output!$H$6,IF(Output!U25<-Output!$H$6,0,Output!$H$6+Output!U25))","v":{"$error":"#N/A"}},{"$f":"VLOOKUP(Output!$G$9,lookup!$A$272:$Q$298,12,0)","v":{"$error":"#N/A"}},{"$error":"#N/A"},{"$f":"IF(Output!X25>0,Output!$H$6,IF(Output!X25<-Output!$H$6,0,Output!$H$6+Output!X25))","v":{"$error":"#N/A"}},{"$f":"VLOOKUP(Output!$G$9,lookup!$A$272:$Q$298,13,0)","v":{"$error":"#N/A"}},{"$error":"#N/A"},{"$f":"IF(Output!AA25>0,Output!$H$6,IF(Output!AA25<-Output!$H$6,0,Output!$H$6+Output!AA25))","v":{"$error":"#N/A"}},{"$f":"VLOOKUP(Output!$G$9,lookup!$A$272:$Q$298,15,0)","v":{"$error":"#N/A"}},0,{"$f":"IF(Output!$E$10=0,0,IF(Output!AD25>0,Output!$H$6,IF(Output!AD25<-Output!$H$6,0,Output!$H$6+Output!AD25)))","v":0},{"$f":"IF(Output!$E$11>0,0,VLOOKUP(Output!$G$9,lookup!$A$272:$Q$298,17,0))","v":{"$error":"#N/A"}}]
["Dec",{"$f":"VLOOKUP(Output!$G$9,lookup!$A$299:$Q$325,8,0)","v":{"$error":"#N/A"}},{"$error":"#N/A"},{"$f":"IF(Output!L26>0,Output!$H$6,IF(Output!L26<-Output!$H$6,0,Output!$H$6+Output!L26))","v":{"$error":"#N/A"}},{"$f":"VLOOKUP(Output!$G$9,lookup!$A$299:$Q$325,9,0)","v":{"$error":"#N/A"}},{"$error":"#N/A"},{"$f":"IF(Output!O26>0,Output!$H$6,IF(Output!O26<-Output!$H$6,0,Output!$H$6+Output!O26))","v":{"$error":"#N/A"}},{"$f":"VLOOKUP(Output!$G$9,lookup!$A$299:$Q$325,10,0)","v":{"$error":"#N/A"}},{"$error":"#N/A"},{"$f":"IF(Output!R26>0,Output!$H$6,IF(Output!R26<-Output!$H$6,0,Output!$H$6+Output!R26))","v":{"$error":"#N/A"}},{"$f":"VLOOKUP(Output!$G$9,lookup!$A$299:$Q$325,11,0)","v":{"$error":"#N/A"}},{"$error":"#N/A"},{"$f":"IF(Output!U26>0,Output!$H$6,IF(Output!U26<-Output!$H$6,0,Output!$H$6+Output!U26))","v":{"$error":"#N/A"}},{"$f":"VLOOKUP(Output!$G$9,lookup!$A$299:$Q$325,12,0)","v":{"$error":"#N/A"}},{"$error":"#N/A"},{"$f":"IF(Output!X26>0,Output!$H$6,IF(Output!X26<-Output!$H$6,0,Output!$H$6+Output!X26))","v":{"$error":"#N/A"}},{"$f":"VLOOKUP(Output!$G$9,lookup!$A$299:$Q$325,13,0)","v":{"$error":"#N/A"}},{"$error":"#N/A"},{"$f":"IF(Output!AA26>0,Output!$H$6,IF(Output!AA26<-Output!$H$6,0,Output!$H$6+Output!AA26))","v":{"$error":"#N/A"}},{"$f":"VLOOKUP(Output!$G$9,lookup!$A$299:$Q$325,15,0)","v":{"$error":"#N/A"}},0,{"$f":"IF(Output!$E$10=0,0,IF(Output!AD26>0,Output!$H$6,IF(Output!AD26<-Output!$H$6,0,Output!$H$6+Output!AD26)))","v":0},{"$f":"IF(Output!$E$11>0,0,VLOOKUP(Output!$G$9,lookup!$A$299:$Q$325,17,0))","v":{"$error":"#N/A"}}]